BEGIN:VCALENDAR
VERSION:2.0
PRODID:-//Taipaleen ortodoksinen seurakunta - ECPv6.15.20//NONSGML v1.0//EN
CALSCALE:GREGORIAN
METHOD:PUBLISH
X-WR-CALNAME:Taipaleen ortodoksinen seurakunta
X-ORIGINAL-URL:https://ort.fi/taipale
X-WR-CALDESC:Tapahtumat Taipaleen ortodoksinen seurakunta
REFRESH-INTERVAL;VALUE=DURATION:PT1H
X-Robots-Tag:noindex
X-PUBLISHED-TTL:PT1H
BEGIN:VTIMEZONE
TZID:Europe/Helsinki
BEGIN:DAYLIGHT
TZOFFSETFROM:+0200
TZOFFSETTO:+0300
TZNAME:EEST
DTSTART:20230326T010000
END:DAYLIGHT
BEGIN:STANDARD
TZOFFSETFROM:+0300
TZOFFSETTO:+0200
TZNAME:EET
DTSTART:20231029T010000
END:STANDARD
BEGIN:DAYLIGHT
TZOFFSETFROM:+0200
TZOFFSETTO:+0300
TZNAME:EEST
DTSTART:20240331T010000
END:DAYLIGHT
BEGIN:STANDARD
TZOFFSETFROM:+0300
TZOFFSETTO:+0200
TZNAME:EET
DTSTART:20241027T010000
END:STANDARD
BEGIN:DAYLIGHT
TZOFFSETFROM:+0200
TZOFFSETTO:+0300
TZNAME:EEST
DTSTART:20250330T010000
END:DAYLIGHT
BEGIN:STANDARD
TZOFFSETFROM:+0300
TZOFFSETTO:+0200
TZNAME:EET
DTSTART:20251026T010000
END:STANDARD
END:VTIMEZONE
BEGIN:VEVENT
DTSTART;TZID=Europe/Helsinki:20240312T180000
DTEND;TZID=Europe/Helsinki:20240312T200000
DTSTAMP:20260423T001808
CREATED:20240225T182903Z
LAST-MODIFIED:20240225T182903Z
UID:24789-1710266400-1710273600@ort.fi
SUMMARY:Outokummun tiistaiseura
DESCRIPTION:Tiistaina 12.3. klo 18 Outokummun tiistaiseura kirkon alakerrassa\, virpovitsojen askartelu. \nTervetuloa! \nMuut kevään 2024 kokoontumiset Tiistaiseurat -sivulla\n   
URL:https://ort.fi/taipale/tapahtuma/outokummun-tiistaiseura-48/
LOCATION:Kirkkopolku 3\, Outokummun Pyhän Hengen kirkko\, Outokumpu\, 83500
END:VEVENT
BEGIN:VEVENT
DTSTART;TZID=Europe/Helsinki:20240313T170000
DTEND;TZID=Europe/Helsinki:20240313T170000
DTSTAMP:20260423T001808
CREATED:20240222T181446Z
LAST-MODIFIED:20240229T135842Z
UID:24749-1710349200-1710349200@ort.fi
SUMMARY:Ylämyllyn Tiistaiseuran vuosikokous
DESCRIPTION:Keskiviikkona 13.3. klo 17 Ylämyllyn Tiistaiseuran vuosikokous Tschokkisilla\, Nuottaniementie 3\, Ylämylly. Mukana isä Paavo Ratilainen. \nTervetuloa!\n   
URL:https://ort.fi/taipale/tapahtuma/ylamyllyn-tiistaiseuran-vuosikokous-6/
END:VEVENT
END:VCALENDAR