BEGIN:VCALENDAR
VERSION:2.0
PRODID:-//Taipaleen ortodoksinen seurakunta - ECPv6.15.20//NONSGML v1.0//EN
CALSCALE:GREGORIAN
METHOD:PUBLISH
X-ORIGINAL-URL:https://ort.fi/taipale
X-WR-CALDESC:Tapahtumat Taipaleen ortodoksinen seurakunta
REFRESH-INTERVAL;VALUE=DURATION:PT1H
X-Robots-Tag:noindex
X-PUBLISHED-TTL:PT1H
BEGIN:VTIMEZONE
TZID:Europe/Helsinki
BEGIN:DAYLIGHT
TZOFFSETFROM:+0200
TZOFFSETTO:+0300
TZNAME:EEST
DTSTART:20220327T010000
END:DAYLIGHT
BEGIN:STANDARD
TZOFFSETFROM:+0300
TZOFFSETTO:+0200
TZNAME:EET
DTSTART:20221030T010000
END:STANDARD
BEGIN:DAYLIGHT
TZOFFSETFROM:+0200
TZOFFSETTO:+0300
TZNAME:EEST
DTSTART:20230326T010000
END:DAYLIGHT
BEGIN:STANDARD
TZOFFSETFROM:+0300
TZOFFSETTO:+0200
TZNAME:EET
DTSTART:20231029T010000
END:STANDARD
BEGIN:DAYLIGHT
TZOFFSETFROM:+0200
TZOFFSETTO:+0300
TZNAME:EEST
DTSTART:20240331T010000
END:DAYLIGHT
BEGIN:STANDARD
TZOFFSETFROM:+0300
TZOFFSETTO:+0200
TZNAME:EET
DTSTART:20241027T010000
END:STANDARD
END:VTIMEZONE
BEGIN:VEVENT
DTSTART;TZID=Europe/Helsinki:20231010T180000
DTEND;TZID=Europe/Helsinki:20231010T200000
DTSTAMP:20260423T090737
CREATED:20230920T163842Z
LAST-MODIFIED:20231001T171539Z
UID:23023-1696960800-1696968000@ort.fi
SUMMARY:Outokummun tiistaiseura
DESCRIPTION:Tiistaina 10.10. klo 18 Outokummun tiistaiseura kirkon alakerrassa. \nTervetuloa! \nTiistaiseurat -sivulle\n   
URL:https://ort.fi/taipale/tapahtuma/outokummun-tiistaiseura-41/
LOCATION:Kirkkopolku 3\, Outokummun Pyhän Hengen kirkko\, Outokumpu\, 83500
END:VEVENT
BEGIN:VEVENT
DTSTART;TZID=Europe/Helsinki:20231023T143000
DTEND;TZID=Europe/Helsinki:20231023T143000
DTSTAMP:20260423T090737
CREATED:20231016T131236Z
LAST-MODIFIED:20231016T131236Z
UID:23203-1698071400-1698071400@ort.fi
SUMMARY:Polvijärven tiistaiseura
DESCRIPTION:Maanantaina 23.10. klo 14.30 Polvijärven tiistaiseura Koivikon pirtissä\, mukana isä Tuomas ja kanttori Päivi. \nTervetuloa! \nTiistaiseurat sivulle\n   
URL:https://ort.fi/taipale/tapahtuma/polvijarven-tiistaiseura-24/
END:VEVENT
BEGIN:VEVENT
DTSTART;TZID=Europe/Helsinki:20231024T120000
DTEND;TZID=Europe/Helsinki:20231024T120000
DTSTAMP:20260423T090737
CREATED:20231016T131722Z
LAST-MODIFIED:20231016T131722Z
UID:23207-1698148800-1698148800@ort.fi
SUMMARY:Sotkuman tiistaiseura
DESCRIPTION:Tiistaina 24.10. klo 12 Sotkuman tiistaiseura Aarre Saukkosen luona\, Solantie 37. Mukana isä Tuomas ja kanttori Päivi. \nTervetuloa! \nTiistaiseurat sivulle\n   
URL:https://ort.fi/taipale/tapahtuma/sotkuman-tiistaiseura-6/
END:VEVENT
BEGIN:VEVENT
DTSTART;TZID=Europe/Helsinki:20231026T170000
DTEND;TZID=Europe/Helsinki:20231026T170000
DTSTAMP:20260423T090737
CREATED:20231016T133035Z
LAST-MODIFIED:20231016T150232Z
UID:23217-1698339600-1698339600@ort.fi
SUMMARY:Isä Nemanjan luento Serbian kirkosta
DESCRIPTION:Torstaina 26.10. klo 17 Viinijärven pappilassa kaikille avoin isä Nemanjan luento Serbian kirkosta sekä kuulumisia Montenegrosta. \nTeetarjoilu. Tervetuloa! \nJärjestäjinä Ylämyllyn ja Liperin tiistaiseurat\n   
URL:https://ort.fi/taipale/tapahtuma/isa-nemanjan-luento-serbian-kirkosta/
LOCATION:Viinijärven Vanha pappila\, Viinijärventie 7\, 83400
END:VEVENT
BEGIN:VEVENT
DTSTART;TZID=Europe/Helsinki:20231031T180000
DTEND;TZID=Europe/Helsinki:20231031T200000
DTSTAMP:20260423T090737
CREATED:20230920T164704Z
LAST-MODIFIED:20231022T170837Z
UID:23027-1698775200-1698782400@ort.fi
SUMMARY:Outokummun tiistaiseura
DESCRIPTION:Tiistaina 31.10. klo 18 Outokummun tiistaiseura kirkon alakerrassa\, mukana kanttori Päivi. \nTervetuloa! \nTiistaiseurat -sivulle\n   
URL:https://ort.fi/taipale/tapahtuma/outokummun-tiistaiseura-42/
LOCATION:Kirkkopolku 3\, Outokummun Pyhän Hengen kirkko\, Outokumpu\, 83500
END:VEVENT
END:VCALENDAR