BEGIN:VCALENDAR
VERSION:2.0
PRODID:-//Taipaleen ortodoksinen seurakunta - ECPv6.15.20//NONSGML v1.0//EN
CALSCALE:GREGORIAN
METHOD:PUBLISH
X-ORIGINAL-URL:https://ort.fi/taipale
X-WR-CALDESC:Tapahtumat Taipaleen ortodoksinen seurakunta
REFRESH-INTERVAL;VALUE=DURATION:PT1H
X-Robots-Tag:noindex
X-PUBLISHED-TTL:PT1H
BEGIN:VTIMEZONE
TZID:Europe/Helsinki
BEGIN:DAYLIGHT
TZOFFSETFROM:+0200
TZOFFSETTO:+0300
TZNAME:EEST
DTSTART:20220327T010000
END:DAYLIGHT
BEGIN:STANDARD
TZOFFSETFROM:+0300
TZOFFSETTO:+0200
TZNAME:EET
DTSTART:20221030T010000
END:STANDARD
BEGIN:DAYLIGHT
TZOFFSETFROM:+0200
TZOFFSETTO:+0300
TZNAME:EEST
DTSTART:20230326T010000
END:DAYLIGHT
BEGIN:STANDARD
TZOFFSETFROM:+0300
TZOFFSETTO:+0200
TZNAME:EET
DTSTART:20231029T010000
END:STANDARD
BEGIN:DAYLIGHT
TZOFFSETFROM:+0200
TZOFFSETTO:+0300
TZNAME:EEST
DTSTART:20240331T010000
END:DAYLIGHT
BEGIN:STANDARD
TZOFFSETFROM:+0300
TZOFFSETTO:+0200
TZNAME:EET
DTSTART:20241027T010000
END:STANDARD
END:VTIMEZONE
BEGIN:VEVENT
DTSTART;TZID=Europe/Helsinki:20230307T180000
DTEND;TZID=Europe/Helsinki:20230307T200000
DTSTAMP:20260423T211146
CREATED:20230202T090856Z
LAST-MODIFIED:20230228T195726Z
UID:20255-1678212000-1678219200@ort.fi
SUMMARY:Outokummun tiistaiseura
DESCRIPTION:Tiistaina 7.3. klo 18 Outokummun tiistaiseura kirkon alakerrassa\, mukana isä Paavo. \nTervetuloa! \nKevään 2023 muut kokoontumiset Tiistaiseurat sivulla.\n   
URL:https://ort.fi/taipale/tapahtuma/outokummun-tiistaiseura-36/
LOCATION:Kirkkopolku 3\, Outokummun Pyhän Hengen kirkko\, Outokumpu\, 83500
END:VEVENT
BEGIN:VEVENT
DTSTART;TZID=Europe/Helsinki:20230322T120000
DTEND;TZID=Europe/Helsinki:20230322T140000
DTSTAMP:20260423T211146
CREATED:20230313T140522Z
LAST-MODIFIED:20230313T140522Z
UID:20999-1679486400-1679493600@ort.fi
SUMMARY:Polvijärven tiistaiseuran vuosikokous
DESCRIPTION:Keskiviikkona 22.3. klo 12 Polvijärven tiistaiseuran vuosikokous Ritva Jyrkisen luona. \nTervetuloa!\n   
URL:https://ort.fi/taipale/tapahtuma/polvijarven-tiistaiseuran-vuosikokous-4/
END:VEVENT
BEGIN:VEVENT
DTSTART;TZID=Europe/Helsinki:20230328T180000
DTEND;TZID=Europe/Helsinki:20230328T200000
DTSTAMP:20260423T211147
CREATED:20230202T091116Z
LAST-MODIFIED:20230320T160815Z
UID:20259-1680026400-1680033600@ort.fi
SUMMARY:Outokummun tiistaiseura
DESCRIPTION:Tiistaina 28.3. klo 18 Outokummun tiistaiseura kirkon alakerrassa. \nTervetuloa! \nKevään 2023 muut kokoontumiset Tiistaiseurat sivulla.\n   
URL:https://ort.fi/taipale/tapahtuma/outokummun-tiistaiseura-37/
LOCATION:Kirkkopolku 3\, Outokummun Pyhän Hengen kirkko\, Outokumpu\, 83500
END:VEVENT
END:VCALENDAR