BEGIN:VCALENDAR
VERSION:2.0
PRODID:-//Taipaleen ortodoksinen seurakunta - ECPv6.15.20//NONSGML v1.0//EN
CALSCALE:GREGORIAN
METHOD:PUBLISH
X-WR-CALNAME:Taipaleen ortodoksinen seurakunta
X-ORIGINAL-URL:https://ort.fi/taipale
X-WR-CALDESC:Tapahtumat Taipaleen ortodoksinen seurakunta
REFRESH-INTERVAL;VALUE=DURATION:PT1H
X-Robots-Tag:noindex
X-PUBLISHED-TTL:PT1H
BEGIN:VTIMEZONE
TZID:Europe/Helsinki
BEGIN:DAYLIGHT
TZOFFSETFROM:+0200
TZOFFSETTO:+0300
TZNAME:EEST
DTSTART:20220327T010000
END:DAYLIGHT
BEGIN:STANDARD
TZOFFSETFROM:+0300
TZOFFSETTO:+0200
TZNAME:EET
DTSTART:20221030T010000
END:STANDARD
BEGIN:DAYLIGHT
TZOFFSETFROM:+0200
TZOFFSETTO:+0300
TZNAME:EEST
DTSTART:20230326T010000
END:DAYLIGHT
BEGIN:STANDARD
TZOFFSETFROM:+0300
TZOFFSETTO:+0200
TZNAME:EET
DTSTART:20231029T010000
END:STANDARD
BEGIN:DAYLIGHT
TZOFFSETFROM:+0200
TZOFFSETTO:+0300
TZNAME:EEST
DTSTART:20240331T010000
END:DAYLIGHT
BEGIN:STANDARD
TZOFFSETFROM:+0300
TZOFFSETTO:+0200
TZNAME:EET
DTSTART:20241027T010000
END:STANDARD
END:VTIMEZONE
BEGIN:VEVENT
DTSTART;TZID=Europe/Helsinki:20230215T160000
DTEND;TZID=Europe/Helsinki:20230215T180000
DTSTAMP:20260423T225802
CREATED:20230123T193747Z
LAST-MODIFIED:20230130T120937Z
UID:20171-1676476800-1676484000@ort.fi
SUMMARY:Ylämyllyn tiistaiseuran vuosikokous
DESCRIPTION:Keskiviikkona 15.2. klo 16 Ylämyllyn Tiistaiseuran vuosikokous Ylämyllyn Shellin kabinetissa\, mukana isä Paavo. \nTervetuloa.\n   
URL:https://ort.fi/taipale/tapahtuma/ylamyllyn-tiistaiseuran-vuosikokous-5/
LOCATION:Ylämyllyntie 77\, Shell Liperi Ylämylly\, Ylämylly\, 80400
END:VEVENT
BEGIN:VEVENT
DTSTART;TZID=Europe/Helsinki:20230215T180000
DTEND;TZID=Europe/Helsinki:20230215T200000
DTSTAMP:20260423T225802
CREATED:20230202T085219Z
LAST-MODIFIED:20230206T091337Z
UID:20249-1676484000-1676491200@ort.fi
SUMMARY:Outokummun tiistaiseuran vuosikokous
DESCRIPTION:Keskiviikkona 15.2. klo 18 Outokummun tiistaiseuran vuosikokous kirkon alakerrassa\, mukana isä Nemanja. \nTervetuloa! \nKevään 2023 muut kokoontumiset Tiistaiseurat sivulla\n   
URL:https://ort.fi/taipale/tapahtuma/outokummun-tiistaiseuran-vuosikokous-4/
LOCATION:Kirkkopolku 3\, Outokummun Pyhän Hengen kirkko\, Outokumpu\, 83500
END:VEVENT
BEGIN:VEVENT
DTSTART;TZID=Europe/Helsinki:20230223T150000
DTEND;TZID=Europe/Helsinki:20230223T170000
DTSTAMP:20260423T225802
CREATED:20230209T091046Z
LAST-MODIFIED:20230209T091046Z
UID:20425-1677164400-1677171600@ort.fi
SUMMARY:Liperin tiistaiseuran vuosikokous
DESCRIPTION:Torstaina 23.2. klo 15 Liperin tiistaiseuran vuosikokous Hannu Mutasella. \nTervetuloa!\n   
URL:https://ort.fi/taipale/tapahtuma/liperin-tiistaiseuran-vuosikokous-3/
END:VEVENT
END:VCALENDAR