BEGIN:VCALENDAR
VERSION:2.0
PRODID:-//Taipaleen ortodoksinen seurakunta - ECPv6.15.20//NONSGML v1.0//EN
CALSCALE:GREGORIAN
METHOD:PUBLISH
X-WR-CALNAME:Taipaleen ortodoksinen seurakunta
X-ORIGINAL-URL:https://ort.fi/taipale
X-WR-CALDESC:Tapahtumat Taipaleen ortodoksinen seurakunta
REFRESH-INTERVAL;VALUE=DURATION:PT1H
X-Robots-Tag:noindex
X-PUBLISHED-TTL:PT1H
BEGIN:VTIMEZONE
TZID:Europe/Helsinki
BEGIN:DAYLIGHT
TZOFFSETFROM:+0200
TZOFFSETTO:+0300
TZNAME:EEST
DTSTART:20210328T010000
END:DAYLIGHT
BEGIN:STANDARD
TZOFFSETFROM:+0300
TZOFFSETTO:+0200
TZNAME:EET
DTSTART:20211031T010000
END:STANDARD
BEGIN:DAYLIGHT
TZOFFSETFROM:+0200
TZOFFSETTO:+0300
TZNAME:EEST
DTSTART:20220327T010000
END:DAYLIGHT
BEGIN:STANDARD
TZOFFSETFROM:+0300
TZOFFSETTO:+0200
TZNAME:EET
DTSTART:20221030T010000
END:STANDARD
BEGIN:DAYLIGHT
TZOFFSETFROM:+0200
TZOFFSETTO:+0300
TZNAME:EEST
DTSTART:20230326T010000
END:DAYLIGHT
BEGIN:STANDARD
TZOFFSETFROM:+0300
TZOFFSETTO:+0200
TZNAME:EET
DTSTART:20231029T010000
END:STANDARD
END:VTIMEZONE
BEGIN:VEVENT
DTSTART;TZID=Europe/Helsinki:20221011T180000
DTEND;TZID=Europe/Helsinki:20221011T200000
DTSTAMP:20260424T063035
CREATED:20220902T175714Z
LAST-MODIFIED:20221002T165128Z
UID:18401-1665511200-1665518400@ort.fi
SUMMARY:Outokummun tiistaiseura
DESCRIPTION:Tiistaina 11.10. klo 18 Outokummun tiistaiseura kirkon alakerrassa. \nTervetuloa! \nSyyskauden muut kokoontumiset Tiistaiseurat sivulla\n   
URL:https://ort.fi/taipale/tapahtuma/outokummun-tiistaiseura-32/
LOCATION:Kirkkopolku 3\, Outokummun Pyhän Hengen kirkko\, Outokumpu\, 83500
END:VEVENT
BEGIN:VEVENT
DTSTART;TZID=Europe/Helsinki:20221025T163000
DTEND;TZID=Europe/Helsinki:20221025T183000
DTSTAMP:20260424T063035
CREATED:20221017T132157Z
LAST-MODIFIED:20221017T151626Z
UID:18961-1666715400-1666722600@ort.fi
SUMMARY:Ylämyllyn ja Liperin tiistaiseurat
DESCRIPTION:Tiistaina 25.10. klo 16.30 Ylämyllyn ja Liperin tiistaiseurojen yhteinen ilta Vanhassa pappilassa\, vieraana diakoni Harri Ahponen. Keskustelu aiheesta diakonius. \nTeetarjoilu. Tervetuloa! \nYhteyshenkilö Kaija Kareinen puh. 050 363 3783\n   
URL:https://ort.fi/taipale/tapahtuma/ylamyllyn-ja-liperin-tiistaiseurat/
LOCATION:Viinijärven Vanha pappila\, Viinijärventie 7\, 83400
END:VEVENT
BEGIN:VEVENT
DTSTART;TZID=Europe/Helsinki:20221026T130000
DTEND;TZID=Europe/Helsinki:20221026T150000
DTSTAMP:20260424T063035
CREATED:20221017T134220Z
LAST-MODIFIED:20221017T151649Z
UID:18973-1666789200-1666796400@ort.fi
SUMMARY:Polvijärven tiistaiseura
DESCRIPTION:Keskiviikkona 26.10. klo 13 Polvijärven tiistaiseura Koivikon Pirtissä\, vieraana isä Paavo. \nTervetuloa!\n   
URL:https://ort.fi/taipale/tapahtuma/polvijarven-tiistaiseura-18/
END:VEVENT
END:VCALENDAR