BEGIN:VCALENDAR
VERSION:2.0
PRODID:-//Taipaleen ortodoksinen seurakunta - ECPv6.15.20//NONSGML v1.0//EN
CALSCALE:GREGORIAN
METHOD:PUBLISH
X-ORIGINAL-URL:https://ort.fi/taipale
X-WR-CALDESC:Tapahtumat Taipaleen ortodoksinen seurakunta
REFRESH-INTERVAL;VALUE=DURATION:PT1H
X-Robots-Tag:noindex
X-PUBLISHED-TTL:PT1H
BEGIN:VTIMEZONE
TZID:Europe/Helsinki
BEGIN:DAYLIGHT
TZOFFSETFROM:+0200
TZOFFSETTO:+0300
TZNAME:EEST
DTSTART:20210328T010000
END:DAYLIGHT
BEGIN:STANDARD
TZOFFSETFROM:+0300
TZOFFSETTO:+0200
TZNAME:EET
DTSTART:20211031T010000
END:STANDARD
BEGIN:DAYLIGHT
TZOFFSETFROM:+0200
TZOFFSETTO:+0300
TZNAME:EEST
DTSTART:20220327T010000
END:DAYLIGHT
BEGIN:STANDARD
TZOFFSETFROM:+0300
TZOFFSETTO:+0200
TZNAME:EET
DTSTART:20221030T010000
END:STANDARD
BEGIN:DAYLIGHT
TZOFFSETFROM:+0200
TZOFFSETTO:+0300
TZNAME:EEST
DTSTART:20230326T010000
END:DAYLIGHT
BEGIN:STANDARD
TZOFFSETFROM:+0300
TZOFFSETTO:+0200
TZNAME:EET
DTSTART:20231029T010000
END:STANDARD
END:VTIMEZONE
BEGIN:VEVENT
DTSTART;TZID=Europe/Helsinki:20220920T180000
DTEND;TZID=Europe/Helsinki:20220920T200000
DTSTAMP:20260424T081344
CREATED:20220902T175537Z
LAST-MODIFIED:20220912T153821Z
UID:18397-1663696800-1663704000@ort.fi
SUMMARY:Outokummun tiistaiseura
DESCRIPTION:Tiistaina 20.9. klo 18 Outokummun tiistaiseura kirkon alakerrassa. \nTervetuloa! \nSyyskauden muut kokoontumiset Tiistaiseurat sivulla\n   
URL:https://ort.fi/taipale/tapahtuma/outokummun-tiistaiseura-31/
LOCATION:Kirkkopolku 3\, Outokummun Pyhän Hengen kirkko\, Outokumpu\, 83500
END:VEVENT
BEGIN:VEVENT
DTSTART;TZID=Europe/Helsinki:20220928T130000
DTEND;TZID=Europe/Helsinki:20220928T150000
DTSTAMP:20260424T081344
CREATED:20220919T145428Z
LAST-MODIFIED:20220927T174427Z
UID:18709-1664370000-1664377200@ort.fi
SUMMARY:Polvijärven tiistaiseura
DESCRIPTION:Keskiviikkona 28.9. klo 13 Polvijärven tiistaiseura Koivikon pirtissä. \nTervetuloa!\n   
URL:https://ort.fi/taipale/tapahtuma/polvijarven-tiistaiseura-17/
END:VEVENT
END:VCALENDAR