BEGIN:VCALENDAR
VERSION:2.0
PRODID:-//Taipaleen ortodoksinen seurakunta - ECPv6.15.20//NONSGML v1.0//EN
CALSCALE:GREGORIAN
METHOD:PUBLISH
X-ORIGINAL-URL:https://ort.fi/taipale
X-WR-CALDESC:Tapahtumat Taipaleen ortodoksinen seurakunta
REFRESH-INTERVAL;VALUE=DURATION:PT1H
X-Robots-Tag:noindex
X-PUBLISHED-TTL:PT1H
BEGIN:VTIMEZONE
TZID:Europe/Helsinki
BEGIN:DAYLIGHT
TZOFFSETFROM:+0200
TZOFFSETTO:+0300
TZNAME:EEST
DTSTART:20210328T010000
END:DAYLIGHT
BEGIN:STANDARD
TZOFFSETFROM:+0300
TZOFFSETTO:+0200
TZNAME:EET
DTSTART:20211031T010000
END:STANDARD
BEGIN:DAYLIGHT
TZOFFSETFROM:+0200
TZOFFSETTO:+0300
TZNAME:EEST
DTSTART:20220327T010000
END:DAYLIGHT
BEGIN:STANDARD
TZOFFSETFROM:+0300
TZOFFSETTO:+0200
TZNAME:EET
DTSTART:20221030T010000
END:STANDARD
BEGIN:DAYLIGHT
TZOFFSETFROM:+0200
TZOFFSETTO:+0300
TZNAME:EEST
DTSTART:20230326T010000
END:DAYLIGHT
BEGIN:STANDARD
TZOFFSETFROM:+0300
TZOFFSETTO:+0200
TZNAME:EET
DTSTART:20231029T010000
END:STANDARD
END:VTIMEZONE
BEGIN:VEVENT
DTSTART;VALUE=DATE:20220606
DTEND;VALUE=DATE:20220607
DTSTAMP:20260424T134137
CREATED:20220517T165807Z
LAST-MODIFIED:20220517T165807Z
UID:17561-1654473600-1654559999@ort.fi
SUMMARY:Outokummun tiistaiseuran 70 v. juhla
DESCRIPTION:Outokummun tiistaiseura täytti 70 vuotta huhtikuussa 2021. Tiistaiseuran 70 v. juhla vietetään pyhäkön praasniekan yhteydessä Pyhän Hengen päivänä maanantaina 6.6.2022. Juhlaohjelmaksi on pientä muistelua menneiltä ajoilta ruokailun ja kahvinjuonnin ohessa. \nLämpimästi tervetuloa!\n   
URL:https://ort.fi/taipale/tapahtuma/outokummun-tiistaiseuran-70-v-juhla/
LOCATION:Kirkkopolku 3\, Outokummun Pyhän Hengen kirkko\, Outokumpu\, 83500
END:VEVENT
END:VCALENDAR