BEGIN:VCALENDAR
VERSION:2.0
PRODID:-//Taipaleen ortodoksinen seurakunta - ECPv6.15.20//NONSGML v1.0//EN
CALSCALE:GREGORIAN
METHOD:PUBLISH
X-WR-CALNAME:Taipaleen ortodoksinen seurakunta
X-ORIGINAL-URL:https://ort.fi/taipale
X-WR-CALDESC:Tapahtumat Taipaleen ortodoksinen seurakunta
REFRESH-INTERVAL;VALUE=DURATION:PT1H
X-Robots-Tag:noindex
X-PUBLISHED-TTL:PT1H
BEGIN:VTIMEZONE
TZID:Europe/Helsinki
BEGIN:DAYLIGHT
TZOFFSETFROM:+0200
TZOFFSETTO:+0300
TZNAME:EEST
DTSTART:20210328T010000
END:DAYLIGHT
BEGIN:STANDARD
TZOFFSETFROM:+0300
TZOFFSETTO:+0200
TZNAME:EET
DTSTART:20211031T010000
END:STANDARD
BEGIN:DAYLIGHT
TZOFFSETFROM:+0200
TZOFFSETTO:+0300
TZNAME:EEST
DTSTART:20220327T010000
END:DAYLIGHT
BEGIN:STANDARD
TZOFFSETFROM:+0300
TZOFFSETTO:+0200
TZNAME:EET
DTSTART:20221030T010000
END:STANDARD
BEGIN:DAYLIGHT
TZOFFSETFROM:+0200
TZOFFSETTO:+0300
TZNAME:EEST
DTSTART:20230326T010000
END:DAYLIGHT
BEGIN:STANDARD
TZOFFSETFROM:+0300
TZOFFSETTO:+0200
TZNAME:EET
DTSTART:20231029T010000
END:STANDARD
END:VTIMEZONE
BEGIN:VEVENT
DTSTART;VALUE=DATE:20220405
DTEND;VALUE=DATE:20220406
DTSTAMP:20260424T172811
CREATED:20220328T141427Z
LAST-MODIFIED:20220328T141427Z
UID:16875-1649116800-1649203199@ort.fi
SUMMARY:Liperin tiistaiseura
DESCRIPTION:Tiistaina 5.4. klo 13 Liperin tiistaiseura Eija Ratilaisen luona\, virpovitsojen tekotalkoot. \nTervetuloa! \nTiistaiseurat -sivulle \n   
URL:https://ort.fi/taipale/tapahtuma/liperin-tiistaiseura-5/
END:VEVENT
BEGIN:VEVENT
DTSTART;VALUE=DATE:20220407
DTEND;VALUE=DATE:20220408
DTSTAMP:20260424T172811
CREATED:20220206T204128Z
LAST-MODIFIED:20220328T141513Z
UID:16213-1649289600-1649375999@ort.fi
SUMMARY:Outokummun tiistaiseura
DESCRIPTION:Torstaina 7.4. klo 18 Outokummun tiistaiseura kirkon alakerrassa. Virpovitsojen teko. \nTervetuloa! \nKevätkauden muut kokoontumiset Tiistaiseurat sivulla\n   
URL:https://ort.fi/taipale/tapahtuma/outokummun-tiistaiseura-28/
LOCATION:Kirkkopolku 3\, Outokummun Pyhän Hengen kirkko\, Outokumpu\, 83500
END:VEVENT
BEGIN:VEVENT
DTSTART;VALUE=DATE:20220428
DTEND;VALUE=DATE:20220429
DTSTAMP:20260424T172811
CREATED:20220206T204252Z
LAST-MODIFIED:20220418T185116Z
UID:16217-1651104000-1651190399@ort.fi
SUMMARY:Outokummun tiistaiseura
DESCRIPTION:Torstaina 28.4. klo 18 Outokummun tiistaiseura kirkon alakerrassa. \nTervetuloa! \nKevätkauden muut kokoontumiset Tiistaiseurat sivulla\n   
URL:https://ort.fi/taipale/tapahtuma/outokummun-tiistaiseura-29/
LOCATION:Kirkkopolku 3\, Outokummun Pyhän Hengen kirkko\, Outokumpu\, 83500
END:VEVENT
END:VCALENDAR