BEGIN:VCALENDAR
VERSION:2.0
PRODID:-//Taipaleen ortodoksinen seurakunta - ECPv6.15.20//NONSGML v1.0//EN
CALSCALE:GREGORIAN
METHOD:PUBLISH
X-ORIGINAL-URL:https://ort.fi/taipale
X-WR-CALDESC:Tapahtumat Taipaleen ortodoksinen seurakunta
REFRESH-INTERVAL;VALUE=DURATION:PT1H
X-Robots-Tag:noindex
X-PUBLISHED-TTL:PT1H
BEGIN:VTIMEZONE
TZID:Europe/Helsinki
BEGIN:DAYLIGHT
TZOFFSETFROM:+0200
TZOFFSETTO:+0300
TZNAME:EEST
DTSTART:20200329T010000
END:DAYLIGHT
BEGIN:STANDARD
TZOFFSETFROM:+0300
TZOFFSETTO:+0200
TZNAME:EET
DTSTART:20201025T010000
END:STANDARD
BEGIN:DAYLIGHT
TZOFFSETFROM:+0200
TZOFFSETTO:+0300
TZNAME:EEST
DTSTART:20210328T010000
END:DAYLIGHT
BEGIN:STANDARD
TZOFFSETFROM:+0300
TZOFFSETTO:+0200
TZNAME:EET
DTSTART:20211031T010000
END:STANDARD
BEGIN:DAYLIGHT
TZOFFSETFROM:+0200
TZOFFSETTO:+0300
TZNAME:EEST
DTSTART:20220327T010000
END:DAYLIGHT
BEGIN:STANDARD
TZOFFSETFROM:+0300
TZOFFSETTO:+0200
TZNAME:EET
DTSTART:20221030T010000
END:STANDARD
END:VTIMEZONE
BEGIN:VEVENT
DTSTART;VALUE=DATE:20211007
DTEND;VALUE=DATE:20211008
DTSTAMP:20260425T042423
CREATED:20210822T180413Z
LAST-MODIFIED:20210920T160349Z
UID:14615-1633564800-1633651199@ort.fi
SUMMARY:Outokummun tiistaiseura
DESCRIPTION:Torstaina 7.10. klo 18 Outokummun tiistaiseura kirkon alakerrassa. Kaisu kanttori vierailee. \nTervetuloa! \nSyyskauden 2021 muut kokoontumiset Tiistaiseurat -sivulla\n   
URL:https://ort.fi/taipale/tapahtuma/outokummun-tiistaiseura-22/
LOCATION:Kirkkopolku 3\, Outokummun Pyhän Hengen kirkko\, Outokumpu\, 83500
END:VEVENT
BEGIN:VEVENT
DTSTART;VALUE=DATE:20211012
DTEND;VALUE=DATE:20211013
DTSTAMP:20260425T042423
CREATED:20211004T133211Z
LAST-MODIFIED:20211004T133211Z
UID:14907-1633996800-1634083199@ort.fi
SUMMARY:Polvijärven tiistaiseura
DESCRIPTION:Tiistaina 12.10. klo 13 Polvijärven tiistaiseura Koivikon Pirtillä. \nTervetuloa!\n   
URL:https://ort.fi/taipale/tapahtuma/polvijarven-tiistaiseura-14/
END:VEVENT
BEGIN:VEVENT
DTSTART;VALUE=DATE:20211012
DTEND;VALUE=DATE:20211013
DTSTAMP:20260425T042423
CREATED:20211004T134652Z
LAST-MODIFIED:20211004T145717Z
UID:14915-1633996800-1634083199@ort.fi
SUMMARY:Ylämyllyn tiistaiseura
DESCRIPTION:Tiistaina 12.10. klo 17 Ylämyllyn tiistaiseura\, maallikkoresitatiivi -lukuharjoitusta\, kanttori Kaisu. \nTervetuloa!\n   
URL:https://ort.fi/taipale/tapahtuma/ylamyllyn-tiistaiseura-2/
END:VEVENT
BEGIN:VEVENT
DTSTART;VALUE=DATE:20211028
DTEND;VALUE=DATE:20211029
DTSTAMP:20260425T042423
CREATED:20211014T133754Z
LAST-MODIFIED:20211014T133711Z
UID:14619-1635379200-1635465599@ort.fi
SUMMARY:Outokummun tiistaiseura
DESCRIPTION:Torstaina 28.10. klo 18 Outokummun tiistaiseura kirkon alakerrassa. \nTervetuloa! \nSyyskauden 2021 muut kokoontumiset Tiistaiseurat -sivulla\n   
URL:https://ort.fi/taipale/tapahtuma/outokummun-tiistaiseura-23/
LOCATION:Kirkkopolku 3\, Outokummun Pyhän Hengen kirkko\, Outokumpu\, 83500
END:VEVENT
END:VCALENDAR