BEGIN:VCALENDAR
VERSION:2.0
PRODID:-//Taipaleen ortodoksinen seurakunta - ECPv6.15.20//NONSGML v1.0//EN
CALSCALE:GREGORIAN
METHOD:PUBLISH
X-WR-CALNAME:Taipaleen ortodoksinen seurakunta
X-ORIGINAL-URL:https://ort.fi/taipale
X-WR-CALDESC:Tapahtumat Taipaleen ortodoksinen seurakunta
REFRESH-INTERVAL;VALUE=DURATION:PT1H
X-Robots-Tag:noindex
X-PUBLISHED-TTL:PT1H
BEGIN:VTIMEZONE
TZID:Europe/Helsinki
BEGIN:DAYLIGHT
TZOFFSETFROM:+0200
TZOFFSETTO:+0300
TZNAME:EEST
DTSTART:20200329T010000
END:DAYLIGHT
BEGIN:STANDARD
TZOFFSETFROM:+0300
TZOFFSETTO:+0200
TZNAME:EET
DTSTART:20201025T010000
END:STANDARD
BEGIN:DAYLIGHT
TZOFFSETFROM:+0200
TZOFFSETTO:+0300
TZNAME:EEST
DTSTART:20210328T010000
END:DAYLIGHT
BEGIN:STANDARD
TZOFFSETFROM:+0300
TZOFFSETTO:+0200
TZNAME:EET
DTSTART:20211031T010000
END:STANDARD
BEGIN:DAYLIGHT
TZOFFSETFROM:+0200
TZOFFSETTO:+0300
TZNAME:EEST
DTSTART:20220327T010000
END:DAYLIGHT
BEGIN:STANDARD
TZOFFSETFROM:+0300
TZOFFSETTO:+0200
TZNAME:EET
DTSTART:20221030T010000
END:STANDARD
END:VTIMEZONE
BEGIN:VEVENT
DTSTART;VALUE=DATE:20210909
DTEND;VALUE=DATE:20210910
DTSTAMP:20260425T062752
CREATED:20210830T171825Z
LAST-MODIFIED:20210906T103511Z
UID:14669-1631145600-1631231999@ort.fi
SUMMARY:Ylämyllyn tiistaiseura
DESCRIPTION:Torstaina 9.9. klo 16 Ylämyllyn tiistaiseura Mattisenlahden kylätalolla\, Mattisenlahdentie 34B\, isä Nemanja vierailee. \nTervetuloa!\n   
URL:https://ort.fi/taipale/tapahtuma/ylamyllyn-tiistaiseura/
END:VEVENT
BEGIN:VEVENT
DTSTART;VALUE=DATE:20210916
DTEND;VALUE=DATE:20210917
DTSTAMP:20260425T062753
CREATED:20210822T180226Z
LAST-MODIFIED:20210906T103610Z
UID:14611-1631750400-1631836799@ort.fi
SUMMARY:Outokummun tiistaiseura
DESCRIPTION:Torstaina 16.9. klo 18 Outokummun tiistaiseura kirkon alakerrassa\, isä Nemanja vierailee. \nTervetuloa! \nSyyskauden 2021 muut kokoontumiset Tiistaiseurat -sivulla\n   
URL:https://ort.fi/taipale/tapahtuma/outokummun-tiistaiseura-21/
LOCATION:Kirkkopolku 3\, Outokummun Pyhän Hengen kirkko\, Outokumpu\, 83500
END:VEVENT
BEGIN:VEVENT
DTSTART;VALUE=DATE:20210924
DTEND;VALUE=DATE:20210925
DTSTAMP:20260425T062753
CREATED:20210920T154234Z
LAST-MODIFIED:20210920T154234Z
UID:14829-1632441600-1632527999@ort.fi
SUMMARY:Liperin tiistaiseura
DESCRIPTION:Perjantaina 24.9. klo 15 Liperin tiistaiseura Heikki Piiroisella\, Haiskuntie 21 C\n   
URL:https://ort.fi/taipale/tapahtuma/liperin-tiistaiseura-4/
END:VEVENT
END:VCALENDAR