BEGIN:VCALENDAR
VERSION:2.0
PRODID:-//Taipaleen ortodoksinen seurakunta - ECPv6.15.20//NONSGML v1.0//EN
CALSCALE:GREGORIAN
METHOD:PUBLISH
X-WR-CALNAME:Taipaleen ortodoksinen seurakunta
X-ORIGINAL-URL:https://ort.fi/taipale
X-WR-CALDESC:Tapahtumat Taipaleen ortodoksinen seurakunta
REFRESH-INTERVAL;VALUE=DURATION:PT1H
X-Robots-Tag:noindex
X-PUBLISHED-TTL:PT1H
BEGIN:VTIMEZONE
TZID:Europe/Helsinki
BEGIN:DAYLIGHT
TZOFFSETFROM:+0200
TZOFFSETTO:+0300
TZNAME:EEST
DTSTART:20230326T010000
END:DAYLIGHT
BEGIN:STANDARD
TZOFFSETFROM:+0300
TZOFFSETTO:+0200
TZNAME:EET
DTSTART:20231029T010000
END:STANDARD
BEGIN:DAYLIGHT
TZOFFSETFROM:+0200
TZOFFSETTO:+0300
TZNAME:EEST
DTSTART:20240331T010000
END:DAYLIGHT
BEGIN:STANDARD
TZOFFSETFROM:+0300
TZOFFSETTO:+0200
TZNAME:EET
DTSTART:20241027T010000
END:STANDARD
BEGIN:DAYLIGHT
TZOFFSETFROM:+0200
TZOFFSETTO:+0300
TZNAME:EEST
DTSTART:20250330T010000
END:DAYLIGHT
BEGIN:STANDARD
TZOFFSETFROM:+0300
TZOFFSETTO:+0200
TZNAME:EET
DTSTART:20251026T010000
END:STANDARD
END:VTIMEZONE
BEGIN:VEVENT
DTSTART;TZID=Europe/Helsinki:20240507T170000
DTEND;TZID=Europe/Helsinki:20240507T170000
DTSTAMP:20260420T112618
CREATED:20240424T174708Z
LAST-MODIFIED:20240428T155320Z
UID:25441-1715101200-1715101200@ort.fi
SUMMARY:Viinijärven kirkon siivoustalkoot
DESCRIPTION:Tiistaina 7.5. klo 17 Viinijärven kirkon siivoustalkoot. \nTervetuloa!\n   
URL:https://ort.fi/taipale/tapahtuma/viinijarven-kirkon-siivoustalkoot-5/
LOCATION:Viinijärventie 8\, Viinijärven Jumalanäidin Tihvinäläisen ikonin kirkko\, Viinijärvi\, 83400
END:VEVENT
BEGIN:VEVENT
DTSTART;TZID=Europe/Helsinki:20240511T110000
DTEND;TZID=Europe/Helsinki:20240511T110000
DTSTAMP:20260420T112618
CREATED:20240424T180530Z
LAST-MODIFIED:20240428T155627Z
UID:25457-1715425200-1715425200@ort.fi
SUMMARY:Säynelammen siivoustalkoot
DESCRIPTION:Lauantaina 11.5. klo 11 Säynelammen leirikeskuksen siivoustalkoot\, Syvälahdentie 7\, Sotkuma. \nTervetuloa!\n   
URL:https://ort.fi/taipale/tapahtuma/saynelammen-siivoustalkoot/
LOCATION:Syvälahdentie 7\, Säynelammen Pyhän Johanneksen leirikeskus\, Sotkuma\, 83750
END:VEVENT
BEGIN:VEVENT
DTSTART;TZID=Europe/Helsinki:20240513T170000
DTEND;TZID=Europe/Helsinki:20240513T170000
DTSTAMP:20260420T112618
CREATED:20240502T171535Z
LAST-MODIFIED:20240502T173850Z
UID:25559-1715619600-1715619600@ort.fi
SUMMARY:Outokummun kirkon siivoustalkoot
DESCRIPTION:Maanantaina 13.5. klo 17 siivoustalkoot Outokummun kirkolla. \nTervetuloa!\n   
URL:https://ort.fi/taipale/tapahtuma/outokummun-kirkon-siivoustalkoot-3/
LOCATION:Kirkkopolku 3\, Outokummun Pyhän Hengen kirkko\, Outokumpu\, 83500
END:VEVENT
BEGIN:VEVENT
DTSTART;TZID=Europe/Helsinki:20240514T170000
DTEND;TZID=Europe/Helsinki:20240514T170000
DTSTAMP:20260420T112618
CREATED:20240502T171911Z
LAST-MODIFIED:20240502T173909Z
UID:25565-1715706000-1715706000@ort.fi
SUMMARY:Liperin tsasounan siivoustalkoot
DESCRIPTION:Tiistaina 14.5. klo 17 siivoustalkoot Liperin tsasounalla. \nTervetuloa!\n   
URL:https://ort.fi/taipale/tapahtuma/liperin-tsasounan-siivoustalkoot-3/
LOCATION:Tsasounakuja 1\, Pyhän apostoli Andreaksen tsasouna\, Liperi\, 83100
END:VEVENT
BEGIN:VEVENT
DTSTART;TZID=Europe/Helsinki:20240515T170000
DTEND;TZID=Europe/Helsinki:20240515T170000
DTSTAMP:20260420T112618
CREATED:20240502T172459Z
LAST-MODIFIED:20240502T173959Z
UID:25569-1715792400-1715792400@ort.fi
SUMMARY:Siivoustalkoot Polvijärvellä
DESCRIPTION:Keskiviikkona 15.5. klo 17 Polvijärven ortodoksisen hautausmaan siivoustalkoot. \nTervetuloa!\n   
URL:https://ort.fi/taipale/tapahtuma/siivoustalkoot-polvijarvella/
LOCATION:Kaavintie 12\, Ortodoksinen hautausmaa\, Polvijärvi
END:VEVENT
BEGIN:VEVENT
DTSTART;TZID=Europe/Helsinki:20240516T170000
DTEND;TZID=Europe/Helsinki:20240516T170000
DTSTAMP:20260420T112618
CREATED:20240502T173251Z
LAST-MODIFIED:20240502T174036Z
UID:25581-1715878800-1715878800@ort.fi
SUMMARY:Sotkuman tsasounan siivoustalkoot
DESCRIPTION:Torstaina 16.5. klo 17 siivoustalkoot Sotkuman tsasounalla. \nTervetuloa!\n   
URL:https://ort.fi/taipale/tapahtuma/sotkuman-tsasounan-siivoustalkoot-2/
LOCATION:Malanintie 4\, Sotkuman tsasouna\, Sotkuma\, 83750
END:VEVENT
END:VCALENDAR