BEGIN:VCALENDAR
VERSION:2.0
PRODID:-//Taipaleen ortodoksinen seurakunta - ECPv6.15.20//NONSGML v1.0//EN
CALSCALE:GREGORIAN
METHOD:PUBLISH
X-WR-CALNAME:Taipaleen ortodoksinen seurakunta
X-ORIGINAL-URL:https://ort.fi/taipale
X-WR-CALDESC:Tapahtumat Taipaleen ortodoksinen seurakunta
REFRESH-INTERVAL;VALUE=DURATION:PT1H
X-Robots-Tag:noindex
X-PUBLISHED-TTL:PT1H
BEGIN:VTIMEZONE
TZID:Europe/Helsinki
BEGIN:DAYLIGHT
TZOFFSETFROM:+0200
TZOFFSETTO:+0300
TZNAME:EEST
DTSTART:20230326T010000
END:DAYLIGHT
BEGIN:STANDARD
TZOFFSETFROM:+0300
TZOFFSETTO:+0200
TZNAME:EET
DTSTART:20231029T010000
END:STANDARD
BEGIN:DAYLIGHT
TZOFFSETFROM:+0200
TZOFFSETTO:+0300
TZNAME:EEST
DTSTART:20240331T010000
END:DAYLIGHT
BEGIN:STANDARD
TZOFFSETFROM:+0300
TZOFFSETTO:+0200
TZNAME:EET
DTSTART:20241027T010000
END:STANDARD
BEGIN:DAYLIGHT
TZOFFSETFROM:+0200
TZOFFSETTO:+0300
TZNAME:EEST
DTSTART:20250330T010000
END:DAYLIGHT
BEGIN:STANDARD
TZOFFSETFROM:+0300
TZOFFSETTO:+0200
TZNAME:EET
DTSTART:20251026T010000
END:STANDARD
END:VTIMEZONE
BEGIN:VEVENT
DTSTART;TZID=Europe/Helsinki:20240319T150000
DTEND;TZID=Europe/Helsinki:20240319T150000
DTSTAMP:20260420T142902
CREATED:20240228T153222Z
LAST-MODIFIED:20240309T162646Z
UID:24841-1710860400-1710860400@ort.fi
SUMMARY:Viinijärven kirkon ystävät
DESCRIPTION:Tiistaina 19.3. klo 15 Kirkon ystävät Viinijärven Vanhassa pappilassa\, virpovitsojen teko.\n   
URL:https://ort.fi/taipale/tapahtuma/viinijarven-kirkon-ystavat-7/
LOCATION:Viinijärven Vanha pappila\, Viinijärventie 7\, 83400
END:VEVENT
BEGIN:VEVENT
DTSTART;TZID=Europe/Helsinki:20240330T150000
DTEND;TZID=Europe/Helsinki:20240330T150000
DTSTAMP:20260420T142902
CREATED:20240321T183803Z
LAST-MODIFIED:20240321T183803Z
UID:24993-1711810800-1711810800@ort.fi
SUMMARY:Viinijärven kirkon ystävät
DESCRIPTION:Lauantaina 30.3. klo 15 kirkon koristelu\, Viinijärven kirkko. \nTervetuloa!\n   
URL:https://ort.fi/taipale/tapahtuma/viinijarven-kirkon-ystavat-8/
LOCATION:Viinijärventie 8\, Viinijärven Jumalanäidin Tihvinäläisen ikonin kirkko\, Viinijärvi\, 83400
END:VEVENT
END:VCALENDAR