BEGIN:VCALENDAR
VERSION:2.0
PRODID:-//Taipaleen ortodoksinen seurakunta - ECPv6.15.20//NONSGML v1.0//EN
CALSCALE:GREGORIAN
METHOD:PUBLISH
X-ORIGINAL-URL:https://ort.fi/taipale
X-WR-CALDESC:Tapahtumat Taipaleen ortodoksinen seurakunta
REFRESH-INTERVAL;VALUE=DURATION:PT1H
X-Robots-Tag:noindex
X-PUBLISHED-TTL:PT1H
BEGIN:VTIMEZONE
TZID:Europe/Helsinki
BEGIN:DAYLIGHT
TZOFFSETFROM:+0200
TZOFFSETTO:+0300
TZNAME:EEST
DTSTART:20220327T010000
END:DAYLIGHT
BEGIN:STANDARD
TZOFFSETFROM:+0300
TZOFFSETTO:+0200
TZNAME:EET
DTSTART:20221030T010000
END:STANDARD
BEGIN:DAYLIGHT
TZOFFSETFROM:+0200
TZOFFSETTO:+0300
TZNAME:EEST
DTSTART:20230326T010000
END:DAYLIGHT
BEGIN:STANDARD
TZOFFSETFROM:+0300
TZOFFSETTO:+0200
TZNAME:EET
DTSTART:20231029T010000
END:STANDARD
BEGIN:DAYLIGHT
TZOFFSETFROM:+0200
TZOFFSETTO:+0300
TZNAME:EEST
DTSTART:20240331T010000
END:DAYLIGHT
BEGIN:STANDARD
TZOFFSETFROM:+0300
TZOFFSETTO:+0200
TZNAME:EET
DTSTART:20241027T010000
END:STANDARD
END:VTIMEZONE
BEGIN:VEVENT
DTSTART;TZID=Europe/Helsinki:20230502T170000
DTEND;TZID=Europe/Helsinki:20230502T190000
DTSTAMP:20260421T074407
CREATED:20230423T152250Z
LAST-MODIFIED:20230423T153328Z
UID:21575-1683046800-1683054000@ort.fi
SUMMARY:Viinijärven kirkon siivoustalkoot
DESCRIPTION:”Pyhitä ne\, jotka rakastavat sinun huoneesi kauneutta!” \nTiistaina 2.5. klo 17 Viinijärven kirkon siivoustalkoot. \nTervetuloa!\n   
URL:https://ort.fi/taipale/tapahtuma/viinijarven-kirkon-siivoustalkoot-4/
LOCATION:Viinijärventie 8\, Viinijärven Jumalanäidin Tihvinäläisen ikonin kirkko\, Viinijärvi\, 83400
END:VEVENT
BEGIN:VEVENT
DTSTART;TZID=Europe/Helsinki:20230503T170000
DTEND;TZID=Europe/Helsinki:20230503T190000
DTSTAMP:20260421T074407
CREATED:20230423T152559Z
LAST-MODIFIED:20230424T082152Z
UID:21579-1683133200-1683140400@ort.fi
SUMMARY:Polvijärven hautausmaan siivoustalkoot
DESCRIPTION:”Pyhitä ne\, jotka rakastavat sinun huoneesi kauneutta!” \nKeskiviikkona 3.5. klo 17 Polvijärven hautausmaan siivoustalkoot. \nTervetuloa!\n   
URL:https://ort.fi/taipale/tapahtuma/polvijarven-hautausmaan-siivoustalkoot-2/
LOCATION:Haavikontie 31\, Pyhän Johannes Kastajan kirkko\, Polvijärvi\, 83700
END:VEVENT
BEGIN:VEVENT
DTSTART;TZID=Europe/Helsinki:20230506T110000
DTEND;TZID=Europe/Helsinki:20230506T130000
DTSTAMP:20260421T074407
CREATED:20230423T153119Z
LAST-MODIFIED:20230423T153225Z
UID:21587-1683370800-1683378000@ort.fi
SUMMARY:Säynelammen leirikeskuksen siivoustalkoot
DESCRIPTION:”Pyhitä ne\, jotka rakastavat sinun huoneesi kauneutta!” \nLauantaina 6.5. klo 11 Säynelammen leirikeskuksen siivoustalkoot. \nTervetuloa!\n   
URL:https://ort.fi/taipale/tapahtuma/saynelammen-leirikeskuksen-siivoustalkoot-3/
LOCATION:Syvälahdentie 7\, Säynelammen Pyhän Johanneksen leirikeskus\, Sotkuma\, 83750
END:VEVENT
BEGIN:VEVENT
DTSTART;TZID=Europe/Helsinki:20230508T170000
DTEND;TZID=Europe/Helsinki:20230508T190000
DTSTAMP:20260421T074407
CREATED:20230425T163908Z
LAST-MODIFIED:20230425T163908Z
UID:21625-1683565200-1683572400@ort.fi
SUMMARY:Outokummun kirkon siivoustalkoot
DESCRIPTION:”Pyhitä ne\, jotka rakastavat sinun huoneesi kauneutta!” \nMaanantaina 8.5. klo 17 Outokummun kirkon ja ympäristön siivoustalkoot. \nTervetuloa!\n   
URL:https://ort.fi/taipale/tapahtuma/outokummun-kirkon-siivoustalkoot-2/
LOCATION:Kirkkopolku 3\, Outokummun Pyhän Hengen kirkko\, Outokumpu\, 83500
END:VEVENT
BEGIN:VEVENT
DTSTART;TZID=Europe/Helsinki:20230509T170000
DTEND;TZID=Europe/Helsinki:20230509T190000
DTSTAMP:20260421T074407
CREATED:20230425T164356Z
LAST-MODIFIED:20230425T164356Z
UID:21629-1683651600-1683658800@ort.fi
SUMMARY:Liperin tsasounan siivoustalkoot
DESCRIPTION:”Pyhitä ne\, jotka rakastavat sinun huoneesi kauneutta!” \nTiistaina 9.5. klo 17 Liperin tsasounan siivoustalkoot. \nTervetuloa!\n   
URL:https://ort.fi/taipale/tapahtuma/liperin-tsasounan-siivoustalkoot-2/
LOCATION:Tsasounakuja 1\, Pyhän apostoli Andreaksen tsasouna\, Liperi\, 83100
END:VEVENT
BEGIN:VEVENT
DTSTART;TZID=Europe/Helsinki:20230511T170000
DTEND;TZID=Europe/Helsinki:20230511T190000
DTSTAMP:20260421T074407
CREATED:20230423T152823Z
LAST-MODIFIED:20230504T140914Z
UID:21583-1683824400-1683831600@ort.fi
SUMMARY:Sotkuman tsasounan siivoustalkoot
DESCRIPTION:”Pyhitä ne\, jotka rakastavat sinun huoneesi kauneutta!” \nTorstaina 11.5. klo 17 Sotkuman tsasounan ja ympäristön siivoustalkoot. \nTervetuloa!\n   
URL:https://ort.fi/taipale/tapahtuma/sotkuman-tsasounan-siivoustalkoot/
LOCATION:Malanintie 4\, Sotkuman tsasouna\, Sotkuma\, 83750
END:VEVENT
END:VCALENDAR