BEGIN:VCALENDAR
VERSION:2.0
PRODID:-//Taipaleen ortodoksinen seurakunta - ECPv6.15.20//NONSGML v1.0//EN
CALSCALE:GREGORIAN
METHOD:PUBLISH
X-ORIGINAL-URL:https://ort.fi/taipale
X-WR-CALDESC:Tapahtumat Taipaleen ortodoksinen seurakunta
REFRESH-INTERVAL;VALUE=DURATION:PT1H
X-Robots-Tag:noindex
X-PUBLISHED-TTL:PT1H
BEGIN:VTIMEZONE
TZID:Europe/Helsinki
BEGIN:DAYLIGHT
TZOFFSETFROM:+0200
TZOFFSETTO:+0300
TZNAME:EEST
DTSTART:20200329T010000
END:DAYLIGHT
BEGIN:STANDARD
TZOFFSETFROM:+0300
TZOFFSETTO:+0200
TZNAME:EET
DTSTART:20201025T010000
END:STANDARD
BEGIN:DAYLIGHT
TZOFFSETFROM:+0200
TZOFFSETTO:+0300
TZNAME:EEST
DTSTART:20210328T010000
END:DAYLIGHT
BEGIN:STANDARD
TZOFFSETFROM:+0300
TZOFFSETTO:+0200
TZNAME:EET
DTSTART:20211031T010000
END:STANDARD
BEGIN:DAYLIGHT
TZOFFSETFROM:+0200
TZOFFSETTO:+0300
TZNAME:EEST
DTSTART:20220327T010000
END:DAYLIGHT
BEGIN:STANDARD
TZOFFSETFROM:+0300
TZOFFSETTO:+0200
TZNAME:EET
DTSTART:20221030T010000
END:STANDARD
END:VTIMEZONE
BEGIN:VEVENT
DTSTART;VALUE=DATE:20210504
DTEND;VALUE=DATE:20210505
DTSTAMP:20260423T022321
CREATED:20210426T162210Z
LAST-MODIFIED:20210426T162210Z
UID:13677-1620086400-1620172799@ort.fi
SUMMARY:Viinijärven kirkon siivoustalkoot
DESCRIPTION:Tiistaina 4.5. klo 17 siivoustalkoot Viinijärven kirkossa. \nTervetuloa!\n   
URL:https://ort.fi/taipale/tapahtuma/viinijarven-kirkon-siivoustalkoot-3/
LOCATION:Viinijärventie 8\, Viinijärven Jumalanäidin Tihvinäläisen ikonin kirkko\, Viinijärvi\, 83400
END:VEVENT
BEGIN:VEVENT
DTSTART;VALUE=DATE:20210505
DTEND;VALUE=DATE:20210506
DTSTAMP:20260423T022321
CREATED:20210426T163106Z
LAST-MODIFIED:20210426T163718Z
UID:13681-1620172800-1620259199@ort.fi
SUMMARY:Polvijärven hautausmaan siivoustalkoot
DESCRIPTION:Keskiviikkona 5.5. klo 17 siivoustalkoot Polvijärven hautausmaalla. Oma harava mukaan\, jos mahdollista. \nTervetuloa!\n    
URL:https://ort.fi/taipale/tapahtuma/polvijarven-hautausmaan-siivoustalkoot/
END:VEVENT
BEGIN:VEVENT
DTSTART;VALUE=DATE:20210506
DTEND;VALUE=DATE:20210507
DTSTAMP:20260423T022321
CREATED:20210426T163650Z
LAST-MODIFIED:20210426T163650Z
UID:13685-1620259200-1620345599@ort.fi
SUMMARY:Sotkuman hautausmaan siivoustalkoot
DESCRIPTION:Torstaina 6.5. klo 17 siivoustalkoot Sotkuman hautausmaalla. Oma harava mukaan\, jos mahdollista. \nTervetuloa!\n   
URL:https://ort.fi/taipale/tapahtuma/sotkuman-hautausmaan-siivoustalkoot-2/
LOCATION:Malanintie 4\, Sotkuman tsasouna\, Sotkuma\, 83750
END:VEVENT
BEGIN:VEVENT
DTSTART;VALUE=DATE:20210508
DTEND;VALUE=DATE:20210509
DTSTAMP:20260423T022321
CREATED:20210426T164400Z
LAST-MODIFIED:20210426T164400Z
UID:13689-1620432000-1620518399@ort.fi
SUMMARY:Säynelammen leirikeskuksen siivoustalkoot
DESCRIPTION:Lauantaina 8.5. klo 11 siivoustalkoot Säynelammen leirikeskuksessa. \nTervetuloa!\n   
URL:https://ort.fi/taipale/tapahtuma/saynelammen-leirikeskuksen-siivoustalkoot-2/
LOCATION:Syvälahdentie 7\, Säynelammen Pyhän Johanneksen leirikeskus\, Sotkuma\, 83750
END:VEVENT
BEGIN:VEVENT
DTSTART;VALUE=DATE:20210510
DTEND;VALUE=DATE:20210511
DTSTAMP:20260423T022321
CREATED:20210503T131141Z
LAST-MODIFIED:20210503T131141Z
UID:13727-1620604800-1620691199@ort.fi
SUMMARY:Siivoustalkoot Outokummun kirkolla
DESCRIPTION:Maanantaina 10.5. klo 17 siivoustalkoot Outokummun kirkolla. \nTervetuloa!\n   
URL:https://ort.fi/taipale/tapahtuma/siivoustalkoot-outokummun-kirkolla/
LOCATION:Kirkkopolku 3\, Outokummun Pyhän Hengen kirkko\, Outokumpu\, 83500
END:VEVENT
BEGIN:VEVENT
DTSTART;VALUE=DATE:20210511
DTEND;VALUE=DATE:20210512
DTSTAMP:20260423T022321
CREATED:20210503T131356Z
LAST-MODIFIED:20210503T131356Z
UID:13731-1620691200-1620777599@ort.fi
SUMMARY:Siivoustalkoot Liperin tsasounalla
DESCRIPTION:Tiistaina 11.5. klo 17 siivoustalkoot Liperin tsasounalla. \nTervetuloa!\n   
URL:https://ort.fi/taipale/tapahtuma/siivoustalkoot-liperin-tsasounalla/
LOCATION:Tsasounakuja 1\, Pyhän apostoli Andreaksen tsasouna\, Liperi\, 83100
END:VEVENT
END:VCALENDAR