BEGIN:VCALENDAR
VERSION:2.0
PRODID:-//Taipaleen ortodoksinen seurakunta - ECPv6.15.20//NONSGML v1.0//EN
CALSCALE:GREGORIAN
METHOD:PUBLISH
X-WR-CALNAME:Taipaleen ortodoksinen seurakunta
X-ORIGINAL-URL:https://ort.fi/taipale
X-WR-CALDESC:Tapahtumat Taipaleen ortodoksinen seurakunta
REFRESH-INTERVAL;VALUE=DURATION:PT1H
X-Robots-Tag:noindex
X-PUBLISHED-TTL:PT1H
BEGIN:VTIMEZONE
TZID:Europe/Helsinki
BEGIN:DAYLIGHT
TZOFFSETFROM:+0200
TZOFFSETTO:+0300
TZNAME:EEST
DTSTART:20240331T010000
END:DAYLIGHT
BEGIN:STANDARD
TZOFFSETFROM:+0300
TZOFFSETTO:+0200
TZNAME:EET
DTSTART:20241027T010000
END:STANDARD
BEGIN:DAYLIGHT
TZOFFSETFROM:+0200
TZOFFSETTO:+0300
TZNAME:EEST
DTSTART:20250330T010000
END:DAYLIGHT
BEGIN:STANDARD
TZOFFSETFROM:+0300
TZOFFSETTO:+0200
TZNAME:EET
DTSTART:20251026T010000
END:STANDARD
BEGIN:DAYLIGHT
TZOFFSETFROM:+0200
TZOFFSETTO:+0300
TZNAME:EEST
DTSTART:20260329T010000
END:DAYLIGHT
BEGIN:STANDARD
TZOFFSETFROM:+0300
TZOFFSETTO:+0200
TZNAME:EET
DTSTART:20261025T010000
END:STANDARD
END:VTIMEZONE
BEGIN:VEVENT
DTSTART;VALUE=DATE:20250526
DTEND;VALUE=DATE:20250528
DTSTAMP:20260419T205915
CREATED:20250514T174418Z
LAST-MODIFIED:20250514T174418Z
UID:29031-1748217600-1748390399@ort.fi
SUMMARY:Säynelammen leirikeskuksen praasniekka
DESCRIPTION:Säynelammen pyhän Johannes Venäläisen leirikeskuksen praasniekka  \nMa 26.5. klo 18 ehtoopalvelus ja vedenpyhitys\, iltateet\, omat makkarat mukaan\nTi 27.5. klo 9 liturgia \nTervetuloa!\n   
URL:https://ort.fi/taipale/tapahtuma/saynelammen-leirikeskuksen-praasniekka-2/
LOCATION:Syvälahdentie 7\, Säynelammen Pyhän Johanneksen leirikeskus\, Sotkuma\, 83750
END:VEVENT
END:VCALENDAR