BEGIN:VCALENDAR
VERSION:2.0
PRODID:-//Taipaleen ortodoksinen seurakunta - ECPv6.15.20//NONSGML v1.0//EN
CALSCALE:GREGORIAN
METHOD:PUBLISH
X-WR-CALNAME:Taipaleen ortodoksinen seurakunta
X-ORIGINAL-URL:https://ort.fi/taipale
X-WR-CALDESC:Tapahtumat Taipaleen ortodoksinen seurakunta
REFRESH-INTERVAL;VALUE=DURATION:PT1H
X-Robots-Tag:noindex
X-PUBLISHED-TTL:PT1H
BEGIN:VTIMEZONE
TZID:Europe/Helsinki
BEGIN:DAYLIGHT
TZOFFSETFROM:+0200
TZOFFSETTO:+0300
TZNAME:EEST
DTSTART:20220327T010000
END:DAYLIGHT
BEGIN:STANDARD
TZOFFSETFROM:+0300
TZOFFSETTO:+0200
TZNAME:EET
DTSTART:20221030T010000
END:STANDARD
BEGIN:DAYLIGHT
TZOFFSETFROM:+0200
TZOFFSETTO:+0300
TZNAME:EEST
DTSTART:20230326T010000
END:DAYLIGHT
BEGIN:STANDARD
TZOFFSETFROM:+0300
TZOFFSETTO:+0200
TZNAME:EET
DTSTART:20231029T010000
END:STANDARD
BEGIN:DAYLIGHT
TZOFFSETFROM:+0200
TZOFFSETTO:+0300
TZNAME:EEST
DTSTART:20240331T010000
END:DAYLIGHT
BEGIN:STANDARD
TZOFFSETFROM:+0300
TZOFFSETTO:+0200
TZNAME:EET
DTSTART:20241027T010000
END:STANDARD
END:VTIMEZONE
BEGIN:VEVENT
DTSTART;TZID=Europe/Helsinki:20230131T180000
DTEND;TZID=Europe/Helsinki:20230131T200000
DTSTAMP:20260421T183813
CREATED:20230110T152059Z
LAST-MODIFIED:20230110T152059Z
UID:19985-1675188000-1675195200@ort.fi
SUMMARY:Seurakunnanvaltuuston kokous
DESCRIPTION:Taipaleen ortodoksisen seurakunnan seurakunnanvaltuuston kokous 1/2023 pidetään Juuan ortodoksisella seurakuntasalilla tiistaina 31.1.2023 alkaen klo 18.00. Kahvitarjoilu alkaen klo 17.30. \nKäsiteltäviä asioita: \n\nValitsijamiesten ja heidän henkilökohtaisten  varamiesten valinta suorittamaan kirkolliskokouksen maallikkoedustajien vaalia\nMahdollisten Taipaleen seurakunnan ehdokkaiden nimeäminen kirkolliskokouksen maallikkoedustajien vaaliin\nNurmeksen kappeliseurakunnan Yrjö Hautasen rahaston sääntöjen hyväksyminen\n\nSeurakunnanvaltuuston kokouskutsu 1/2023\n   
URL:https://ort.fi/taipale/tapahtuma/seurakunnanvaltuuston-kokous-13/
LOCATION:Juuan ortodoksinen seurakuntatalo\, Laurilantie 9\, Juuka\, Suomi
ORGANIZER;CN="Taipaleen ortodoksinen seurakunta":MAILTO:taipale@ort.fi
END:VEVENT
END:VCALENDAR