BEGIN:VCALENDAR
VERSION:2.0
PRODID:-//Taipaleen ortodoksinen seurakunta - ECPv6.15.20//NONSGML v1.0//EN
CALSCALE:GREGORIAN
METHOD:PUBLISH
X-ORIGINAL-URL:https://ort.fi/taipale
X-WR-CALDESC:Tapahtumat Taipaleen ortodoksinen seurakunta
REFRESH-INTERVAL;VALUE=DURATION:PT1H
X-Robots-Tag:noindex
X-PUBLISHED-TTL:PT1H
BEGIN:VTIMEZONE
TZID:Europe/Helsinki
BEGIN:DAYLIGHT
TZOFFSETFROM:+0200
TZOFFSETTO:+0300
TZNAME:EEST
DTSTART:20240331T010000
END:DAYLIGHT
BEGIN:STANDARD
TZOFFSETFROM:+0300
TZOFFSETTO:+0200
TZNAME:EET
DTSTART:20241027T010000
END:STANDARD
BEGIN:DAYLIGHT
TZOFFSETFROM:+0200
TZOFFSETTO:+0300
TZNAME:EEST
DTSTART:20250330T010000
END:DAYLIGHT
BEGIN:STANDARD
TZOFFSETFROM:+0300
TZOFFSETTO:+0200
TZNAME:EET
DTSTART:20251026T010000
END:STANDARD
BEGIN:DAYLIGHT
TZOFFSETFROM:+0200
TZOFFSETTO:+0300
TZNAME:EEST
DTSTART:20260329T010000
END:DAYLIGHT
BEGIN:STANDARD
TZOFFSETFROM:+0300
TZOFFSETTO:+0200
TZNAME:EET
DTSTART:20261025T010000
END:STANDARD
END:VTIMEZONE
BEGIN:VEVENT
DTSTART;TZID=Europe/Helsinki:20251119T180000
DTEND;TZID=Europe/Helsinki:20251119T180000
DTSTAMP:20260419T173812
CREATED:20251030T082631Z
LAST-MODIFIED:20251030T084135Z
UID:30399-1763575200-1763575200@ort.fi
SUMMARY:Ortodoksisuus ja pyhäkkö tutuksi Polvijärvellä
DESCRIPTION:Keskiviikkona 19.11. klo 18 Ortodoksisuus ja pyhäköt tutuksi -ilta Polvijärven kirkossa. Pyhäkön esittely ja alustus aiheesta: Kirkon traditio.  \nTeetarjoilu! \nOrtodoksit ja ortodoksisuudesta kiinnostuneet\, tervetuloa! \nOrtodoksisuus ja pyhäköt tutuksi -illat\n   
URL:https://ort.fi/taipale/tapahtuma/ortodoksisuus-ja-pyhakko-tutuksi-polvijarvella/
LOCATION:Haavikontie 31\, Pyhän Johannes Kastajan kirkko\, Polvijärvi\, 83700
END:VEVENT
END:VCALENDAR