BEGIN:VCALENDAR
VERSION:2.0
PRODID:-//Taipaleen ortodoksinen seurakunta - ECPv6.15.20//NONSGML v1.0//EN
CALSCALE:GREGORIAN
METHOD:PUBLISH
X-ORIGINAL-URL:https://ort.fi/taipale
X-WR-CALDESC:Tapahtumat Taipaleen ortodoksinen seurakunta
REFRESH-INTERVAL;VALUE=DURATION:PT1H
X-Robots-Tag:noindex
X-PUBLISHED-TTL:PT1H
BEGIN:VTIMEZONE
TZID:Europe/Helsinki
BEGIN:DAYLIGHT
TZOFFSETFROM:+0200
TZOFFSETTO:+0300
TZNAME:EEST
DTSTART:20190331T010000
END:DAYLIGHT
BEGIN:STANDARD
TZOFFSETFROM:+0300
TZOFFSETTO:+0200
TZNAME:EET
DTSTART:20191027T010000
END:STANDARD
BEGIN:DAYLIGHT
TZOFFSETFROM:+0200
TZOFFSETTO:+0300
TZNAME:EEST
DTSTART:20200329T010000
END:DAYLIGHT
BEGIN:STANDARD
TZOFFSETFROM:+0300
TZOFFSETTO:+0200
TZNAME:EET
DTSTART:20201025T010000
END:STANDARD
BEGIN:DAYLIGHT
TZOFFSETFROM:+0200
TZOFFSETTO:+0300
TZNAME:EEST
DTSTART:20210328T010000
END:DAYLIGHT
BEGIN:STANDARD
TZOFFSETFROM:+0300
TZOFFSETTO:+0200
TZNAME:EET
DTSTART:20211031T010000
END:STANDARD
END:VTIMEZONE
BEGIN:VEVENT
DTSTART;VALUE=DATE:20201103
DTEND;VALUE=DATE:20201104
DTSTAMP:20260423T053200
CREATED:20200803T072907Z
LAST-MODIFIED:20201027T200127Z
UID:9709-1604361600-1604447999@ort.fi
SUMMARY:Lasten puuhakerho
DESCRIPTION:Eskari- ja alakouluikäisten lasten puuhakerho tiistaina 3.11. klo 17-19 Outokummun ortodoksisen kirkon alakerrassa\, Kirkkopolku 3. \nKerho on ilmainen. Tule ja tuo kaverisikin mukaan hauskaan toimintaan! \nLisätietoa kerhosta Lasten puuhakerho -sivulla\n   
URL:https://ort.fi/taipale/tapahtuma/lasten-puuhakerho-45/
LOCATION:Kirkkopolku 3\, Outokummun Pyhän Hengen kirkko\, Outokumpu\, 83500
END:VEVENT
BEGIN:VEVENT
DTSTART;VALUE=DATE:20201110
DTEND;VALUE=DATE:20201111
DTSTAMP:20260423T053200
CREATED:20200803T073049Z
LAST-MODIFIED:20201103T182617Z
UID:9713-1604966400-1605052799@ort.fi
SUMMARY:Lasten puuhakerho
DESCRIPTION:Eskari- ja alakouluikäisten lasten puuhakerho tiistaina 10.11. klo 17-19 Outokummun ortodoksisen kirkon alakerrassa\, Kirkkopolku 3. \nKerho on ilmainen. Tule ja tuo kaverisikin mukaan hauskaan toimintaan! \nLisätietoa kerhosta Lasten puuhakerho -sivulla\n   
URL:https://ort.fi/taipale/tapahtuma/lasten-puuhakerho-46/
LOCATION:Kirkkopolku 3\, Outokummun Pyhän Hengen kirkko\, Outokumpu\, 83500
END:VEVENT
BEGIN:VEVENT
DTSTART;VALUE=DATE:20201117
DTEND;VALUE=DATE:20201118
DTSTAMP:20260423T053200
CREATED:20200803T073235Z
LAST-MODIFIED:20201110T193453Z
UID:9717-1605571200-1605657599@ort.fi
SUMMARY:Lasten puuhakerho
DESCRIPTION:Eskari- ja alakouluikäisten lasten puuhakerho tiistaina 17.11. klo 17-19 Outokummun ortodoksisen kirkon alakerrassa\, Kirkkopolku 3. \nKerho on ilmainen. Tule ja tuo kaverisikin mukaan hauskaan toimintaan! \nLisätietoa kerhosta Lasten puuhakerho -sivulla\n   
URL:https://ort.fi/taipale/tapahtuma/lasten-puuhakerho-47/
LOCATION:Kirkkopolku 3\, Outokummun Pyhän Hengen kirkko\, Outokumpu\, 83500
END:VEVENT
BEGIN:VEVENT
DTSTART;VALUE=DATE:20201124
DTEND;VALUE=DATE:20201125
DTSTAMP:20260423T053200
CREATED:20200803T073424Z
LAST-MODIFIED:20201117T185621Z
UID:9721-1606176000-1606262399@ort.fi
SUMMARY:Lasten puuhakerho
DESCRIPTION:Eskari- ja alakouluikäisten lasten puuhakerho tiistaina 24.11. klo 17-19 Outokummun ortodoksisen kirkon alakerrassa\, Kirkkopolku 3. \nKerho on ilmainen. Tule ja tuo kaverisikin mukaan hauskaan toimintaan! \nLisätietoa kerhosta Lasten puuhakerho -sivulla\n   
URL:https://ort.fi/taipale/tapahtuma/lasten-puuhakerho-48/
LOCATION:Kirkkopolku 3\, Outokummun Pyhän Hengen kirkko\, Outokumpu\, 83500
END:VEVENT
END:VCALENDAR