BEGIN:VCALENDAR
VERSION:2.0
PRODID:-//Taipaleen ortodoksinen seurakunta - ECPv6.15.20//NONSGML v1.0//EN
CALSCALE:GREGORIAN
METHOD:PUBLISH
X-ORIGINAL-URL:https://ort.fi/taipale
X-WR-CALDESC:Tapahtumat Taipaleen ortodoksinen seurakunta
REFRESH-INTERVAL;VALUE=DURATION:PT1H
X-Robots-Tag:noindex
X-PUBLISHED-TTL:PT1H
BEGIN:VTIMEZONE
TZID:Europe/Helsinki
BEGIN:DAYLIGHT
TZOFFSETFROM:+0200
TZOFFSETTO:+0300
TZNAME:EEST
DTSTART:20220327T010000
END:DAYLIGHT
BEGIN:STANDARD
TZOFFSETFROM:+0300
TZOFFSETTO:+0200
TZNAME:EET
DTSTART:20221030T010000
END:STANDARD
BEGIN:DAYLIGHT
TZOFFSETFROM:+0200
TZOFFSETTO:+0300
TZNAME:EEST
DTSTART:20230326T010000
END:DAYLIGHT
BEGIN:STANDARD
TZOFFSETFROM:+0300
TZOFFSETTO:+0200
TZNAME:EET
DTSTART:20231029T010000
END:STANDARD
BEGIN:DAYLIGHT
TZOFFSETFROM:+0200
TZOFFSETTO:+0300
TZNAME:EEST
DTSTART:20240331T010000
END:DAYLIGHT
BEGIN:STANDARD
TZOFFSETFROM:+0300
TZOFFSETTO:+0200
TZNAME:EET
DTSTART:20241027T010000
END:STANDARD
END:VTIMEZONE
BEGIN:VEVENT
DTSTART;TZID=Europe/Helsinki:20230410T100000
DTEND;TZID=Europe/Helsinki:20230410T130000
DTSTAMP:20260421T203447
CREATED:20230305T190036Z
LAST-MODIFIED:20230403T150257Z
UID:20877-1681120800-1681131600@ort.fi
SUMMARY:Lasten pääsiäinen Sotkumassa
DESCRIPTION:Tervetuloa toisena pääsiäispäivänä\, maanantaina 10.4.\,  perinteiseen lasten pääsiäisjuhlaan Sotkuman kylälle. Liturgia Sotkuman tsasounassa klo 10\, ristisaatto ja kirkonkellojen soittoa. Sotkuman koululla ruoka ja mukavaa ohjelmaa koko perheelle. Koulun saliin on lapsille suunniteltu viihtyisä temppurata. Tapahtumasta saatavat varat käytetään Taipaleen seurakunnan nuorten Kreikan matkan hyväksi. \nTervetuloa pääsiäisjuhlaan! \nKepparikisat lasten pääsiäisjuhlassa Sotkuman koululla 18.4.2022.\n   
URL:https://ort.fi/taipale/tapahtuma/lasten-paasiainen-sotkumassa-3/
LOCATION:Malanintie 4\, Sotkuman tsasouna\, Sotkuma\, 83750
END:VEVENT
END:VCALENDAR