BEGIN:VCALENDAR
VERSION:2.0
PRODID:-//Taipaleen ortodoksinen seurakunta - ECPv6.15.20//NONSGML v1.0//EN
CALSCALE:GREGORIAN
METHOD:PUBLISH
X-ORIGINAL-URL:https://ort.fi/taipale
X-WR-CALDESC:Tapahtumat Taipaleen ortodoksinen seurakunta
REFRESH-INTERVAL;VALUE=DURATION:PT1H
X-Robots-Tag:noindex
X-PUBLISHED-TTL:PT1H
BEGIN:VTIMEZONE
TZID:Europe/Helsinki
BEGIN:DAYLIGHT
TZOFFSETFROM:+0200
TZOFFSETTO:+0300
TZNAME:EEST
DTSTART:20190331T010000
END:DAYLIGHT
BEGIN:STANDARD
TZOFFSETFROM:+0300
TZOFFSETTO:+0200
TZNAME:EET
DTSTART:20191027T010000
END:STANDARD
BEGIN:DAYLIGHT
TZOFFSETFROM:+0200
TZOFFSETTO:+0300
TZNAME:EEST
DTSTART:20200329T010000
END:DAYLIGHT
BEGIN:STANDARD
TZOFFSETFROM:+0300
TZOFFSETTO:+0200
TZNAME:EET
DTSTART:20201025T010000
END:STANDARD
BEGIN:DAYLIGHT
TZOFFSETFROM:+0200
TZOFFSETTO:+0300
TZNAME:EEST
DTSTART:20210328T010000
END:DAYLIGHT
BEGIN:STANDARD
TZOFFSETFROM:+0300
TZOFFSETTO:+0200
TZNAME:EET
DTSTART:20211031T010000
END:STANDARD
END:VTIMEZONE
BEGIN:VEVENT
DTSTART;VALUE=DATE:20200106
DTEND;VALUE=DATE:20200107
DTSTAMP:20260424T173401
CREATED:20191130T160039Z
LAST-MODIFIED:20191220T181807Z
UID:6681-1578268800-1578355199@ort.fi
SUMMARY:Uusien seurakuntalaisten tervetulojuhla
DESCRIPTION:Teofaniana – 6. tammikuuta – järjestetään tervetulojuhla kaikille kuluneen vuoden aikana seurakuntaan muuttaneille ja liittyneille. Liturgia Viinijärven kirkossa klo 10\, ristisaatto ja vedenpyhitys Taipaleenjoen rannalla. Klo 12 jälkeen soppalounas\, kirkkokahvit ja pientä ohjelmaa Vanhassa pappilassa. \nTervetuloa kaikki uudet ja ”vanhat” seurakuntalaiset tutustumaan ja yhteistä juhlaa viettämään!\n    \nVedenpyhitys Taipaleenjoen rannalla teofaniana 2018. Kuva: Hannu Mutanen 
URL:https://ort.fi/taipale/tapahtuma/uusien-seurakuntalaisten-tervetulojuhla-2/
LOCATION:Viinijärven Vanha pappila\, Viinijärventie 7\, 83400
ORGANIZER;CN="Taipaleen ortodoksinen seurakunta":MAILTO:taipale@ort.fi
END:VEVENT
END:VCALENDAR