BEGIN:VCALENDAR
VERSION:2.0
PRODID:-//Taipaleen ortodoksinen seurakunta - ECPv6.15.20//NONSGML v1.0//EN
CALSCALE:GREGORIAN
METHOD:PUBLISH
X-WR-CALNAME:Taipaleen ortodoksinen seurakunta
X-ORIGINAL-URL:https://ort.fi/taipale
X-WR-CALDESC:Tapahtumat Taipaleen ortodoksinen seurakunta
REFRESH-INTERVAL;VALUE=DURATION:PT1H
X-Robots-Tag:noindex
X-PUBLISHED-TTL:PT1H
BEGIN:VTIMEZONE
TZID:Europe/Helsinki
BEGIN:DAYLIGHT
TZOFFSETFROM:+0200
TZOFFSETTO:+0300
TZNAME:EEST
DTSTART:20220327T010000
END:DAYLIGHT
BEGIN:STANDARD
TZOFFSETFROM:+0300
TZOFFSETTO:+0200
TZNAME:EET
DTSTART:20221030T010000
END:STANDARD
BEGIN:DAYLIGHT
TZOFFSETFROM:+0200
TZOFFSETTO:+0300
TZNAME:EEST
DTSTART:20230326T010000
END:DAYLIGHT
BEGIN:STANDARD
TZOFFSETFROM:+0300
TZOFFSETTO:+0200
TZNAME:EET
DTSTART:20231029T010000
END:STANDARD
BEGIN:DAYLIGHT
TZOFFSETFROM:+0200
TZOFFSETTO:+0300
TZNAME:EEST
DTSTART:20240331T010000
END:DAYLIGHT
BEGIN:STANDARD
TZOFFSETFROM:+0300
TZOFFSETTO:+0200
TZNAME:EET
DTSTART:20241027T010000
END:STANDARD
END:VTIMEZONE
BEGIN:VEVENT
DTSTART;TZID=Europe/Helsinki:20231209T093000
DTEND;TZID=Europe/Helsinki:20231209T160000
DTSTAMP:20260425T015823
CREATED:20231130T144917Z
LAST-MODIFIED:20231130T144917Z
UID:23757-1702114200-1702137600@ort.fi
SUMMARY:Ikonimaalauspiiri
DESCRIPTION:Lauantaina 9.12. klo 9.30-16 Taipaleen ikonimaalauspiiri kokoontuu poikkeuksellisesti Joensuun ort. seurakunnan kerhotilassa. \nTiedustelut Helena Saaristo-Parovuori\, puh. 050 574 2671 \nTulevat kokoontumiset Ikonimaalauspiiri -sivulla.
URL:https://ort.fi/taipale/tapahtuma/ikonimaalauspiiri-13/
LOCATION:Kirkkokatu 32\, Joensuun ortodoksinen seurakuntasali\, Joensuu\, 80100
END:VEVENT
END:VCALENDAR