BEGIN:VCALENDAR
VERSION:2.0
PRODID:-//Taipaleen ortodoksinen seurakunta - ECPv6.15.20//NONSGML v1.0//EN
CALSCALE:GREGORIAN
METHOD:PUBLISH
X-WR-CALNAME:Taipaleen ortodoksinen seurakunta
X-ORIGINAL-URL:https://ort.fi/taipale
X-WR-CALDESC:Tapahtumat Taipaleen ortodoksinen seurakunta
REFRESH-INTERVAL;VALUE=DURATION:PT1H
X-Robots-Tag:noindex
X-PUBLISHED-TTL:PT1H
BEGIN:VTIMEZONE
TZID:Europe/Helsinki
BEGIN:DAYLIGHT
TZOFFSETFROM:+0200
TZOFFSETTO:+0300
TZNAME:EEST
DTSTART:20210328T010000
END:DAYLIGHT
BEGIN:STANDARD
TZOFFSETFROM:+0300
TZOFFSETTO:+0200
TZNAME:EET
DTSTART:20211031T010000
END:STANDARD
BEGIN:DAYLIGHT
TZOFFSETFROM:+0200
TZOFFSETTO:+0300
TZNAME:EEST
DTSTART:20220327T010000
END:DAYLIGHT
BEGIN:STANDARD
TZOFFSETFROM:+0300
TZOFFSETTO:+0200
TZNAME:EET
DTSTART:20221030T010000
END:STANDARD
BEGIN:DAYLIGHT
TZOFFSETFROM:+0200
TZOFFSETTO:+0300
TZNAME:EEST
DTSTART:20230326T010000
END:DAYLIGHT
BEGIN:STANDARD
TZOFFSETFROM:+0300
TZOFFSETTO:+0200
TZNAME:EET
DTSTART:20231029T010000
END:STANDARD
END:VTIMEZONE
BEGIN:VEVENT
DTSTART;VALUE=DATE:20220405
DTEND;VALUE=DATE:20220406
DTSTAMP:20260422T161732
CREATED:20220328T144018Z
LAST-MODIFIED:20220328T144416Z
UID:16701-1649116800-1649203199@ort.fi
SUMMARY:Luento "Kaksipäisen kotkan valtakunta"
DESCRIPTION:Tiistaina 5.4. klo 18.00 rehtori Juhani Räsäsen luento Outokummun kirkon alakerrassa\, ” Kaksipäisen kotkan valtakunta\, Venäjän  ja Venäjän ortodoksisen kirkon historiaa.” \nAlustuksessa käsitellään slaavilaisuuden\, valtion ja ortodoksisen kirkon syntyä ja monivaiheista elämää Venäjällä. \nToimitamme rukouspalveluksen rauhan puolesta ja tiistaiseura tarjoaa iltateet. \nTervetuloa kuuntelemaan ajankohtaista aihetta!\n   
URL:https://ort.fi/taipale/tapahtuma/luento-kaksipaisen-kotkan-valtakunta/
LOCATION:Kirkkopolku 3\, Outokummun Pyhän Hengen kirkko\, Outokumpu\, 83500
END:VEVENT
END:VCALENDAR