BEGIN:VCALENDAR
VERSION:2.0
PRODID:-//Taipaleen ortodoksinen seurakunta - ECPv6.15.20//NONSGML v1.0//EN
CALSCALE:GREGORIAN
METHOD:PUBLISH
X-ORIGINAL-URL:https://ort.fi/taipale
X-WR-CALDESC:Tapahtumat Taipaleen ortodoksinen seurakunta
REFRESH-INTERVAL;VALUE=DURATION:PT1H
X-Robots-Tag:noindex
X-PUBLISHED-TTL:PT1H
BEGIN:VTIMEZONE
TZID:Europe/Helsinki
BEGIN:DAYLIGHT
TZOFFSETFROM:+0200
TZOFFSETTO:+0300
TZNAME:EEST
DTSTART:20180325T010000
END:DAYLIGHT
BEGIN:STANDARD
TZOFFSETFROM:+0300
TZOFFSETTO:+0200
TZNAME:EET
DTSTART:20181028T010000
END:STANDARD
BEGIN:DAYLIGHT
TZOFFSETFROM:+0200
TZOFFSETTO:+0300
TZNAME:EEST
DTSTART:20190331T010000
END:DAYLIGHT
BEGIN:STANDARD
TZOFFSETFROM:+0300
TZOFFSETTO:+0200
TZNAME:EET
DTSTART:20191027T010000
END:STANDARD
BEGIN:DAYLIGHT
TZOFFSETFROM:+0200
TZOFFSETTO:+0300
TZNAME:EEST
DTSTART:20200329T010000
END:DAYLIGHT
BEGIN:STANDARD
TZOFFSETFROM:+0300
TZOFFSETTO:+0200
TZNAME:EET
DTSTART:20201025T010000
END:STANDARD
END:VTIMEZONE
BEGIN:VEVENT
DTSTART;TZID=Europe/Helsinki:20190511T100000
DTEND;TZID=Europe/Helsinki:20190511T150000
DTSTAMP:20260425T132729
CREATED:20190425T165439Z
LAST-MODIFIED:20190510T085232Z
UID:4267-1557568800-1557586800@ort.fi
SUMMARY:Pääsiäiskahvio Vanhassa pappilassa
DESCRIPTION:Lauantaina 11.5. klo 10-15 Viinijärven Vanhassa pappilassa Pääsiäiskahvio. Keittolounas\, suolaista ja makeaa leivonnaista\, myös mukaan. Kirpputori. \nJärjestää Viinijärven kirkon ystävät. Tuotto diakoniatyölle. Tervetuloa!\n   
URL:https://ort.fi/taipale/tapahtuma/paasiaiskahvio-vanhassa-pappilassa/
LOCATION:Viinijärven Vanha pappila\, Viinijärventie 7\, 83400
END:VEVENT
END:VCALENDAR