BEGIN:VCALENDAR
VERSION:2.0
PRODID:-//Taipaleen ortodoksinen seurakunta - ECPv6.15.20//NONSGML v1.0//EN
CALSCALE:GREGORIAN
METHOD:PUBLISH
X-WR-CALNAME:Taipaleen ortodoksinen seurakunta
X-ORIGINAL-URL:https://ort.fi/taipale
X-WR-CALDESC:Tapahtumat Taipaleen ortodoksinen seurakunta
REFRESH-INTERVAL;VALUE=DURATION:PT1H
X-Robots-Tag:noindex
X-PUBLISHED-TTL:PT1H
BEGIN:VTIMEZONE
TZID:Europe/Helsinki
BEGIN:DAYLIGHT
TZOFFSETFROM:+0200
TZOFFSETTO:+0300
TZNAME:EEST
DTSTART:20240331T010000
END:DAYLIGHT
BEGIN:STANDARD
TZOFFSETFROM:+0300
TZOFFSETTO:+0200
TZNAME:EET
DTSTART:20241027T010000
END:STANDARD
BEGIN:DAYLIGHT
TZOFFSETFROM:+0200
TZOFFSETTO:+0300
TZNAME:EEST
DTSTART:20250330T010000
END:DAYLIGHT
BEGIN:STANDARD
TZOFFSETFROM:+0300
TZOFFSETTO:+0200
TZNAME:EET
DTSTART:20251026T010000
END:STANDARD
BEGIN:DAYLIGHT
TZOFFSETFROM:+0200
TZOFFSETTO:+0300
TZNAME:EEST
DTSTART:20260329T010000
END:DAYLIGHT
BEGIN:STANDARD
TZOFFSETFROM:+0300
TZOFFSETTO:+0200
TZNAME:EET
DTSTART:20261025T010000
END:STANDARD
END:VTIMEZONE
BEGIN:VEVENT
DTSTART;TZID=Europe/Helsinki:20250506T133000
DTEND;TZID=Europe/Helsinki:20250506T133000
DTSTAMP:20260419T155645
CREATED:20250423T100904Z
LAST-MODIFIED:20250423T100904Z
UID:28837-1746538200-1746538200@ort.fi
SUMMARY:Pappilan virkeät vanhukset
DESCRIPTION:Tiistaina 6.5. klo 13.30 Pappilan virkeät vanhukset Viinijärven Vanhassa pappilassa. \nTervetuloa! \nLisätietoa kokoontumisista Pappilan virkeät vanhukset -sivulla.\n   
URL:https://ort.fi/taipale/tapahtuma/pappilan-virkeat-vanhukset-35/
LOCATION:Viinijärven Vanha pappila\, Viinijärventie 7\, 83400
END:VEVENT
BEGIN:VEVENT
DTSTART;TZID=Europe/Helsinki:20250506T160000
DTEND;TZID=Europe/Helsinki:20250506T160000
DTSTAMP:20260419T155645
CREATED:20250423T101147Z
LAST-MODIFIED:20250423T101147Z
UID:28841-1746547200-1746547200@ort.fi
SUMMARY:Lastenkerho Viinijärvellä
DESCRIPTION:Tiistaina 6.5. klo 16 Lastenkerho Viinijärven Vanhassa pappilassa. \nTervetuloa! \nLastenkerho -sivulle\n   
URL:https://ort.fi/taipale/tapahtuma/lastenkerho-viinijarvella-61/
LOCATION:Viinijärven Vanha pappila\, Viinijärventie 7\, 83400
END:VEVENT
BEGIN:VEVENT
DTSTART;TZID=Europe/Helsinki:20250507T100000
DTEND;TZID=Europe/Helsinki:20250507T100000
DTSTAMP:20260419T155645
CREATED:20250424T174735Z
LAST-MODIFIED:20250424T174735Z
UID:28859-1746612000-1746612000@ort.fi
SUMMARY:Säynelammen siivoustalkoot
DESCRIPTION:Keskiviikkona 7.5. klo 10 rukoushetki ja Säynelammen siivoustalkoot Säynelammen leirikeskuksessa. \nTervetuloa!\n   
URL:https://ort.fi/taipale/tapahtuma/saynelammen-siivoustalkoot-2/
LOCATION:Syvälahdentie 7\, Säynelammen Pyhän Johanneksen leirikeskus\, Sotkuma\, 83750
END:VEVENT
BEGIN:VEVENT
DTSTART;TZID=Europe/Helsinki:20250508T183000
DTEND;TZID=Europe/Helsinki:20250508T183000
DTSTAMP:20260419T155645
CREATED:20250424T170624Z
LAST-MODIFIED:20250424T174108Z
UID:28855-1746729000-1746729000@ort.fi
SUMMARY:Suomalais-ukrainalainen keskustelukerho
DESCRIPTION:Torstaina 8.5. klo 18.30 suomalais-ukrainalainen keskustelukerho Outokummun kirkon alakerrassa. \nTervetuloa! \nSuomalais-ukrainalainen keskustelukerho \n   
URL:https://ort.fi/taipale/tapahtuma/suomalais-ukrainalainen-keskustelukerho-6/
LOCATION:Kirkkopolku 3\, Outokummun Pyhän Hengen kirkko\, Outokumpu\, 83500
END:VEVENT
BEGIN:VEVENT
DTSTART;TZID=Europe/Helsinki:20250509T110000
DTEND;TZID=Europe/Helsinki:20250509T110000
DTSTAMP:20260419T155645
CREATED:20250424T173113Z
LAST-MODIFIED:20250424T173113Z
UID:28863-1746788400-1746788400@ort.fi
SUMMARY:Toukosiunaus ja äitienpäiväjuhla Outokummussa
DESCRIPTION:Perjantaina 9.5. klo 11 ekumeeninen toukosiunaus ja äitienpäiväjuhla Servolla\, Outokummussa. \nTervetuloa!\n   
URL:https://ort.fi/taipale/tapahtuma/toukosiunaus-ja-aitienpaivajuhla-outokummussa-4/
LOCATION:Kummunkatu 26\, Nuorisokahvila Servo\, Outokumpu
END:VEVENT
BEGIN:VEVENT
DTSTART;TZID=Europe/Helsinki:20250512T170000
DTEND;TZID=Europe/Helsinki:20250512T170000
DTSTAMP:20260419T155645
CREATED:20250428T092930Z
LAST-MODIFIED:20250428T092930Z
UID:28893-1747069200-1747069200@ort.fi
SUMMARY:Outokummun kirkon siivoustalkoot
DESCRIPTION:Maanantaina 12.5. klo 17 Outokummun kirkon ja ympäristön siivoustalkoot. \nTervetuloa!\n   
URL:https://ort.fi/taipale/tapahtuma/outokummun-kirkon-siivoustalkoot-4/
LOCATION:Kirkkopolku 3\, Outokummun Pyhän Hengen kirkko\, Outokumpu\, 83500
END:VEVENT
BEGIN:VEVENT
DTSTART;TZID=Europe/Helsinki:20250513T120000
DTEND;TZID=Europe/Helsinki:20250513T120000
DTSTAMP:20260419T155645
CREATED:20250429T155744Z
LAST-MODIFIED:20250429T155744Z
UID:28901-1747137600-1747137600@ort.fi
SUMMARY:Toukosiunaus Polvijärvellä
DESCRIPTION:Tiistaina 13.5. klo 12 Polvijärven ekumeeninen toukosiunaus\, Tapani ja Minna Mutanen\, Ruvaslahdentie 45. \nTervetuloa!\n   
URL:https://ort.fi/taipale/tapahtuma/toukosiunaus-polvijarvella/
END:VEVENT
BEGIN:VEVENT
DTSTART;TZID=Europe/Helsinki:20250513T160000
DTEND;TZID=Europe/Helsinki:20250513T160000
DTSTAMP:20260419T155645
CREATED:20250429T160007Z
LAST-MODIFIED:20250429T160007Z
UID:28905-1747152000-1747152000@ort.fi
SUMMARY:Lastenkerho Viinijärvellä
DESCRIPTION:Tiistaina 13.5. klo 16 Lastenkerho Viinijärven Vanhassa pappilassa. \nTervetuloa! \nLastenkerho -sivulle\n   
URL:https://ort.fi/taipale/tapahtuma/lastenkerho-viinijarvella-62/
LOCATION:Viinijärven Vanha pappila\, Viinijärventie 7\, 83400
END:VEVENT
BEGIN:VEVENT
DTSTART;TZID=Europe/Helsinki:20250513T170000
DTEND;TZID=Europe/Helsinki:20250513T170000
DTSTAMP:20260419T155645
CREATED:20250429T160251Z
LAST-MODIFIED:20250514T183615Z
UID:28909-1747155600-1747155600@ort.fi
SUMMARY:Liperin tsasounan siivoustalkoot
DESCRIPTION:Tiistaina 13.5. klo 17 Liperin tsasounan ja ympäristön siivoustalkoot. \nTervetuloa!\n   
URL:https://ort.fi/taipale/tapahtuma/liperin-tsasounan-siivoustalkoot-4/
LOCATION:Tsasounakuja 1\, Pyhän apostoli Andreaksen tsasouna\, Liperi\, 83100
END:VEVENT
BEGIN:VEVENT
DTSTART;TZID=Europe/Helsinki:20250515T183000
DTEND;TZID=Europe/Helsinki:20250515T183000
DTSTAMP:20260419T155645
CREATED:20250429T161111Z
LAST-MODIFIED:20250429T161111Z
UID:28921-1747333800-1747333800@ort.fi
SUMMARY:Suomalais-ukrainalainen keskustelukerho
DESCRIPTION:Torstaina 15.5. klo 18.30 suomalais-ukrainalainen keskustelukerho Outokummun kirkon alakerrassa. \nTervetuloa! \nSuomalais-ukrainalainen keskustelukerho \n   
URL:https://ort.fi/taipale/tapahtuma/suomalais-ukrainalainen-keskustelukerho-7/
LOCATION:Kirkkopolku 3\, Outokummun Pyhän Hengen kirkko\, Outokumpu\, 83500
END:VEVENT
BEGIN:VEVENT
DTSTART;TZID=Europe/Helsinki:20250516T100000
DTEND;TZID=Europe/Helsinki:20250516T150000
DTSTAMP:20260419T155645
CREATED:20250330T164359Z
LAST-MODIFIED:20250429T161228Z
UID:28627-1747389600-1747407600@ort.fi
SUMMARY:Käsityöpiiri
DESCRIPTION:Perjantaina 16.5. klo 10 Käsityöpiiri Outokummun ortodoksisen kirkon alakerran seurakuntasalilla. \nTervetuloa! \nYhteyshenkilö: Aila Malmivuori puh. 050 591 2799 \nMuut kokoontumisajat Käsityöpiiri -sivulla\n   
URL:https://ort.fi/taipale/tapahtuma/kasityopiiri-67/
LOCATION:Kirkkopolku 3\, Outokummun Pyhän Hengen kirkko\, Outokumpu\, 83500
END:VEVENT
BEGIN:VEVENT
DTSTART;TZID=Europe/Helsinki:20250517T100000
DTEND;TZID=Europe/Helsinki:20250517T160000
DTSTAMP:20260419T155645
CREATED:20250429T161505Z
LAST-MODIFIED:20250429T162154Z
UID:28925-1747476000-1747497600@ort.fi
SUMMARY:Ikonimaalauspiiri
DESCRIPTION:Lauantaina 17.5. klo 10 ikonimaalauspiiri Viinijärven Vanhassa pappilassa. \nIkonimaalauspiiri -sivulle.\n   
URL:https://ort.fi/taipale/tapahtuma/ikonimaalauspiiri-26/
LOCATION:Viinijärven Vanha pappila\, Viinijärventie 7\, 83400
END:VEVENT
BEGIN:VEVENT
DTSTART;TZID=Europe/Helsinki:20250519T180000
DTEND;TZID=Europe/Helsinki:20250519T180000
DTSTAMP:20260419T155645
CREATED:20250508T182639Z
LAST-MODIFIED:20250513T133102Z
UID:28969-1747677600-1747677600@ort.fi
SUMMARY:Valtuuston kokous
DESCRIPTION:Maanantaina 19.5. klo 18 seurakunnanvaltuuston kokous Juuan ortodoksisella seurakuntasalilla. \nKokouskutsu \n   
URL:https://ort.fi/taipale/tapahtuma/valtuuston-kokous/
LOCATION:Juuan ortodoksinen seurakuntatalo\, Laurilantie 9\, Juuka\, Suomi
END:VEVENT
BEGIN:VEVENT
DTSTART;TZID=Europe/Helsinki:20250520T100000
DTEND;TZID=Europe/Helsinki:20250520T100000
DTSTAMP:20260419T155645
CREATED:20250508T184025Z
LAST-MODIFIED:20250508T184025Z
UID:28975-1747735200-1747735200@ort.fi
SUMMARY:Toukosiunaus Liperissä
DESCRIPTION:Tiistaina 20.5. klo 10 toukosiunaus Liperissä\, Eija ja Pentti Hyttinen\, Lappilanniemi 12\, Roukalahti. \nTervetuloa!\n   
URL:https://ort.fi/taipale/tapahtuma/toukosiunaus-liperissa-2/
END:VEVENT
BEGIN:VEVENT
DTSTART;TZID=Europe/Helsinki:20250520T170000
DTEND;TZID=Europe/Helsinki:20250520T170000
DTSTAMP:20260419T155645
CREATED:20250414T080311Z
LAST-MODIFIED:20250507T133752Z
UID:28767-1747760400-1747760400@ort.fi
SUMMARY:Outokummun tiistaiseura
DESCRIPTION:Tiistaina 20.5. klo 17 Outokummun tiistaiseura kirkon alakerrassa. \nTervetuloa! \nTiistaiseurat -sivulle\n   
URL:https://ort.fi/taipale/tapahtuma/outokummun-tiistaiseura-56/
LOCATION:Kirkkopolku 3\, Outokummun Pyhän Hengen kirkko\, Outokumpu\, 83500
END:VEVENT
BEGIN:VEVENT
DTSTART;TZID=Europe/Helsinki:20250520T170000
DTEND;TZID=Europe/Helsinki:20250520T170000
DTSTAMP:20260419T155645
CREATED:20250507T133409Z
LAST-MODIFIED:20250514T183428Z
UID:28953-1747760400-1747760400@ort.fi
SUMMARY:Viinijärven kirkon siivoustalkoot
DESCRIPTION:Tiistaina 20.5. klo 17 Viinijärven kirkon ja ympäristön siivoustalkoot. \nTervetuloa!\n   
URL:https://ort.fi/taipale/tapahtuma/viinijarven-kirkon-siivoustalkoot-7/
LOCATION:Viinijärventie 8\, Viinijärven Jumalanäidin Tihvinäläisen ikonin kirkko\, Viinijärvi\, 83400
END:VEVENT
BEGIN:VEVENT
DTSTART;TZID=Europe/Helsinki:20250521T170000
DTEND;TZID=Europe/Helsinki:20250521T170000
DTSTAMP:20260419T155645
CREATED:20250507T133726Z
LAST-MODIFIED:20250514T183444Z
UID:28957-1747846800-1747846800@ort.fi
SUMMARY:Polvijärven hautausmaan siivoustalkoot
DESCRIPTION:Keskiviikkona 21.5. klo 17 Polvijärven ortodoksisen hautausmaan siivoustalkoot\, Kaavintie 12A . \nTervetuloa!\n   
URL:https://ort.fi/taipale/tapahtuma/polvijarven-hautausmaan-siivoustalkoot-3/
LOCATION:Kaavintie 12A\, Polvijärven ortodoksinen hautausmaa\, Polvijärvi\, 83700
END:VEVENT
BEGIN:VEVENT
DTSTART;TZID=Europe/Helsinki:20250522T120000
DTEND;TZID=Europe/Helsinki:20250522T120000
DTSTAMP:20260419T155645
CREATED:20250508T185149Z
LAST-MODIFIED:20250508T185149Z
UID:28979-1747915200-1747915200@ort.fi
SUMMARY:Toukosiunaus Sotkumassa
DESCRIPTION:Torstaina 22.5. klo 12 toukosiunaus Sotkumassa\, Hanna ja Kari Hjerpp\, Sotkumantie 20. \nTervetuloa!\n   
URL:https://ort.fi/taipale/tapahtuma/toukosiunaus-sotkumassa/
END:VEVENT
BEGIN:VEVENT
DTSTART;TZID=Europe/Helsinki:20250522T170000
DTEND;TZID=Europe/Helsinki:20250522T170000
DTSTAMP:20260419T155645
CREATED:20250507T134129Z
LAST-MODIFIED:20250514T183504Z
UID:28961-1747933200-1747933200@ort.fi
SUMMARY:Sotkuman hautausmaan siivoustalkoot
DESCRIPTION:Torstaina 22.5. klo 17 Sotkuman hautausmaan siivoustalkoot. \nTervetuloa!\n   
URL:https://ort.fi/taipale/tapahtuma/28961/
LOCATION:Malanintie 4\, Sotkuman tsasouna\, Sotkuma\, 83750
END:VEVENT
BEGIN:VEVENT
DTSTART;TZID=Europe/Helsinki:20250522T183000
DTEND;TZID=Europe/Helsinki:20250522T183000
DTSTAMP:20260419T155645
CREATED:20250508T185458Z
LAST-MODIFIED:20250508T185458Z
UID:28985-1747938600-1747938600@ort.fi
SUMMARY:Suomalais-ukrainalainen keskustelukerho
DESCRIPTION:Torstaina 22.5. klo 18.30 suomalais-ukrainalainen keskustelukerho Outokummun kirkon alakerrassa. \nTervetuloa! \nSuomalais-ukrainalainen keskustelukerho \n   
URL:https://ort.fi/taipale/tapahtuma/suomalais-ukrainalainen-keskustelukerho-8/
LOCATION:Kirkkopolku 3\, Outokummun Pyhän Hengen kirkko\, Outokumpu\, 83500
END:VEVENT
BEGIN:VEVENT
DTSTART;TZID=Europe/Helsinki:20250523T160000
DTEND;TZID=Europe/Helsinki:20250523T160000
DTSTAMP:20260419T155646
CREATED:20250508T185859Z
LAST-MODIFIED:20250508T185859Z
UID:28989-1748016000-1748016000@ort.fi
SUMMARY:Lastenkerho Viinijärvellä
DESCRIPTION:Perjantaina 23.5. klo 16 Lastenkerho Viinijärven Vanhassa pappilassa. \nTervetuloa! \nLastenkerho -sivulle\n   
URL:https://ort.fi/taipale/tapahtuma/lastenkerho-viinijarvella-63/
LOCATION:Viinijärven Vanha pappila\, Viinijärventie 7\, 83400
END:VEVENT
BEGIN:VEVENT
DTSTART;VALUE=DATE:20250526
DTEND;VALUE=DATE:20250528
DTSTAMP:20260419T155646
CREATED:20250514T174418Z
LAST-MODIFIED:20250514T174418Z
UID:29031-1748217600-1748390399@ort.fi
SUMMARY:Säynelammen leirikeskuksen praasniekka
DESCRIPTION:Säynelammen pyhän Johannes Venäläisen leirikeskuksen praasniekka  \nMa 26.5. klo 18 ehtoopalvelus ja vedenpyhitys\, iltateet\, omat makkarat mukaan\nTi 27.5. klo 9 liturgia \nTervetuloa!\n   
URL:https://ort.fi/taipale/tapahtuma/saynelammen-leirikeskuksen-praasniekka-2/
LOCATION:Syvälahdentie 7\, Säynelammen Pyhän Johanneksen leirikeskus\, Sotkuma\, 83750
END:VEVENT
END:VCALENDAR