BEGIN:VCALENDAR
VERSION:2.0
PRODID:-//Taipaleen ortodoksinen seurakunta - ECPv6.15.20//NONSGML v1.0//EN
CALSCALE:GREGORIAN
METHOD:PUBLISH
X-WR-CALNAME:Taipaleen ortodoksinen seurakunta
X-ORIGINAL-URL:https://ort.fi/taipale
X-WR-CALDESC:Tapahtumat Taipaleen ortodoksinen seurakunta
REFRESH-INTERVAL;VALUE=DURATION:PT1H
X-Robots-Tag:noindex
X-PUBLISHED-TTL:PT1H
BEGIN:VTIMEZONE
TZID:Europe/Helsinki
BEGIN:DAYLIGHT
TZOFFSETFROM:+0200
TZOFFSETTO:+0300
TZNAME:EEST
DTSTART:20240331T010000
END:DAYLIGHT
BEGIN:STANDARD
TZOFFSETFROM:+0300
TZOFFSETTO:+0200
TZNAME:EET
DTSTART:20241027T010000
END:STANDARD
BEGIN:DAYLIGHT
TZOFFSETFROM:+0200
TZOFFSETTO:+0300
TZNAME:EEST
DTSTART:20250330T010000
END:DAYLIGHT
BEGIN:STANDARD
TZOFFSETFROM:+0300
TZOFFSETTO:+0200
TZNAME:EET
DTSTART:20251026T010000
END:STANDARD
BEGIN:DAYLIGHT
TZOFFSETFROM:+0200
TZOFFSETTO:+0300
TZNAME:EEST
DTSTART:20260329T010000
END:DAYLIGHT
BEGIN:STANDARD
TZOFFSETFROM:+0300
TZOFFSETTO:+0200
TZNAME:EET
DTSTART:20261025T010000
END:STANDARD
END:VTIMEZONE
BEGIN:VEVENT
DTSTART;TZID=Europe/Helsinki:20250107T133000
DTEND;TZID=Europe/Helsinki:20250107T150000
DTSTAMP:20260419T230139
CREATED:20241213T191157Z
LAST-MODIFIED:20241223T183531Z
UID:27593-1736256600-1736262000@ort.fi
SUMMARY:Pappilan virkeät vanhukset
DESCRIPTION:Tiistaina 7.1. klo 13.30 Pappilan virkeät vanhukset Viinijärven Vanhassa pappilassa. \nTervetuloa! \nLisätietoa kokoontumisista Pappilan virkeät vanhukset -sivulla.\n   
URL:https://ort.fi/taipale/tapahtuma/pappilan-virkeat-vanhukset-31/
LOCATION:Viinijärven Vanha pappila\, Viinijärventie 7\, 83400
END:VEVENT
BEGIN:VEVENT
DTSTART;TZID=Europe/Helsinki:20250110T100000
DTEND;TZID=Europe/Helsinki:20250110T150000
DTSTAMP:20260419T230139
CREATED:20241216T205158Z
LAST-MODIFIED:20241229T161323Z
UID:27601-1736503200-1736521200@ort.fi
SUMMARY:Käsityöpiiri
DESCRIPTION:Perjantaina 10.1. klo 10 Käsityöpiiri Outokummun ortodoksisen kirkon alakerran seurakuntasalilla. \nTervetuloa! \nYhteyshenkilö: Aila Malmivuori puh. 050 591 2799 \nMuut kokoontumisajat Käsityöpiiri -sivulla\n   
URL:https://ort.fi/taipale/tapahtuma/kasityopiiri-63/
LOCATION:Kirkkopolku 3\, Outokummun Pyhän Hengen kirkko\, Outokumpu\, 83500
END:VEVENT
BEGIN:VEVENT
DTSTART;TZID=Europe/Helsinki:20250111T100000
DTEND;TZID=Europe/Helsinki:20250111T160000
DTSTAMP:20260419T230139
CREATED:20250104T105453Z
LAST-MODIFIED:20250104T105453Z
UID:27757-1736589600-1736611200@ort.fi
SUMMARY:Ikonimaalauspiiri
DESCRIPTION:Lauantaina 11.1. klo 10 ikonimaalauspiiri Viinijärven Vanhassa pappilassa. \nIkonimaalauspiiri -sivulle.\n   
URL:https://ort.fi/taipale/tapahtuma/ikonimaalauspiiri-22/
LOCATION:Viinijärven Vanha pappila\, Viinijärventie 7\, 83400
END:VEVENT
BEGIN:VEVENT
DTSTART;TZID=Europe/Helsinki:20250114T170000
DTEND;TZID=Europe/Helsinki:20250114T170000
DTSTAMP:20260419T230139
CREATED:20250104T105719Z
LAST-MODIFIED:20250104T105719Z
UID:27761-1736874000-1736874000@ort.fi
SUMMARY:Outokummun tiistaiseura
DESCRIPTION:Tiistaina 14.1. klo 17 Outokummun tiistaiseura kirkon alakerrassa. \nTervetuloa! \nTiistaiseurat -sivulle\n   
URL:https://ort.fi/taipale/tapahtuma/outokummun-tiistaiseura-52/
LOCATION:Kirkkopolku 3\, Outokummun Pyhän Hengen kirkko\, Outokumpu\, 83500
END:VEVENT
BEGIN:VEVENT
DTSTART;TZID=Europe/Helsinki:20250115T173000
DTEND;TZID=Europe/Helsinki:20250115T173000
DTSTAMP:20260419T230139
CREATED:20250107T162856Z
LAST-MODIFIED:20250107T162941Z
UID:27795-1736962200-1736962200@ort.fi
SUMMARY:Paginapiiri
DESCRIPTION:Keskiviikkona 15.1. klo 17.30 Paginapiiri Outokummun kirkon alakerrassa. \nTulgua terveh! \nKarjalankielen ja -kulttuurin piirin sivut\n   
URL:https://ort.fi/taipale/tapahtuma/paginapiiri-23/
LOCATION:Kirkkopolku 3\, Outokummun Pyhän Hengen kirkko\, Outokumpu\, 83500
END:VEVENT
BEGIN:VEVENT
DTSTART;TZID=Europe/Helsinki:20250115T180000
DTEND;TZID=Europe/Helsinki:20250115T180000
DTSTAMP:20260419T230139
CREATED:20241223T182259Z
LAST-MODIFIED:20250104T105924Z
UID:27691-1736964000-1736964000@ort.fi
SUMMARY:Viinijärven kinkerit
DESCRIPTION:Keskiviikkona 15.1. klo 18 Viinijärven kinkerit Timoi Munnen luona\, os. Viinijärventie 51. \nTervetuloa! \nTaipaleen kinkerit 2025 \n   
URL:https://ort.fi/taipale/tapahtuma/viinijarven-kinkerit/
END:VEVENT
BEGIN:VEVENT
DTSTART;TZID=Europe/Helsinki:20250119T100000
DTEND;TZID=Europe/Helsinki:20250119T100000
DTSTAMP:20260419T230139
CREATED:20250109T150452Z
LAST-MODIFIED:20250109T150452Z
UID:27819-1737280800-1737280800@ort.fi
SUMMARY:Ekumeeninen messu Liperissä
DESCRIPTION:Sunnuntaina 19.1. klo 10 ekumeeninen messu Liperin evl. kirkossa. \n \nKristittyjen ykseyden rukousviikko 2025 \n   
URL:https://ort.fi/taipale/tapahtuma/ekumeeninen-messu-liperissa/
LOCATION:Tutjuntie 1\, Liperin luterilainen kirkko\, Liperi\, 83100
END:VEVENT
BEGIN:VEVENT
DTSTART;TZID=Europe/Helsinki:20250119T170000
DTEND;TZID=Europe/Helsinki:20250119T170000
DTSTAMP:20260419T230139
CREATED:20250109T150816Z
LAST-MODIFIED:20250109T150816Z
UID:27823-1737306000-1737306000@ort.fi
SUMMARY:Ekumeeninen ristisaatto Outokummussa
DESCRIPTION:Sunnuntaina 19.1. klo 17 ekumeeninen ristisaatto Outokummun ortodoksiselta kirkolta luterilaiselle kirkolle. \n \nKristittyjen ykseyden rukousviikko 2025 \n   
URL:https://ort.fi/taipale/tapahtuma/ekumeeninen-ristisaatto-outokummussa-2/
LOCATION:Kirkkopolku 3\, Outokummun Pyhän Hengen kirkko\, Outokumpu\, 83500
END:VEVENT
BEGIN:VEVENT
DTSTART;TZID=Europe/Helsinki:20250119T170000
DTEND;TZID=Europe/Helsinki:20250119T170000
DTSTAMP:20260419T230139
CREATED:20250109T151717Z
LAST-MODIFIED:20250109T151717Z
UID:27827-1737306000-1737306000@ort.fi
SUMMARY:Ekumeeninen hartaus Polvijärvellä
DESCRIPTION:Sunnuntaina 19.1. klo 17 ekumeeninen hartaus Polvijärven luterilaisessa pappilassa. \n \nKristittyjen ykseyden rukousviikko 2025 \n   
URL:https://ort.fi/taipale/tapahtuma/ekumeeninen-hartaus-polvijarvella/
LOCATION:Pappilantie 6\, Polvijärven pappila\, Polvijärvi\, 83700
END:VEVENT
BEGIN:VEVENT
DTSTART;TZID=Europe/Helsinki:20250121T163000
DTEND;TZID=Europe/Helsinki:20250121T173000
DTSTAMP:20260419T230139
CREATED:20250109T152218Z
LAST-MODIFIED:20250109T152218Z
UID:27837-1737477000-1737480600@ort.fi
SUMMARY:Lastenkerho Viinijärvellä
DESCRIPTION:Tiistaina 21.1. klo 16.30 Lastenkerho Viinijärven Vanhassa pappilassa. \nTervetuloa! \nLastenkerho -sivulle\n   
URL:https://ort.fi/taipale/tapahtuma/lastenkerho-viinijarvella-48/
LOCATION:Viinijärven Vanha pappila\, Viinijärventie 7\, 83400
END:VEVENT
BEGIN:VEVENT
DTSTART;TZID=Europe/Helsinki:20250128T163000
DTEND;TZID=Europe/Helsinki:20250128T173000
DTSTAMP:20260419T230139
CREATED:20250116T145329Z
LAST-MODIFIED:20250116T145329Z
UID:27919-1738081800-1738085400@ort.fi
SUMMARY:Lastenkerho Viinijärvellä
DESCRIPTION:Tiistaina 28.1. klo 16.30 Lastenkerho Viinijärven Vanhassa pappilassa. \nTervetuloa! \nLastenkerho -sivulle\n   
URL:https://ort.fi/taipale/tapahtuma/lastenkerho-viinijarvella-49/
LOCATION:Viinijärven Vanha pappila\, Viinijärventie 7\, 83400
END:VEVENT
BEGIN:VEVENT
DTSTART;TZID=Europe/Helsinki:20250130T180000
DTEND;TZID=Europe/Helsinki:20250130T180000
DTSTAMP:20260419T230139
CREATED:20250112T175155Z
LAST-MODIFIED:20250116T145505Z
UID:27877-1738260000-1738260000@ort.fi
SUMMARY:Ylämyllyn/Liperin kinkerit
DESCRIPTION:Torstaina 30.1. klo 18 Ylämyllyn/Liperin kinkerit Hannu Mutasen luona\, os. Mastotie 10\, Salokylä. \nTervetuloa! \nTaipaleen kinkerit 2025 \n   
URL:https://ort.fi/taipale/tapahtuma/ylamyllyn-liperin-kinkerit/
END:VEVENT
END:VCALENDAR