BEGIN:VCALENDAR
VERSION:2.0
PRODID:-//Taipaleen ortodoksinen seurakunta - ECPv6.15.20//NONSGML v1.0//EN
CALSCALE:GREGORIAN
METHOD:PUBLISH
X-ORIGINAL-URL:https://ort.fi/taipale
X-WR-CALDESC:Tapahtumat Taipaleen ortodoksinen seurakunta
REFRESH-INTERVAL;VALUE=DURATION:PT1H
X-Robots-Tag:noindex
X-PUBLISHED-TTL:PT1H
BEGIN:VTIMEZONE
TZID:Europe/Helsinki
BEGIN:DAYLIGHT
TZOFFSETFROM:+0200
TZOFFSETTO:+0300
TZNAME:EEST
DTSTART:20230326T010000
END:DAYLIGHT
BEGIN:STANDARD
TZOFFSETFROM:+0300
TZOFFSETTO:+0200
TZNAME:EET
DTSTART:20231029T010000
END:STANDARD
BEGIN:DAYLIGHT
TZOFFSETFROM:+0200
TZOFFSETTO:+0300
TZNAME:EEST
DTSTART:20240331T010000
END:DAYLIGHT
BEGIN:STANDARD
TZOFFSETFROM:+0300
TZOFFSETTO:+0200
TZNAME:EET
DTSTART:20241027T010000
END:STANDARD
BEGIN:DAYLIGHT
TZOFFSETFROM:+0200
TZOFFSETTO:+0300
TZNAME:EEST
DTSTART:20250330T010000
END:DAYLIGHT
BEGIN:STANDARD
TZOFFSETFROM:+0300
TZOFFSETTO:+0200
TZNAME:EET
DTSTART:20251026T010000
END:STANDARD
END:VTIMEZONE
BEGIN:VEVENT
DTSTART;TZID=Europe/Helsinki:20241105T133000
DTEND;TZID=Europe/Helsinki:20241105T150000
DTSTAMP:20260420T022946
CREATED:20241028T172357Z
LAST-MODIFIED:20241028T172357Z
UID:27051-1730813400-1730818800@ort.fi
SUMMARY:Pappilan virkeät vanhukset
DESCRIPTION:Tiistaina 5.11. klo 13.30 Pappilan virkeät vanhukset Viinijärven Vanhassa pappilassa. \nTervetuloa! \nLisätietoa kokoontumisista Pappilan virkeät vanhukset -sivulla.\n   
URL:https://ort.fi/taipale/tapahtuma/pappilan-virkeat-vanhukset-29/
LOCATION:Viinijärven Vanha pappila\, Viinijärventie 7\, 83400
END:VEVENT
BEGIN:VEVENT
DTSTART;TZID=Europe/Helsinki:20241105T163000
DTEND;TZID=Europe/Helsinki:20241105T173000
DTSTAMP:20260420T022946
CREATED:20241028T173507Z
LAST-MODIFIED:20241028T173507Z
UID:27057-1730824200-1730827800@ort.fi
SUMMARY:Lastenkerho Viinijärvellä
DESCRIPTION:Tiistaina 5.11. klo 16.30 Lastenkerho Viinijärven Vanhassa pappilassa. \nTervetuloa! \nLastenkerho -sivulle \nLastenkerhossa syksyn aikana luonnonmateriaaleista tehtyjä askarteluja.
URL:https://ort.fi/taipale/tapahtuma/lastenkerho-viinijarvella-42/
LOCATION:Viinijärven Vanha pappila\, Viinijärventie 7\, 83400
END:VEVENT
BEGIN:VEVENT
DTSTART;TZID=Europe/Helsinki:20241108T100000
DTEND;TZID=Europe/Helsinki:20241108T150000
DTSTAMP:20260420T022946
CREATED:20240913T152944Z
LAST-MODIFIED:20241026T173418Z
UID:26703-1731060000-1731078000@ort.fi
SUMMARY:Käsityöpiiri
DESCRIPTION:Perjantaina 8.11. klo 10 Käsityöpiiri Outokummun ortodoksisen kirkon alakerran seurakuntasalilla. \nTervetuloa! \nYhteyshenkilö: Aila Malmivuori puh. 050 591 2799 \nMuut kokoontumisajat Käsityöpiiri -sivulla\n   
URL:https://ort.fi/taipale/tapahtuma/kasityopiiri-61/
LOCATION:Kirkkopolku 3\, Outokummun Pyhän Hengen kirkko\, Outokumpu\, 83500
END:VEVENT
BEGIN:VEVENT
DTSTART;TZID=Europe/Helsinki:20241109T100000
DTEND;TZID=Europe/Helsinki:20241109T160000
DTSTAMP:20260420T022946
CREATED:20241028T173914Z
LAST-MODIFIED:20241028T173914Z
UID:27069-1731146400-1731168000@ort.fi
SUMMARY:Ikonimaalauspiiri
DESCRIPTION:Lauantaina 9.11. klo 10-16 ikonimaalauspiiri Viinijärven Vanhassa pappilassa. \nIkonimaalauspiiri -sivulle.\n   
URL:https://ort.fi/taipale/tapahtuma/ikonimaalauspiiri-21/
LOCATION:Viinijärven Vanha pappila\, Viinijärventie 7\, 83400
END:VEVENT
BEGIN:VEVENT
DTSTART;TZID=Europe/Helsinki:20241111T180000
DTEND;TZID=Europe/Helsinki:20241111T180000
DTSTAMP:20260420T022946
CREATED:20241104T151740Z
LAST-MODIFIED:20241104T151740Z
UID:27133-1731348000-1731348000@ort.fi
SUMMARY:Seurakunnanvaltuuston kokous
DESCRIPTION:Taipaleen ortodoksisen seurakunnanvaltuuston kokous 11.11.2024. Paikka Juuan ortodoksinen seurakuntatalo\, Laurilantie 9. \nTaipaleen ortodoksisen seurakunnan valtuusto kokoontuu 11. marraskuuta klo 18 käsittelemään seurakunnan talousarviota ja toimintasuunnitelmaa. Seurakunnan verotuloiksi on arvioitu 600 000 €. Veroprosentti säilyy ennallaan 1\,85 prosentissa. Seurakunnalla on tuloja 923 370 € ja menoja -947386\, joten tulos on talousarviossa -24 016 € alijäämäinen. \nVuoden 2025 aikana tehdään kattava kiinteistöstrategia\, joka sisältää seurakunnan investointikyvyn ja investointitarpeet tuleville vuosille. Seurakunta on selvittänyt Juuan tsasounan kuntoa ja siihen liittyvät ratkaisut tehdään vuoden 2025 aikana. Vuonna 2026 kunnostetaan Viinijärven Vanhan pappilan ja Virkatalon katot. Juuan seurakuntasali maalataan vuonna 2025. \nToimintasuunnitelman ja talousarvion lisäksi seurakunnanvaltuusto käsittelee mm. esitykset luonnonsuojelualueen perustamisesta Sysmäjärven Louhi- ja Pikkusaareen sekä osallistumisesta METSO-suojeluohjelmaan. \nTuomas Järvelin\, kirkkoherra\n   
URL:https://ort.fi/taipale/tapahtuma/seurakunnanvaltuuston-kokous-18/
LOCATION:Juuan ortodoksinen seurakuntatalo\, Laurilantie 9\, Juuka\, Suomi
END:VEVENT
BEGIN:VEVENT
DTSTART;TZID=Europe/Helsinki:20241112T163000
DTEND;TZID=Europe/Helsinki:20241112T173000
DTSTAMP:20260420T022946
CREATED:20241104T155908Z
LAST-MODIFIED:20241104T155908Z
UID:27145-1731429000-1731432600@ort.fi
SUMMARY:Lastenkerho Viinijärvellä
DESCRIPTION:Tiistaina 12.11. klo 16.30 Lastenkerho Viinijärven Vanhassa pappilassa. \nTervetuloa! \nLastenkerho -sivulle\n   
URL:https://ort.fi/taipale/tapahtuma/lastenkerho-viinijarvella-43/
LOCATION:Viinijärven Vanha pappila\, Viinijärventie 7\, 83400
END:VEVENT
BEGIN:VEVENT
DTSTART;TZID=Europe/Helsinki:20241113T170000
DTEND;TZID=Europe/Helsinki:20241113T170000
DTSTAMP:20260420T022946
CREATED:20241026T170820Z
LAST-MODIFIED:20241107T185405Z
UID:27013-1731517200-1731517200@ort.fi
SUMMARY:Ortodoksisuus tutuksi
DESCRIPTION:Keskiviikkona 13.11. klo 17 vierailemme ikoninäyttelyssä\, Ortodoksinen kulttuurikeskus (os. Kauppakatu 44\, Joensuu). Ikonimaalari Helena-Saaristo Parovuori esittelee maalaamiaan ikoneita. Mukana kirkkoherra Tuomas Järvelin. \nTervetuloa! \nOrtodoksisuus tutuksi- kurssi perehtyy johonkin ortodoksisuuden alueeseen noin kerran kuukaudessa. Kurssille voivat tulla kaikki päivän teemasta kiinnostuneet.\n   
URL:https://ort.fi/taipale/tapahtuma/ortodoksisuus-tutuksi-2/
LOCATION:Ortodoksinen kulttuurikeskus\, Kauppakatu 44\, Joensuu\, 80100
ATTACH;FMTTYPE=image/jpeg:https://ort.fi/taipale/wp-content/uploads/2024/10/10000109111-scaled.jpg
END:VEVENT
BEGIN:VEVENT
DTSTART;TZID=Europe/Helsinki:20241117T160000
DTEND;TZID=Europe/Helsinki:20241117T160000
DTSTAMP:20260420T022946
CREATED:20241029T203018Z
LAST-MODIFIED:20241029T203018Z
UID:27075-1731859200-1731859200@ort.fi
SUMMARY:Ekumeeninen konsertti
DESCRIPTION:   
URL:https://ort.fi/taipale/tapahtuma/ekumeeninen-konsertti/
LOCATION:Tutjuntie 1\, Liperin luterilainen kirkko\, Liperi\, 83100
END:VEVENT
BEGIN:VEVENT
DTSTART;TZID=Europe/Helsinki:20241119T163000
DTEND;TZID=Europe/Helsinki:20241119T173000
DTSTAMP:20260420T022946
CREATED:20241107T190916Z
LAST-MODIFIED:20241107T190916Z
UID:27163-1732033800-1732037400@ort.fi
SUMMARY:Lastenkerho Viinijärvellä
DESCRIPTION:Tiistaina 19.11. klo 16.30 Lastenkerho Viinijärven Vanhassa pappilassa. \nTervetuloa! \nLastenkerho -sivulle\n   
URL:https://ort.fi/taipale/tapahtuma/lastenkerho-viinijarvella-44/
LOCATION:Viinijärven Vanha pappila\, Viinijärventie 7\, 83400
END:VEVENT
BEGIN:VEVENT
DTSTART;TZID=Europe/Helsinki:20241119T170000
DTEND;TZID=Europe/Helsinki:20241119T190000
DTSTAMP:20260420T022946
CREATED:20241006T145945Z
LAST-MODIFIED:20241107T191010Z
UID:26873-1732035600-1732042800@ort.fi
SUMMARY:Outokummun tiistaiseura
DESCRIPTION:Tiistaina 19.11. klo 17 Outokummun tiistaiseura kirkon alakerrassa. \nTervetuloa! \nTiistaiseurat -sivulle\n   
URL:https://ort.fi/taipale/tapahtuma/outokummun-tiistaiseura-51/
LOCATION:Kirkkopolku 3\, Outokummun Pyhän Hengen kirkko\, Outokumpu\, 83500
END:VEVENT
BEGIN:VEVENT
DTSTART;VALUE=DATE:20241120
DTEND;VALUE=DATE:20241121
DTSTAMP:20260420T022946
CREATED:20240913T160645Z
LAST-MODIFIED:20241111T093546Z
UID:26729-1732060800-1732147199@ort.fi
SUMMARY:Paginapiiri
DESCRIPTION:Keskiviikkona 20.11. Paginapiiri\, retki Salokylään (ei kirkon alakerta). Lisätietoa Marjatta Ruotsalainen p .0400 176985. \nTulgua terveh! \nKarjalankielen ja -kulttuurin piirin sivut\n   
URL:https://ort.fi/taipale/tapahtuma/paginapiiri-22/
END:VEVENT
BEGIN:VEVENT
DTSTART;TZID=Europe/Helsinki:20241126T163000
DTEND;TZID=Europe/Helsinki:20241126T173000
DTSTAMP:20260420T022946
CREATED:20241115T191057Z
LAST-MODIFIED:20241115T191057Z
UID:27341-1732638600-1732642200@ort.fi
SUMMARY:Lastenkerho Viinijärvellä
DESCRIPTION:Tiistaina 26.11. klo 16.30 Lastenkerho Viinijärven Vanhassa pappilassa. \nTervetuloa! \nLastenkerho -sivulle\n   
URL:https://ort.fi/taipale/tapahtuma/lastenkerho-viinijarvella-45/
LOCATION:Viinijärven Vanha pappila\, Viinijärventie 7\, 83400
END:VEVENT
END:VCALENDAR