BEGIN:VCALENDAR
VERSION:2.0
PRODID:-//Taipaleen ortodoksinen seurakunta - ECPv6.15.20//NONSGML v1.0//EN
CALSCALE:GREGORIAN
METHOD:PUBLISH
X-ORIGINAL-URL:https://ort.fi/taipale
X-WR-CALDESC:Tapahtumat Taipaleen ortodoksinen seurakunta
REFRESH-INTERVAL;VALUE=DURATION:PT1H
X-Robots-Tag:noindex
X-PUBLISHED-TTL:PT1H
BEGIN:VTIMEZONE
TZID:Europe/Helsinki
BEGIN:DAYLIGHT
TZOFFSETFROM:+0200
TZOFFSETTO:+0300
TZNAME:EEST
DTSTART:20230326T010000
END:DAYLIGHT
BEGIN:STANDARD
TZOFFSETFROM:+0300
TZOFFSETTO:+0200
TZNAME:EET
DTSTART:20231029T010000
END:STANDARD
BEGIN:DAYLIGHT
TZOFFSETFROM:+0200
TZOFFSETTO:+0300
TZNAME:EEST
DTSTART:20240331T010000
END:DAYLIGHT
BEGIN:STANDARD
TZOFFSETFROM:+0300
TZOFFSETTO:+0200
TZNAME:EET
DTSTART:20241027T010000
END:STANDARD
BEGIN:DAYLIGHT
TZOFFSETFROM:+0200
TZOFFSETTO:+0300
TZNAME:EEST
DTSTART:20250330T010000
END:DAYLIGHT
BEGIN:STANDARD
TZOFFSETFROM:+0300
TZOFFSETTO:+0200
TZNAME:EET
DTSTART:20251026T010000
END:STANDARD
END:VTIMEZONE
BEGIN:VEVENT
DTSTART;TZID=Europe/Helsinki:20240831T140000
DTEND;TZID=Europe/Helsinki:20240901T120000
DTSTAMP:20260420T053609
CREATED:20240830T124013Z
LAST-MODIFIED:20240830T124647Z
UID:26545-1725112800-1725192000@ort.fi
SUMMARY:Peruttu - Entisten nuorten leiri
DESCRIPTION:Entisten nuorten leiri Säynelammen leirikeskuksessa 31.8.-1.9. on peruttu vähäisen osallistujamäärän takia.\n   
URL:https://ort.fi/taipale/tapahtuma/peruttu-entisten-nuorten-leiri/
LOCATION:Syvälahdentie 7\, Säynelammen Pyhän Johanneksen leirikeskus\, Sotkuma\, 83750
END:VEVENT
BEGIN:VEVENT
DTSTART;TZID=Europe/Helsinki:20240901T120000
DTEND;TZID=Europe/Helsinki:20240901T120000
DTSTAMP:20260420T053609
CREATED:20240815T175200Z
LAST-MODIFIED:20240815T175200Z
UID:26449-1725192000-1725192000@ort.fi
SUMMARY:Seurakunnan suunnittelupäivä
DESCRIPTION:Sunnuntaina 1.9. klo 12 seurakunnan suunnittelupäivä Säynelammen leirikeskuksessa. \nTervetuloa mukaan suunnittelemaan seurakunnan tulevaa toimintaa!\n   
URL:https://ort.fi/taipale/tapahtuma/seurakunnan-suunnittelupaiva/
LOCATION:Syvälahdentie 7\, Säynelammen Pyhän Johanneksen leirikeskus\, Sotkuma\, 83750
END:VEVENT
BEGIN:VEVENT
DTSTART;TZID=Europe/Helsinki:20240903T120000
DTEND;TZID=Europe/Helsinki:20240903T120000
DTSTAMP:20260420T053609
CREATED:20240822T141237Z
LAST-MODIFIED:20240822T141237Z
UID:26483-1725364800-1725364800@ort.fi
SUMMARY:Pappilan virkeät vanhukset
DESCRIPTION:Tiistaina 3.9. klo 12 (Huom. aika)  Pappilan virkeät vanhukset Viinijärven Vanhassa pappilassa. \nKauden avaus ja keittolounas. \nTervetuloa! \nLisätietoa kokoontumisista Pappilan virkeät vanhukset -sivulla.\n   
URL:https://ort.fi/taipale/tapahtuma/pappilan-virkeat-vanhukset-27/
LOCATION:Viinijärven Vanha pappila\, Viinijärventie 7\, 83400
END:VEVENT
BEGIN:VEVENT
DTSTART;TZID=Europe/Helsinki:20240903T163000
DTEND;TZID=Europe/Helsinki:20240903T173000
DTSTAMP:20260420T053609
CREATED:20240825T181117Z
LAST-MODIFIED:20240825T181117Z
UID:26515-1725381000-1725384600@ort.fi
SUMMARY:Lastenkerho Viinijärvellä
DESCRIPTION:Tiistaina 3.9. klo 16.30 Lastenkerho Viinijärven Vanhassa pappilassa. \nTervetuloa! \nLastenkerho -sivulle\n   
URL:https://ort.fi/taipale/tapahtuma/lastenkerho-viinijarvella-36/
LOCATION:Viinijärven Vanha pappila\, Viinijärventie 7\, 83400
END:VEVENT
BEGIN:VEVENT
DTSTART;TZID=Europe/Helsinki:20240907T100000
DTEND;TZID=Europe/Helsinki:20240907T160000
DTSTAMP:20260420T053609
CREATED:20240822T141933Z
LAST-MODIFIED:20240822T142259Z
UID:26491-1725703200-1725724800@ort.fi
SUMMARY:Ikonimaalauspiiri
DESCRIPTION:Lauantaina 7.9. klo 10-16 ikonimaalauspiiri Viinijärven Vanhassa pappilassa. \nIkonimaalauspiiri -sivulle.\n   
URL:https://ort.fi/taipale/tapahtuma/ikonimaalauspiiri-19/
LOCATION:Viinijärven Vanha pappila\, Viinijärventie 7\, 83400
END:VEVENT
BEGIN:VEVENT
DTSTART;TZID=Europe/Helsinki:20240907T130000
DTEND;TZID=Europe/Helsinki:20240907T130000
DTSTAMP:20260420T053609
CREATED:20240822T142642Z
LAST-MODIFIED:20240822T142940Z
UID:26495-1725714000-1725714000@ort.fi
SUMMARY:Ekumeeninen sadonsiunaus
DESCRIPTION:Lauantaina 7.9. klo 13 ekumeeninen sadonsiunaus Jyrin hoivakodissa. \nTervetuloa!\n   
URL:https://ort.fi/taipale/tapahtuma/ekumeeninen-sadonsiunaus/
END:VEVENT
BEGIN:VEVENT
DTSTART;TZID=Europe/Helsinki:20240910T163000
DTEND;TZID=Europe/Helsinki:20240910T173000
DTSTAMP:20260420T053609
CREATED:20240902T153228Z
LAST-MODIFIED:20240902T153228Z
UID:26561-1725985800-1725989400@ort.fi
SUMMARY:Lastenkerho Viinijärvellä
DESCRIPTION:Tiistaina 10.9. klo 16.30 Lastenkerho Viinijärven Vanhassa pappilassa. \nTervetuloa! \nLastenkerho -sivulle\n   
URL:https://ort.fi/taipale/tapahtuma/lastenkerho-viinijarvella-37/
LOCATION:Viinijärven Vanha pappila\, Viinijärventie 7\, 83400
END:VEVENT
BEGIN:VEVENT
DTSTART;TZID=Europe/Helsinki:20240916T173000
DTEND;TZID=Europe/Helsinki:20240916T173000
DTSTAMP:20260420T053609
CREATED:20240904T151647Z
LAST-MODIFIED:20240904T151647Z
UID:26591-1726507800-1726507800@ort.fi
SUMMARY:Viron ortodoksien sõbrad ry:n kokous
DESCRIPTION:Maanantaina 16.9. klo 17.30 Viron ortodoksien sõbrad ry:n kokous Viinijärven Vanhassa Pappilassa. \nTervetuloa!\n   
URL:https://ort.fi/taipale/tapahtuma/viron-ortodoksien-sobrad-ryn-kokous/
LOCATION:Viinijärven Vanha pappila\, Viinijärventie 7\, 83400
END:VEVENT
BEGIN:VEVENT
DTSTART;TZID=Europe/Helsinki:20240917T180000
DTEND;TZID=Europe/Helsinki:20240917T200000
DTSTAMP:20260420T053609
CREATED:20240904T151916Z
LAST-MODIFIED:20240909T130524Z
UID:26595-1726596000-1726603200@ort.fi
SUMMARY:Outokummun tiistaiseura
DESCRIPTION:Tiistaina 17.9. klo 18 Outokummun tiistaiseura Outokummun kirkon alakerrassa. Rukoushetki työhön ryhdyttäessä. Mukana isä Tuomas. \nTervetuloa!\n   
URL:https://ort.fi/taipale/tapahtuma/outokummun-tiistaiseura-45/
LOCATION:Kirkkopolku 3\, Outokummun Pyhän Hengen kirkko\, Outokumpu\, 83500
END:VEVENT
BEGIN:VEVENT
DTSTART;TZID=Europe/Helsinki:20240918T173000
DTEND;TZID=Europe/Helsinki:20240918T173000
DTSTAMP:20260420T053609
CREATED:20240904T152122Z
LAST-MODIFIED:20240904T155927Z
UID:26599-1726680600-1726680600@ort.fi
SUMMARY:Paginapiiri
DESCRIPTION:Keskiviikkona 18.9. klo 17.30 Paginapiiri Outokummun kirkon alakerrassa. \nTulgua terveh! \nKarjalankielen ja -kulttuurin piirin sivut\n   
URL:https://ort.fi/taipale/tapahtuma/paginapiiri-20/
LOCATION:Kirkkopolku 3\, Outokummun Pyhän Hengen kirkko\, Outokumpu\, 83500
END:VEVENT
BEGIN:VEVENT
DTSTART;TZID=Europe/Helsinki:20240921T160000
DTEND;TZID=Europe/Helsinki:20240921T160000
DTSTAMP:20260420T053609
CREATED:20240829T184621Z
LAST-MODIFIED:20240829T184621Z
UID:26535-1726934400-1726934400@ort.fi
SUMMARY:Ortodoksisuus tutuksi kurssi
DESCRIPTION:Ortodoksisuus tutuksi kurssi alkaa lauantaina 21.9.2024 klo 16 Viinijärven Vanhassa Pappilassa\, teemana kirkkomusiikki. \nKurssi kokoontuu noin kerran kuukaudessa ja on avoin kaikille uskontokunnasta riippumatta. \nTervetuloa!\n   
URL:https://ort.fi/taipale/tapahtuma/ortodoksisuus-tutuksi-kurssi/
LOCATION:Viinijärven Vanha pappila\, Viinijärventie 7\, 83400
END:VEVENT
BEGIN:VEVENT
DTSTART;TZID=Europe/Helsinki:20240925T160000
DTEND;TZID=Europe/Helsinki:20240925T160000
DTSTAMP:20260420T053609
CREATED:20240913T154134Z
LAST-MODIFIED:20240916T123627Z
UID:26715-1727280000-1727280000@ort.fi
SUMMARY:Liperin tiistaiseura
DESCRIPTION:Keskiviikkona 25.9. klo 15 Liperin tiistaiseura Heikki Piiroisella\, Haiskuntie 21 C\, Roukalahti. \nTervetuloa!\n   
URL:https://ort.fi/taipale/tapahtuma/liperin-tiistaiseura-6/
END:VEVENT
END:VCALENDAR