BEGIN:VCALENDAR
VERSION:2.0
PRODID:-//Taipaleen ortodoksinen seurakunta - ECPv6.15.20//NONSGML v1.0//EN
CALSCALE:GREGORIAN
METHOD:PUBLISH
X-ORIGINAL-URL:https://ort.fi/taipale
X-WR-CALDESC:Tapahtumat Taipaleen ortodoksinen seurakunta
REFRESH-INTERVAL;VALUE=DURATION:PT1H
X-Robots-Tag:noindex
X-PUBLISHED-TTL:PT1H
BEGIN:VTIMEZONE
TZID:Europe/Helsinki
BEGIN:DAYLIGHT
TZOFFSETFROM:+0200
TZOFFSETTO:+0300
TZNAME:EEST
DTSTART:20230326T010000
END:DAYLIGHT
BEGIN:STANDARD
TZOFFSETFROM:+0300
TZOFFSETTO:+0200
TZNAME:EET
DTSTART:20231029T010000
END:STANDARD
BEGIN:DAYLIGHT
TZOFFSETFROM:+0200
TZOFFSETTO:+0300
TZNAME:EEST
DTSTART:20240331T010000
END:DAYLIGHT
BEGIN:STANDARD
TZOFFSETFROM:+0300
TZOFFSETTO:+0200
TZNAME:EET
DTSTART:20241027T010000
END:STANDARD
BEGIN:DAYLIGHT
TZOFFSETFROM:+0200
TZOFFSETTO:+0300
TZNAME:EEST
DTSTART:20250330T010000
END:DAYLIGHT
BEGIN:STANDARD
TZOFFSETFROM:+0300
TZOFFSETTO:+0200
TZNAME:EET
DTSTART:20251026T010000
END:STANDARD
END:VTIMEZONE
BEGIN:VEVENT
DTSTART;TZID=Europe/Helsinki:20240401T100000
DTEND;TZID=Europe/Helsinki:20240401T100000
DTSTAMP:20260420T132026
CREATED:20240327T203303Z
LAST-MODIFIED:20240327T203303Z
UID:25103-1711965600-1711965600@ort.fi
SUMMARY:Lasten pääsiäinen Sotkumassa
DESCRIPTION:Liturgia Sotkuman tsasounassa ma 1.4. klo 10\, jonka jälkeen yhteinen lounas ja lasten temppurata Sotkuman koululla.\n   \n   
URL:https://ort.fi/taipale/tapahtuma/lasten-paasiainen-sotkumassa-4/
LOCATION:Malanintie 4\, Sotkuman tsasouna\, Sotkuma\, 83750
END:VEVENT
BEGIN:VEVENT
DTSTART;TZID=Europe/Helsinki:20240402T133000
DTEND;TZID=Europe/Helsinki:20240402T150000
DTSTAMP:20260420T132026
CREATED:20240317T172832Z
LAST-MODIFIED:20240317T172832Z
UID:24967-1712064600-1712070000@ort.fi
SUMMARY:Pappilan virkeät vanhukset
DESCRIPTION:Tiistaina 2.4. klo 13.30 Pappilan virkeät vanhukset Viinijärven Vanhassa pappilassa. \nTervetuloa! \nLisätietoa kokoontumisista Pappilan virkeät vanhukset -sivulla.\n   
URL:https://ort.fi/taipale/tapahtuma/pappilan-virkeat-vanhukset-25/
LOCATION:Viinijärven Vanha pappila\, Viinijärventie 7\, 83400
END:VEVENT
BEGIN:VEVENT
DTSTART;TZID=Europe/Helsinki:20240402T180000
DTEND;TZID=Europe/Helsinki:20240402T200000
DTSTAMP:20260420T132026
CREATED:20240107T191937Z
LAST-MODIFIED:20240317T173547Z
UID:24213-1712080800-1712088000@ort.fi
SUMMARY:Outokummun tiistaiseura
DESCRIPTION:Tiistaina 2.4. klo 18 Outokummun tiistaiseura kirkon alakerrassa. \nTervetuloa! \nMuut kevään 2024 kokoontumiset Tiistaiseurat -sivulla\n   
URL:https://ort.fi/taipale/tapahtuma/outokummun-tiistaiseura-46/
LOCATION:Kirkkopolku 3\, Outokummun Pyhän Hengen kirkko\, Outokumpu\, 83500
END:VEVENT
BEGIN:VEVENT
DTSTART;TZID=Europe/Helsinki:20240409T170000
DTEND;TZID=Europe/Helsinki:20240409T180000
DTSTAMP:20260420T132026
CREATED:20240328T212802Z
LAST-MODIFIED:20240328T212802Z
UID:25129-1712682000-1712685600@ort.fi
SUMMARY:Lastenkerho Viinijärvellä
DESCRIPTION:Tiistaina 9.4. klo 17 Lastenkerho Viinijärven pappilassa. \nTervetuloa! \nLastenkerho -sivulle\n   
URL:https://ort.fi/taipale/tapahtuma/lastenkerho-viinijarvella-29/
LOCATION:Viinijärven Vanha pappila\, Viinijärventie 7\, 83400
END:VEVENT
BEGIN:VEVENT
DTSTART;TZID=Europe/Helsinki:20240409T173000
DTEND;TZID=Europe/Helsinki:20240409T173000
DTSTAMP:20260420T132026
CREATED:20240324T174024Z
LAST-MODIFIED:20240324T174048Z
UID:25027-1712683800-1712683800@ort.fi
SUMMARY:Outokummun kirkon 70 v. juhlan suunnittelu
DESCRIPTION:Tiistaina 9.4. klo 17.30 Outokummun kirkon 70-vuotisjuhlan suunnittelua kirkon alakerran seurakuntasalilla. \nTervetuloa!\n   
URL:https://ort.fi/taipale/tapahtuma/outokummun-kirkon-70-v-juhlan-suunnittelu/
LOCATION:Kirkkopolku 3\, Outokummun Pyhän Hengen kirkko\, Outokumpu\, 83500
END:VEVENT
BEGIN:VEVENT
DTSTART;TZID=Europe/Helsinki:20240412T140000
DTEND;TZID=Europe/Helsinki:20240412T180000
DTSTAMP:20260420T132026
CREATED:20231216T183823Z
LAST-MODIFIED:20240330T132217Z
UID:24031-1712930400-1712944800@ort.fi
SUMMARY:Leivontakerho
DESCRIPTION:Perjantaina 12.4. klo 14 suomalais-ukrainalainen leivontakerho Outokummun kirkon alakerrassa. \nEnnakkoilmoittautumiset: Pirjo Pöllänen\, puh 050 518 3806. \nLeivontakerho -sivulle \n   
URL:https://ort.fi/taipale/tapahtuma/leivontakerho-15/
LOCATION:Kirkkopolku 3\, Outokummun Pyhän Hengen kirkko\, Outokumpu\, 83500
END:VEVENT
BEGIN:VEVENT
DTSTART;TZID=Europe/Helsinki:20240413T100000
DTEND;TZID=Europe/Helsinki:20240413T130000
DTSTAMP:20260420T132026
CREATED:20240330T131932Z
LAST-MODIFIED:20240403T174506Z
UID:25159-1713002400-1713013200@ort.fi
SUMMARY:Aurinkokerho
DESCRIPTION:Lauantaina 13.4. klo 10-13 Aurinkokerho\, kerho osallistuu liturgiaan\, Viinijärven kirkko ja Viinijärven Vanha Pappila. \nLisätietoa kerhosta Aurinkokerho -sivulla.\n   
URL:https://ort.fi/taipale/tapahtuma/aurinkokerho-11/
LOCATION:Viinijärventie 8\, Viinijärven Jumalanäidin Tihvinäläisen ikonin kirkko\, Viinijärvi\, 83400
END:VEVENT
BEGIN:VEVENT
DTSTART;TZID=Europe/Helsinki:20240414T140000
DTEND;TZID=Europe/Helsinki:20240414T140000
DTSTAMP:20260420T132026
CREATED:20240330T132158Z
LAST-MODIFIED:20240330T132158Z
UID:25163-1713103200-1713103200@ort.fi
SUMMARY:Sõbrad ry:n vuosikokous
DESCRIPTION:Sunnuntaina 14.4. klo 14 Viron ortodoksien sõbrad ry:n vuosikokous Viinijärven Pappilassa. \nTervetuloa!\n   
URL:https://ort.fi/taipale/tapahtuma/sobrad-ryn-vuosikokous-2/
LOCATION:Viinijärven Vanha pappila\, Viinijärventie 7\, 83400
END:VEVENT
BEGIN:VEVENT
DTSTART;TZID=Europe/Helsinki:20240416T170000
DTEND;TZID=Europe/Helsinki:20240416T180000
DTSTAMP:20260420T132026
CREATED:20240403T180024Z
LAST-MODIFIED:20240409T172022Z
UID:25251-1713286800-1713290400@ort.fi
SUMMARY:Lastenkerho Viinijärvellä
DESCRIPTION:Tiistaina 16.4. klo 17-18 Lastenkerho Viinijärven Vanhassa pappilassa. \nTervetuloa! \nLastenkerho -sivulle\n   
URL:https://ort.fi/taipale/tapahtuma/lastenkerho-viinijarvella-30/
LOCATION:Viinijärven Vanha pappila\, Viinijärventie 7\, 83400
END:VEVENT
BEGIN:VEVENT
DTSTART;TZID=Europe/Helsinki:20240417T143000
DTEND;TZID=Europe/Helsinki:20240417T143000
DTSTAMP:20260420T132026
CREATED:20240403T174907Z
LAST-MODIFIED:20240405T174331Z
UID:25241-1713364200-1713364200@ort.fi
SUMMARY:Polvijärven tiistaiseura
DESCRIPTION:Keskiviikkona 17.4. klo 14.30 Polvijärven tiistaiseura Koivikon Pirtissä. Päivi kanttori laulattaa. \nTervetuloa!\n   
URL:https://ort.fi/taipale/tapahtuma/polvijarven-tiistaiseura-26/
END:VEVENT
BEGIN:VEVENT
DTSTART;TZID=Europe/Helsinki:20240417T173000
DTEND;TZID=Europe/Helsinki:20240417T190000
DTSTAMP:20260420T132026
CREATED:20231206T171248Z
LAST-MODIFIED:20240405T174355Z
UID:23891-1713375000-1713380400@ort.fi
SUMMARY:Paginapiiri
DESCRIPTION:Keskiviikkona 17.4. klo 17.30 Paginapiiri Outokummun kirkon alakerrassa. \nTulgua terveh! \nKarjalankielen ja -kulttuurin piirin sivut\n   
URL:https://ort.fi/taipale/tapahtuma/paginapiiri-19/
LOCATION:Kirkkopolku 3\, Outokummun Pyhän Hengen kirkko\, Outokumpu\, 83500
END:VEVENT
BEGIN:VEVENT
DTSTART;TZID=Europe/Helsinki:20240419T100000
DTEND;TZID=Europe/Helsinki:20240419T150000
DTSTAMP:20260420T132026
CREATED:20231216T182626Z
LAST-MODIFIED:20240405T174415Z
UID:24007-1713520800-1713538800@ort.fi
SUMMARY:Käsityöpiiri
DESCRIPTION:Perjantaina 19.4. klo 10 Käsityöpiiri Outokummun ortodoksisen kirkon alakerran seurakuntasalilla. \nTervetuloa! \nYhteyshenkilö: Aila Malmivuori puh. 050 591 2799 \nMuut kokoontumisajat Käsityöpiiri -sivulla\n   
URL:https://ort.fi/taipale/tapahtuma/kasityopiiri-58/
LOCATION:Kirkkopolku 3\, Outokummun Pyhän Hengen kirkko\, Outokumpu\, 83500
END:VEVENT
BEGIN:VEVENT
DTSTART;TZID=Europe/Helsinki:20240420T100000
DTEND;TZID=Europe/Helsinki:20240420T160000
DTSTAMP:20260420T132026
CREATED:20240403T175405Z
LAST-MODIFIED:20240405T174827Z
UID:25247-1713607200-1713628800@ort.fi
SUMMARY:Ikonimaalauspiiri
DESCRIPTION:Lauantaina 20.4. klo 10-16 ikonimaalauspiiri Viinijärven Vanhassa pappilassa. \nIkonimaalauspiiri -sivulle.\n   
URL:https://ort.fi/taipale/tapahtuma/ikonimaalauspiiri-17/
LOCATION:Viinijärven Vanha pappila\, Viinijärventie 7\, 83400
END:VEVENT
BEGIN:VEVENT
DTSTART;TZID=Europe/Helsinki:20240421T080000
DTEND;TZID=Europe/Helsinki:20240421T080000
DTSTAMP:20260420T132026
CREATED:20240329T101200Z
LAST-MODIFIED:20240406T104719Z
UID:25137-1713686400-1713686400@ort.fi
SUMMARY:Seurakuntamatka Ilomantsiin
DESCRIPTION:Tervetuloa mukaan seurakuntaretkelle Ilomantsiin pyhän Elian kirkkoon su 21.4.2024! \nOsallistumme Ilomantsissa liturgiaan\, joka lauletaan antifonisesti kahdella kuorolla. Liturgian jälkeen Ilomantsin tiistaiseura tarjoaa soppalounaan ja kahvit. Seurakunta järjestää bussikyydin Ilomantsiin ja takaisin. Bussi maksaa 10e/hlö\, tai perhe yli 3 hlöä 30e. Maksu kerätään linja-autossa. \nIlmoittaudu mukaan viim 12.4. sähköpostilla taipale@ort.fi tai puhelimitse tai tekstiviestillä 050 471 8130 (ma ja to 9‐12). Ilmoita lähtijöiden nimet\, ja mistä tulette kyytiin. \nBussi lähtee:\n8.00 Outokumpu linja-autoasema\n8.15 Viinijärvi linja-autoasema\n8.25 Käsämän Teboil\n8.35 Ylämyllyn Shell\nTakaisin lähdetään iltapäivällä lounaan ja seurustelun jälkeen. \n 
URL:https://ort.fi/taipale/tapahtuma/seurakuntamatka-ilomantsiin/
LOCATION:Pyhän profeetta Elian kirkko\, Kirkkotie 15\, Ilomantsi\, 82900
END:VEVENT
BEGIN:VEVENT
DTSTART;TZID=Europe/Helsinki:20240423T170000
DTEND;TZID=Europe/Helsinki:20240423T180000
DTSTAMP:20260420T132026
CREATED:20240415T173022Z
LAST-MODIFIED:20240415T173022Z
UID:25361-1713891600-1713895200@ort.fi
SUMMARY:Lastenkerho Viinijärvellä
DESCRIPTION:Tiistaina 23.4. klo 17-18 Lastenkerho Viinijärven Vanhassa pappilassa. \nTervetuloa! \nLastenkerho -sivulle\n   
URL:https://ort.fi/taipale/tapahtuma/lastenkerho-viinijarvella-31/
LOCATION:Viinijärven Vanha pappila\, Viinijärventie 7\, 83400
END:VEVENT
BEGIN:VEVENT
DTSTART;TZID=Europe/Helsinki:20240427T100000
DTEND;TZID=Europe/Helsinki:20240427T100000
DTSTAMP:20260420T132026
CREATED:20240425T084151Z
LAST-MODIFIED:20240425T084151Z
UID:25477-1714212000-1714212000@ort.fi
SUMMARY:Kansallisen veteraanipäivän ohjelma Outokummussa
DESCRIPTION:Lauantaina 27.4. Kansallisen veteraanipäivän ekumeeninen ohjelma alkaa klo 10 kiitosrukouksella Outokummun ortodoksisessa kirkossa\, Kirkkopolku 3.\nKlo 10.45 seppeleenlasku Kuusjärven kirkon sankarimuistomerkillä. \nTervetuloa mukaan kansallisen veteraanipäivän ohjelmaan!\n   
URL:https://ort.fi/taipale/tapahtuma/kansallisen-veteraanipaivan-ohjelma-outokummussa/
END:VEVENT
BEGIN:VEVENT
DTSTART;TZID=Europe/Helsinki:20240430T170000
DTEND;TZID=Europe/Helsinki:20240430T180000
DTSTAMP:20260420T132026
CREATED:20240420T102415Z
LAST-MODIFIED:20240423T144611Z
UID:25383-1714496400-1714500000@ort.fi
SUMMARY:Lastenkerho Viinijärvellä
DESCRIPTION:Tiistaina 30.4. klo 17-18 Lastenkerho Viinijärven Vanhassa pappilassa. \nTervetuloa! \nLastenkerho -sivulle\n   
URL:https://ort.fi/taipale/tapahtuma/lastenkerho-viinijarvella-32/
LOCATION:Viinijärven Vanha pappila\, Viinijärventie 7\, 83400
END:VEVENT
END:VCALENDAR