BEGIN:VCALENDAR
VERSION:2.0
PRODID:-//Taipaleen ortodoksinen seurakunta - ECPv6.15.20//NONSGML v1.0//EN
CALSCALE:GREGORIAN
METHOD:PUBLISH
X-ORIGINAL-URL:https://ort.fi/taipale
X-WR-CALDESC:Tapahtumat Taipaleen ortodoksinen seurakunta
REFRESH-INTERVAL;VALUE=DURATION:PT1H
X-Robots-Tag:noindex
X-PUBLISHED-TTL:PT1H
BEGIN:VTIMEZONE
TZID:Europe/Helsinki
BEGIN:DAYLIGHT
TZOFFSETFROM:+0200
TZOFFSETTO:+0300
TZNAME:EEST
DTSTART:20220327T010000
END:DAYLIGHT
BEGIN:STANDARD
TZOFFSETFROM:+0300
TZOFFSETTO:+0200
TZNAME:EET
DTSTART:20221030T010000
END:STANDARD
BEGIN:DAYLIGHT
TZOFFSETFROM:+0200
TZOFFSETTO:+0300
TZNAME:EEST
DTSTART:20230326T010000
END:DAYLIGHT
BEGIN:STANDARD
TZOFFSETFROM:+0300
TZOFFSETTO:+0200
TZNAME:EET
DTSTART:20231029T010000
END:STANDARD
BEGIN:DAYLIGHT
TZOFFSETFROM:+0200
TZOFFSETTO:+0300
TZNAME:EEST
DTSTART:20240331T010000
END:DAYLIGHT
BEGIN:STANDARD
TZOFFSETFROM:+0300
TZOFFSETTO:+0200
TZNAME:EET
DTSTART:20241027T010000
END:STANDARD
END:VTIMEZONE
BEGIN:VEVENT
DTSTART;TZID=Europe/Helsinki:20231202T163000
DTEND;TZID=Europe/Helsinki:20231202T180000
DTSTAMP:20260422T152612
CREATED:20231120T134908Z
LAST-MODIFIED:20231120T134908Z
UID:23663-1701534600-1701540000@ort.fi
SUMMARY:Joululauluilta Sotkumassa
DESCRIPTION:Lauantaina 2.12. klo 16.30 kaikille avoin joululauluilta Sotkuman tsasounassa\, glögit ja piparit. \nTervetuloa!\n   
URL:https://ort.fi/taipale/tapahtuma/joululauluilta-sotkumassa/
LOCATION:Malanintie 4\, Sotkuman tsasouna\, Sotkuma\, 83750
END:VEVENT
BEGIN:VEVENT
DTSTART;TZID=Europe/Helsinki:20231205T133000
DTEND;TZID=Europe/Helsinki:20231205T150000
DTSTAMP:20260422T152612
CREATED:20231127T160104Z
LAST-MODIFIED:20231127T160104Z
UID:23725-1701783000-1701788400@ort.fi
SUMMARY:Pappilan virkeät vanhukset
DESCRIPTION:Tiistaina 5.12. klo 13.30 Pappilan virkeät vanhukset Viinijärven Vanhassa pappilassa. \nTervetuloa! \nLisätietoa kokoontumisista Pappilan virkeät vanhukset -sivulla.\n   
URL:https://ort.fi/taipale/tapahtuma/pappilan-virkeat-vanhukset-21/
LOCATION:Viinijärven Vanha pappila\, Viinijärventie 7\, 83400
END:VEVENT
BEGIN:VEVENT
DTSTART;TZID=Europe/Helsinki:20231205T170000
DTEND;TZID=Europe/Helsinki:20231205T180000
DTSTAMP:20260422T152612
CREATED:20231127T160303Z
LAST-MODIFIED:20231127T160303Z
UID:23731-1701795600-1701799200@ort.fi
SUMMARY:Lastenkerho Viinijärvellä
DESCRIPTION:Tiistaina 5.12. klo 17 Lastenkerho Viinijärven pappilassa. \nLastenkerho -sivulle\n   
URL:https://ort.fi/taipale/tapahtuma/lastenkerho-viinijarvella-19/
LOCATION:Viinijärven Vanha pappila\, Viinijärventie 7\, 83400
END:VEVENT
BEGIN:VEVENT
DTSTART;TZID=Europe/Helsinki:20231207T120000
DTEND;TZID=Europe/Helsinki:20231207T120000
DTSTAMP:20260422T152612
CREATED:20231127T160644Z
LAST-MODIFIED:20231127T160644Z
UID:23735-1701950400-1701950400@ort.fi
SUMMARY:Polvijärven tiistaiseuran joulujuhla
DESCRIPTION:Torstaina 7.12. klo 12 Polvijärven tiistaiseuran joulujuhla Pirkko Kuosmasella\, Hanhilammella. Mukana isä Nemanja. \nTervetuloa!\n   
URL:https://ort.fi/taipale/tapahtuma/polvijarven-tiistaiseuran-joulujuhla/
END:VEVENT
BEGIN:VEVENT
DTSTART;TZID=Europe/Helsinki:20231208T100000
DTEND;TZID=Europe/Helsinki:20231208T150000
DTSTAMP:20260422T152612
CREATED:20230803T084846Z
LAST-MODIFIED:20231126T165339Z
UID:22497-1702029600-1702047600@ort.fi
SUMMARY:Käsityöpiiri
DESCRIPTION:Perjantaina 8.12. klo 10 Käsityöpiiri Outokummun ortodoksisen kirkon alakerran seurakuntasalilla. \nTervetuloa! \nYhteyshenkilö: Aila Malmivuori puh. 050 591 2799 \nMuut kokoontumisajat Käsityöpiiri -sivulla\n   
URL:https://ort.fi/taipale/tapahtuma/kasityopiiri-54/
LOCATION:Kirkkopolku 3\, Outokummun Pyhän Hengen kirkko\, Outokumpu\, 83500
END:VEVENT
BEGIN:VEVENT
DTSTART;TZID=Europe/Helsinki:20231209T093000
DTEND;TZID=Europe/Helsinki:20231209T160000
DTSTAMP:20260422T152612
CREATED:20231130T144917Z
LAST-MODIFIED:20231130T144917Z
UID:23757-1702114200-1702137600@ort.fi
SUMMARY:Ikonimaalauspiiri
DESCRIPTION:Lauantaina 9.12. klo 9.30-16 Taipaleen ikonimaalauspiiri kokoontuu poikkeuksellisesti Joensuun ort. seurakunnan kerhotilassa. \nTiedustelut Helena Saaristo-Parovuori\, puh. 050 574 2671 \nTulevat kokoontumiset Ikonimaalauspiiri -sivulla.
URL:https://ort.fi/taipale/tapahtuma/ikonimaalauspiiri-13/
LOCATION:Kirkkokatu 32\, Joensuun ortodoksinen seurakuntasali\, Joensuu\, 80100
END:VEVENT
BEGIN:VEVENT
DTSTART;TZID=Europe/Helsinki:20231210T100000
DTEND;TZID=Europe/Helsinki:20231210T120000
DTSTAMP:20260422T152612
CREATED:20231127T161258Z
LAST-MODIFIED:20231127T161258Z
UID:23739-1702202400-1702209600@ort.fi
SUMMARY:Aurinkokerho
DESCRIPTION:Sunnuntaina 10.12. aurinkokerholaiset osallistuvat Ylämyllyn yläkoululla (Laavupolku 2) klo 10 alkavaan liturgiaan. Liturgian jälkeen kirkkokahvit.\n   
URL:https://ort.fi/taipale/tapahtuma/aurinkokerho-9/
END:VEVENT
BEGIN:VEVENT
DTSTART;TZID=Europe/Helsinki:20231212T170000
DTEND;TZID=Europe/Helsinki:20231212T180000
DTSTAMP:20260422T152612
CREATED:20231204T154513Z
LAST-MODIFIED:20231204T154642Z
UID:23821-1702400400-1702404000@ort.fi
SUMMARY:Lastenkerho Viinijärvellä
DESCRIPTION:Tiistaina 12.12. klo 17 Lastenkerho Viinijärven pappilassa. Kauden päättäjäiset. \nLastenkerho -sivulle\n   
URL:https://ort.fi/taipale/tapahtuma/lastenkerho-viinijarvella-20/
LOCATION:Viinijärven Vanha pappila\, Viinijärventie 7\, 83400
END:VEVENT
BEGIN:VEVENT
DTSTART;TZID=Europe/Helsinki:20231212T170000
DTEND;TZID=Europe/Helsinki:20231212T200000
DTSTAMP:20260422T152612
CREATED:20230920T165216Z
LAST-MODIFIED:20231203T163445Z
UID:23035-1702400400-1702411200@ort.fi
SUMMARY:Puurojuhla Outokummun kirkolla
DESCRIPTION:Tiistaina 12.12. klo 17 Outokummun toimintapiirien yhteinen puurojuhla Outokummun ortodoksisen kirkon alakerran seurakuntasalilla. \nTervetuloa! \nTiistaiseurat -sivulle\n   
URL:https://ort.fi/taipale/tapahtuma/puurojuhla-outokummun-kirkolla-5/
LOCATION:Kirkkopolku 3\, Outokummun Pyhän Hengen kirkko\, Outokumpu\, 83500
END:VEVENT
BEGIN:VEVENT
DTSTART;TZID=Europe/Helsinki:20231213T173000
DTEND;TZID=Europe/Helsinki:20231213T173000
DTSTAMP:20260422T152612
CREATED:20231204T154950Z
LAST-MODIFIED:20231211T145905Z
UID:23829-1702488600-1702488600@ort.fi
SUMMARY:Ekumeeninen joululauluilta Viinijärvellä
DESCRIPTION:Keskiviikkona 13.12. klo 17.30–19 ekumeeninen joululauluilta\, Viinijärven pappila. Mukana evl. seurakunnasta pastori Kati Rannanmaa ja kanttori Hannele Sorvali. \nGlögitarjoilu. Tervetuloa!\n   
URL:https://ort.fi/taipale/tapahtuma/ekumeeninen-joululauluilta-viinijarvella/
LOCATION:Viinijärven Vanha pappila\, Viinijärventie 7\, 83400
END:VEVENT
BEGIN:VEVENT
DTSTART;TZID=Europe/Helsinki:20231214T180000
DTEND;TZID=Europe/Helsinki:20231214T180000
DTSTAMP:20260422T152612
CREATED:20231127T161515Z
LAST-MODIFIED:20231127T161515Z
UID:23745-1702576800-1702576800@ort.fi
SUMMARY:Sotkuman Tiistaiseuran ylimääräinen vuosikokous
DESCRIPTION:Torstaina 14.12. klo 18 Sotkuman Tiistaiseuran ylimääräinen vuosikokous Niinan luona. Ylimääräisessä vuosikokouksessa päätetään Sotkuman Tiistaiseuran yhdistyksen lopettamisesta. \nTervetuloa!\n   
URL:https://ort.fi/taipale/tapahtuma/sotkuman-tiistaiseuran-ylimaarainen-vuosikokous/
END:VEVENT
BEGIN:VEVENT
DTSTART;TZID=Europe/Helsinki:20231214T180000
DTEND;TZID=Europe/Helsinki:20231214T180000
DTSTAMP:20260422T152612
CREATED:20231203T172715Z
LAST-MODIFIED:20231203T172715Z
UID:23801-1702576800-1702576800@ort.fi
SUMMARY:Hiljaiset askeleet Kristuksen syntymäluolaan
DESCRIPTION:Torstaina 14.12. klo 18 Vanhan Kaivoksen tunnelissa\, Tornikatu 1\, Outokumpu. \nRistisaatto lähtee valaistuin lyhdyin tunnelin Kummunkadun päästä luolaan\, jossa hartaushetki. Lisäksi glögitarjoilu ja joululauluja. \nTervetuloa! Ota mukaan oma lyhty! \nJärj. Taipaleen ortodoksisen seurakunnan vapaaehtoiset. \n\n   
URL:https://ort.fi/taipale/tapahtuma/hiljaiset-askeleet-kristuksen-syntymaluolaan/
END:VEVENT
BEGIN:VEVENT
DTSTART;TZID=Europe/Helsinki:20231215T140000
DTEND;TZID=Europe/Helsinki:20231215T180000
DTSTAMP:20260422T152612
CREATED:20230803T083656Z
LAST-MODIFIED:20231203T163523Z
UID:22475-1702648800-1702663200@ort.fi
SUMMARY:Leivontakerho
DESCRIPTION:Perjantaina 15.12. klo 14 suomalais-ukrainalainen leivontakerho Outokummun kirkon alakerrassa. \nEnnakkoilmoittautumiset: Anna-Maija Leiman\, puh 050 375 5916. \nLeivontakerho -sivulle \n   
URL:https://ort.fi/taipale/tapahtuma/leivontakerho-11/
LOCATION:Kirkkopolku 3\, Outokummun Pyhän Hengen kirkko\, Outokumpu\, 83500
END:VEVENT
BEGIN:VEVENT
DTSTART;TZID=Europe/Helsinki:20231219T150000
DTEND;TZID=Europe/Helsinki:20231219T150000
DTSTAMP:20260422T152612
CREATED:20231211T140717Z
LAST-MODIFIED:20231211T140717Z
UID:23945-1702998000-1702998000@ort.fi
SUMMARY:Viinijärven kirkon ystävät
DESCRIPTION:Tiistaina 19.12. klo 15 Kirkon ystävät\, Viinijärven kirkko. Koristellaan kirkko juhlaan. \nTervetuloa mukaan toimintaan uudet ja vanhat kirkon ystävät!\n   
URL:https://ort.fi/taipale/tapahtuma/viinijarven-kirkon-ystavat-5/
LOCATION:Viinijärventie 8\, Viinijärven Jumalanäidin Tihvinäläisen ikonin kirkko\, Viinijärvi\, 83400
END:VEVENT
BEGIN:VEVENT
DTSTART;TZID=Europe/Helsinki:20231220T173000
DTEND;TZID=Europe/Helsinki:20231220T173000
DTSTAMP:20260422T152612
CREATED:20231211T141037Z
LAST-MODIFIED:20231215T161027Z
UID:23949-1703093400-1703093400@ort.fi
SUMMARY:Kirkkokuoroyhdistyksen ylimääräinen kokous
DESCRIPTION:Keskiviikkona 20.12. klo 17.30 Taipaleen kirkkokuoroyhdistyksen ylimääräinen kokous ravintola Gaijussa. Kokouksessa päätetään yhdistyksen purkamisesta.\n   
URL:https://ort.fi/taipale/tapahtuma/kirkkokuoroyhdistyksen-ylimaarainen-kokous/
LOCATION:Ravintola Gáiju\, Vaiviontie 75 a\, Vaivio\, 83450
END:VEVENT
END:VCALENDAR