BEGIN:VCALENDAR
VERSION:2.0
PRODID:-//Taipaleen ortodoksinen seurakunta - ECPv6.15.20//NONSGML v1.0//EN
CALSCALE:GREGORIAN
METHOD:PUBLISH
X-ORIGINAL-URL:https://ort.fi/taipale
X-WR-CALDESC:Tapahtumat Taipaleen ortodoksinen seurakunta
REFRESH-INTERVAL;VALUE=DURATION:PT1H
X-Robots-Tag:noindex
X-PUBLISHED-TTL:PT1H
BEGIN:VTIMEZONE
TZID:Europe/Helsinki
BEGIN:DAYLIGHT
TZOFFSETFROM:+0200
TZOFFSETTO:+0300
TZNAME:EEST
DTSTART:20220327T010000
END:DAYLIGHT
BEGIN:STANDARD
TZOFFSETFROM:+0300
TZOFFSETTO:+0200
TZNAME:EET
DTSTART:20221030T010000
END:STANDARD
BEGIN:DAYLIGHT
TZOFFSETFROM:+0200
TZOFFSETTO:+0300
TZNAME:EEST
DTSTART:20230326T010000
END:DAYLIGHT
BEGIN:STANDARD
TZOFFSETFROM:+0300
TZOFFSETTO:+0200
TZNAME:EET
DTSTART:20231029T010000
END:STANDARD
BEGIN:DAYLIGHT
TZOFFSETFROM:+0200
TZOFFSETTO:+0300
TZNAME:EEST
DTSTART:20240331T010000
END:DAYLIGHT
BEGIN:STANDARD
TZOFFSETFROM:+0300
TZOFFSETTO:+0200
TZNAME:EET
DTSTART:20241027T010000
END:STANDARD
END:VTIMEZONE
BEGIN:VEVENT
DTSTART;TZID=Europe/Helsinki:20231003T133000
DTEND;TZID=Europe/Helsinki:20231003T150000
DTSTAMP:20260422T190204
CREATED:20230925T161829Z
LAST-MODIFIED:20230925T161829Z
UID:23061-1696339800-1696345200@ort.fi
SUMMARY:Pappilan virkeät vanhukset
DESCRIPTION:Tiistaina 3.10. klo 13.30 Pappilan virkeät vanhukset Viinijärven Vanhassa pappilassa. \nTervetuloa! \nLisätietoa kokoontumisista Pappilan virkeät vanhukset -sivulla.\n   
URL:https://ort.fi/taipale/tapahtuma/pappilan-virkeat-vanhukset-19/
LOCATION:Viinijärven Vanha pappila\, Viinijärventie 7\, 83400
END:VEVENT
BEGIN:VEVENT
DTSTART;TZID=Europe/Helsinki:20231003T170000
DTEND;TZID=Europe/Helsinki:20231003T180000
DTSTAMP:20260422T190204
CREATED:20230925T163308Z
LAST-MODIFIED:20230925T164426Z
UID:23067-1696352400-1696356000@ort.fi
SUMMARY:Lastenkerho Viinijärvellä
DESCRIPTION:Tiistaina 3.10. klo 17 Lastenkerho Viinijärven pappilassa. \nLastenkerho -sivulle\n   
URL:https://ort.fi/taipale/tapahtuma/lastenkerho-viinijarvella-11/
LOCATION:Viinijärven Vanha pappila\, Viinijärventie 7\, 83400
END:VEVENT
BEGIN:VEVENT
DTSTART;TZID=Europe/Helsinki:20231006T140000
DTEND;TZID=Europe/Helsinki:20231006T180000
DTSTAMP:20260422T190204
CREATED:20230803T083223Z
LAST-MODIFIED:20230921T185855Z
UID:22459-1696600800-1696615200@ort.fi
SUMMARY:Leivontakerho
DESCRIPTION:Perjantaina 6.10. klo 14 suomalais-ukrainalainen leivontakerho Outokummun kirkon alakerrassa. \nEnnakkoilmoittautumiset: Anna-Maija Leiman\, puh 050 375 5916. \nLeivontakerho -sivulle \n   
URL:https://ort.fi/taipale/tapahtuma/leivontakerho-9/
LOCATION:Kirkkopolku 3\, Outokummun Pyhän Hengen kirkko\, Outokumpu\, 83500
END:VEVENT
BEGIN:VEVENT
DTSTART;TZID=Europe/Helsinki:20231010T180000
DTEND;TZID=Europe/Helsinki:20231010T200000
DTSTAMP:20260422T190204
CREATED:20230920T163842Z
LAST-MODIFIED:20231001T171539Z
UID:23023-1696960800-1696968000@ort.fi
SUMMARY:Outokummun tiistaiseura
DESCRIPTION:Tiistaina 10.10. klo 18 Outokummun tiistaiseura kirkon alakerrassa. \nTervetuloa! \nTiistaiseurat -sivulle\n   
URL:https://ort.fi/taipale/tapahtuma/outokummun-tiistaiseura-41/
LOCATION:Kirkkopolku 3\, Outokummun Pyhän Hengen kirkko\, Outokumpu\, 83500
END:VEVENT
BEGIN:VEVENT
DTSTART;TZID=Europe/Helsinki:20231011T170000
DTEND;TZID=Europe/Helsinki:20231011T180000
DTSTAMP:20260422T190204
CREATED:20231002T161738Z
LAST-MODIFIED:20231009T153009Z
UID:23135-1697043600-1697047200@ort.fi
SUMMARY:PERUTTU Lastenkerho Viinijärvellä
DESCRIPTION:Keskiviikkona 11.10. klo 17 Viinijärven pappilassa aiemmin kokoontuvaksi ilmoitettu Lastenkerho on peruttu. \nLastenkerho -sivulle\n   
URL:https://ort.fi/taipale/tapahtuma/lastenkerho-viinijarvella-12/
LOCATION:Viinijärven Vanha pappila\, Viinijärventie 7\, 83400
END:VEVENT
BEGIN:VEVENT
DTSTART;TZID=Europe/Helsinki:20231013T100000
DTEND;TZID=Europe/Helsinki:20231013T150000
DTSTAMP:20260422T190204
CREATED:20230803T084458Z
LAST-MODIFIED:20231001T171608Z
UID:22489-1697191200-1697209200@ort.fi
SUMMARY:Käsityöpiiri
DESCRIPTION:Perjantaina 13.10. klo 10 Käsityöpiiri Outokummun ortodoksisen kirkon alakerran seurakuntasalilla. \nTervetuloa! \nYhteyshenkilö: Aila Malmivuori puh. 050 591 2799 \nMuut kokoontumisajat Käsityöpiiri -sivulla\n   
URL:https://ort.fi/taipale/tapahtuma/kasityopiiri-52/
LOCATION:Kirkkopolku 3\, Outokummun Pyhän Hengen kirkko\, Outokumpu\, 83500
END:VEVENT
BEGIN:VEVENT
DTSTART;TZID=Europe/Helsinki:20231014T093000
DTEND;TZID=Europe/Helsinki:20231014T160000
DTSTAMP:20260422T190204
CREATED:20230906T172247Z
LAST-MODIFIED:20231001T171628Z
UID:22861-1697275800-1697299200@ort.fi
SUMMARY:Ikonimaalauspiiri
DESCRIPTION:Lauantaina 14.10. klo 9.30-16 ikonimaalauspiiri Viinijärven Vanhassa pappilassa. \nTiedustelut Helena Saaristo-Parovuori\, puh. 050 574 2671 \nTulevat kokoontumiset Ikonimaalauspiiri -sivulla.\n   
URL:https://ort.fi/taipale/tapahtuma/ikonimaalauspiiri-10/
LOCATION:Viinijärven Vanha pappila\, Viinijärventie 7\, 83400
END:VEVENT
BEGIN:VEVENT
DTSTART;TZID=Europe/Helsinki:20231018T173000
DTEND;TZID=Europe/Helsinki:20231018T190000
DTSTAMP:20260422T190204
CREATED:20230908T173439Z
LAST-MODIFIED:20231009T160521Z
UID:22923-1697650200-1697655600@ort.fi
SUMMARY:Paginapiiri
DESCRIPTION:Keskiviikkona 18.10. klo 17.30 Paginapiiri Outokummun kirkon alakerrassa. \nTulgua terveh! \nKarjalankielen ja -kulttuurin piirin sivut\n   
URL:https://ort.fi/taipale/tapahtuma/paginapiiri-14/
LOCATION:Kirkkopolku 3\, Outokummun Pyhän Hengen kirkko\, Outokumpu\, 83500
END:VEVENT
BEGIN:VEVENT
DTSTART;TZID=Europe/Helsinki:20231022T140000
DTEND;TZID=Europe/Helsinki:20231022T140000
DTSTAMP:20260422T190204
CREATED:20231009T153851Z
LAST-MODIFIED:20231009T153851Z
UID:23161-1697983200-1697983200@ort.fi
SUMMARY:Söbrad ry:n syystapahtuma
DESCRIPTION:Sunnuntaina 22.10. klo 14 Viron ortodoksien Söbrad ry:n syystapahtuma Viinijärven pappilassa. Kahvittelua\, käsityömyyntiä\, arpajaiset\, kuulumisia Obinitsasta ja kesän ikonileiriltä. \nTervetuloa!\n   
URL:https://ort.fi/taipale/tapahtuma/sobrad-ryn-syystapahtuma/
LOCATION:Viinijärven Vanha pappila\, Viinijärventie 7\, 83400
END:VEVENT
BEGIN:VEVENT
DTSTART;TZID=Europe/Helsinki:20231023T143000
DTEND;TZID=Europe/Helsinki:20231023T143000
DTSTAMP:20260422T190204
CREATED:20231016T131236Z
LAST-MODIFIED:20231016T131236Z
UID:23203-1698071400-1698071400@ort.fi
SUMMARY:Polvijärven tiistaiseura
DESCRIPTION:Maanantaina 23.10. klo 14.30 Polvijärven tiistaiseura Koivikon pirtissä\, mukana isä Tuomas ja kanttori Päivi. \nTervetuloa! \nTiistaiseurat sivulle\n   
URL:https://ort.fi/taipale/tapahtuma/polvijarven-tiistaiseura-24/
END:VEVENT
BEGIN:VEVENT
DTSTART;TZID=Europe/Helsinki:20231024T120000
DTEND;TZID=Europe/Helsinki:20231024T120000
DTSTAMP:20260422T190204
CREATED:20231016T131722Z
LAST-MODIFIED:20231016T131722Z
UID:23207-1698148800-1698148800@ort.fi
SUMMARY:Sotkuman tiistaiseura
DESCRIPTION:Tiistaina 24.10. klo 12 Sotkuman tiistaiseura Aarre Saukkosen luona\, Solantie 37. Mukana isä Tuomas ja kanttori Päivi. \nTervetuloa! \nTiistaiseurat sivulle\n   
URL:https://ort.fi/taipale/tapahtuma/sotkuman-tiistaiseura-6/
END:VEVENT
BEGIN:VEVENT
DTSTART;TZID=Europe/Helsinki:20231024T170000
DTEND;TZID=Europe/Helsinki:20231024T180000
DTSTAMP:20260422T190204
CREATED:20231016T132156Z
LAST-MODIFIED:20231016T132156Z
UID:23211-1698166800-1698170400@ort.fi
SUMMARY:Lastenkerho Viinijärvellä
DESCRIPTION:Tiistaina 24.10. klo 17 Lastenkerho Viinijärven pappilassa. \nLastenkerho -sivulle\n   
URL:https://ort.fi/taipale/tapahtuma/lastenkerho-viinijarvella-13/
LOCATION:Viinijärven Vanha pappila\, Viinijärventie 7\, 83400
END:VEVENT
BEGIN:VEVENT
DTSTART;TZID=Europe/Helsinki:20231026T170000
DTEND;TZID=Europe/Helsinki:20231026T170000
DTSTAMP:20260422T190204
CREATED:20231016T133035Z
LAST-MODIFIED:20231016T150232Z
UID:23217-1698339600-1698339600@ort.fi
SUMMARY:Isä Nemanjan luento Serbian kirkosta
DESCRIPTION:Torstaina 26.10. klo 17 Viinijärven pappilassa kaikille avoin isä Nemanjan luento Serbian kirkosta sekä kuulumisia Montenegrosta. \nTeetarjoilu. Tervetuloa! \nJärjestäjinä Ylämyllyn ja Liperin tiistaiseurat\n   
URL:https://ort.fi/taipale/tapahtuma/isa-nemanjan-luento-serbian-kirkosta/
LOCATION:Viinijärven Vanha pappila\, Viinijärventie 7\, 83400
END:VEVENT
BEGIN:VEVENT
DTSTART;TZID=Europe/Helsinki:20231031T170000
DTEND;TZID=Europe/Helsinki:20231031T180000
DTSTAMP:20260422T190204
CREATED:20231023T135453Z
LAST-MODIFIED:20231023T135453Z
UID:23269-1698771600-1698775200@ort.fi
SUMMARY:Lastenkerho Viinijärvellä
DESCRIPTION:Tiistaina 31.10. klo 17 Lastenkerho Viinijärven pappilassa. \nLastenkerho -sivulle\n   
URL:https://ort.fi/taipale/tapahtuma/lastenkerho-viinijarvella-14/
LOCATION:Viinijärven Vanha pappila\, Viinijärventie 7\, 83400
END:VEVENT
BEGIN:VEVENT
DTSTART;TZID=Europe/Helsinki:20231031T180000
DTEND;TZID=Europe/Helsinki:20231031T200000
DTSTAMP:20260422T190204
CREATED:20230920T164704Z
LAST-MODIFIED:20231022T170837Z
UID:23027-1698775200-1698782400@ort.fi
SUMMARY:Outokummun tiistaiseura
DESCRIPTION:Tiistaina 31.10. klo 18 Outokummun tiistaiseura kirkon alakerrassa\, mukana kanttori Päivi. \nTervetuloa! \nTiistaiseurat -sivulle\n   
URL:https://ort.fi/taipale/tapahtuma/outokummun-tiistaiseura-42/
LOCATION:Kirkkopolku 3\, Outokummun Pyhän Hengen kirkko\, Outokumpu\, 83500
END:VEVENT
END:VCALENDAR