BEGIN:VCALENDAR
VERSION:2.0
PRODID:-//Taipaleen ortodoksinen seurakunta - ECPv6.15.20//NONSGML v1.0//EN
CALSCALE:GREGORIAN
METHOD:PUBLISH
X-WR-CALNAME:Taipaleen ortodoksinen seurakunta
X-ORIGINAL-URL:https://ort.fi/taipale
X-WR-CALDESC:Tapahtumat Taipaleen ortodoksinen seurakunta
REFRESH-INTERVAL;VALUE=DURATION:PT1H
X-Robots-Tag:noindex
X-PUBLISHED-TTL:PT1H
BEGIN:VTIMEZONE
TZID:Europe/Helsinki
BEGIN:DAYLIGHT
TZOFFSETFROM:+0200
TZOFFSETTO:+0300
TZNAME:EEST
DTSTART:20220327T010000
END:DAYLIGHT
BEGIN:STANDARD
TZOFFSETFROM:+0300
TZOFFSETTO:+0200
TZNAME:EET
DTSTART:20221030T010000
END:STANDARD
BEGIN:DAYLIGHT
TZOFFSETFROM:+0200
TZOFFSETTO:+0300
TZNAME:EEST
DTSTART:20230326T010000
END:DAYLIGHT
BEGIN:STANDARD
TZOFFSETFROM:+0300
TZOFFSETTO:+0200
TZNAME:EET
DTSTART:20231029T010000
END:STANDARD
BEGIN:DAYLIGHT
TZOFFSETFROM:+0200
TZOFFSETTO:+0300
TZNAME:EEST
DTSTART:20240331T010000
END:DAYLIGHT
BEGIN:STANDARD
TZOFFSETFROM:+0300
TZOFFSETTO:+0200
TZNAME:EET
DTSTART:20241027T010000
END:STANDARD
END:VTIMEZONE
BEGIN:VEVENT
DTSTART;TZID=Europe/Helsinki:20230901T140000
DTEND;TZID=Europe/Helsinki:20230901T180000
DTSTAMP:20260422T204846
CREATED:20230803T082206Z
LAST-MODIFIED:20230829T153400Z
UID:22453-1693576800-1693591200@ort.fi
SUMMARY:PERUTTU Leivontakerho
DESCRIPTION:Tämänkertainen kokoontuminen peruttu\, koska ukrainalaiset pitävät omaa kahvilaa Outokummussa samaan aikaan järjestettävän kaivosfestivaalin aikana.  \nPerjantaina 1.9. klo 14 suomalais-ukrainalainen leivontakerho Outokummun kirkon alakerrassa. \nEnnakkoilmoittautumiset: Anna-Maija Leiman\, puh 050 375 5916. \nMuut kokoontumisajat Leivontakerho -sivulla \n   
URL:https://ort.fi/taipale/tapahtuma/leivontakerho-8/
LOCATION:Kirkkopolku 3\, Outokummun Pyhän Hengen kirkko\, Outokumpu\, 83500
END:VEVENT
BEGIN:VEVENT
DTSTART;TZID=Europe/Helsinki:20230905T120000
DTEND;TZID=Europe/Helsinki:20230905T140000
DTSTAMP:20260422T204846
CREATED:20230828T173133Z
LAST-MODIFIED:20230828T173133Z
UID:22763-1693915200-1693922400@ort.fi
SUMMARY:Polvijärven tiistaiseura
DESCRIPTION:Tiistaina 5.9. klo 12 Polvijärven tiistaiseuran makkaranpaisto Koivikon pirtin kodalla. Suunnitellaan syksyä. \nTervetuloa!\n   
URL:https://ort.fi/taipale/tapahtuma/polvijarven-tiistaiseura-23/
END:VEVENT
BEGIN:VEVENT
DTSTART;TZID=Europe/Helsinki:20230905T133000
DTEND;TZID=Europe/Helsinki:20230905T150000
DTSTAMP:20260422T204846
CREATED:20230828T174304Z
LAST-MODIFIED:20230828T174510Z
UID:22767-1693920600-1693926000@ort.fi
SUMMARY:Pappilan virkeät vanhukset
DESCRIPTION:Tiistaina 5.9. klo 13.30 Pappilan virkeät vanhukset Viinijärven Vanhassa pappilassa. \nTervetuloa! \nLisätietoa kokoontumisista Pappilan virkeät vanhukset -sivulla.
URL:https://ort.fi/taipale/tapahtuma/pappilan-virkeat-vanhukset-18/
LOCATION:Viinijärven Vanha pappila\, Viinijärventie 7\, 83400
END:VEVENT
BEGIN:VEVENT
DTSTART;TZID=Europe/Helsinki:20230905T170000
DTEND;TZID=Europe/Helsinki:20230905T193000
DTSTAMP:20260422T204846
CREATED:20230826T151312Z
LAST-MODIFIED:20230826T151312Z
UID:22739-1693933200-1693942200@ort.fi
SUMMARY:Kerhonohjaajien kurssi
DESCRIPTION:Kurssi koostuu kahdesta tapaamiskerrasta. Tapaamiset ovat Joensuun ortodoksisen seurakunnan seurakuntasalissa tiistaina 5.9. ja ti 12.9. klo 17.00-19.30. Kurssi on tarkoitettu kerhonohjaajan tehtävät aloittaville. \nKiinnostuneet voivat ilmoittautua isä Nemanjalle\, nemanja.balcin@ort.fi\, puh. 040 6732918.\n   
URL:https://ort.fi/taipale/tapahtuma/kerhonohjaajien-kurssi/
LOCATION:Kirkkokatu 32\, Joensuun ortodoksinen seurakuntasali\, Joensuu\, 80100
END:VEVENT
BEGIN:VEVENT
DTSTART;TZID=Europe/Helsinki:20230906T173000
DTEND;TZID=Europe/Helsinki:20230906T193000
DTSTAMP:20260422T204846
CREATED:20230821T100958Z
LAST-MODIFIED:20230821T100958Z
UID:22719-1694021400-1694028600@ort.fi
SUMMARY:Kirkkokuoron harjoitukset
DESCRIPTION:Keskiviikkona 6.9. klo 17.30 Taipaleen kirkkokuoron syyskauden ensimmäiset kuoroharjoitukset Viinijärvellä Vanhassa pappilassa. \nUudet laulajat tervetuloa mukaan toimintaan! Ota yhteyttä kanttori Päiviin tai tule paikalle harjoituksiin! \nKirkkokuoron sivulle\n  
URL:https://ort.fi/taipale/tapahtuma/kirkkokuoron-harjoitukset-4/
LOCATION:Viinijärven Vanha pappila\, Viinijärventie 7\, 83400
END:VEVENT
BEGIN:VEVENT
DTSTART;TZID=Europe/Helsinki:20230908T100000
DTEND;TZID=Europe/Helsinki:20230908T150000
DTSTAMP:20260422T204846
CREATED:20230803T083927Z
LAST-MODIFIED:20230823T140738Z
UID:22479-1694167200-1694185200@ort.fi
SUMMARY:Käsityöpiiri
DESCRIPTION:Perjantaina 8.9. klo 10 Käsityöpiiri Outokummun ortodoksisen kirkon alakerran seurakuntasalilla. \nTervetuloa! \nYhteyshenkilö: Aila Malmivuori puh. 050 591 2799 \nMuut kokoontumisajat Käsityöpiiri -sivulla\n   
URL:https://ort.fi/taipale/tapahtuma/kasityopiiri-51/
LOCATION:Kirkkopolku 3\, Outokummun Pyhän Hengen kirkko\, Outokumpu\, 83500
END:VEVENT
BEGIN:VEVENT
DTSTART;TZID=Europe/Helsinki:20230916T100000
DTEND;TZID=Europe/Helsinki:20230916T130000
DTSTAMP:20260422T204846
CREATED:20230816T174632Z
LAST-MODIFIED:20230903T111557Z
UID:22691-1694858400-1694869200@ort.fi
SUMMARY:Aurinkokerho
DESCRIPTION:Lauantaina 16.9. klo 10-13 Aurinkokerho Viinijärvellä Vanhassa pappilassa. \nLisätietoa kerhosta Aurinkokerho -sivulla.\n   
URL:https://ort.fi/taipale/tapahtuma/aurinkokerho-7/
LOCATION:Viinijärven Vanha pappila\, Viinijärventie 7\, 83400
END:VEVENT
BEGIN:VEVENT
DTSTART;TZID=Europe/Helsinki:20230918T173000
DTEND;TZID=Europe/Helsinki:20230918T190000
DTSTAMP:20260422T204846
CREATED:20230908T165553Z
LAST-MODIFIED:20230908T165553Z
UID:22907-1695058200-1695063600@ort.fi
SUMMARY:Paginapiiri
DESCRIPTION:Maanantaina 18.9. klo 17.30 Paginapiiri Outokummun kirkon alakerrassa. \nTulgua terveh! \nKarjalankielen ja -kulttuurin piirin sivut\n   
URL:https://ort.fi/taipale/tapahtuma/paginapiiri-13/
LOCATION:Kirkkopolku 3\, Outokummun Pyhän Hengen kirkko\, Outokumpu\, 83500
END:VEVENT
BEGIN:VEVENT
DTSTART;TZID=Europe/Helsinki:20230919T170000
DTEND;TZID=Europe/Helsinki:20230919T180000
DTSTAMP:20260422T204846
CREATED:20230911T174744Z
LAST-MODIFIED:20230911T174744Z
UID:22947-1695142800-1695146400@ort.fi
SUMMARY:Lastenkerho Viinijärvellä
DESCRIPTION:Tiistaina 19.9. klo 17 Lastenkerho Viinijärven pappilassa. \nLastenkerho -sivulle\n   
URL:https://ort.fi/taipale/tapahtuma/lastenkerho-viinijarvella-9/
LOCATION:Viinijärven Vanha pappila\, Viinijärventie 7\, 83400
END:VEVENT
BEGIN:VEVENT
DTSTART;TZID=Europe/Helsinki:20230919T180000
DTEND;TZID=Europe/Helsinki:20230919T200000
DTSTAMP:20260422T204846
CREATED:20230908T164201Z
LAST-MODIFIED:20230911T175201Z
UID:22897-1695146400-1695153600@ort.fi
SUMMARY:Outokummun tiistaiseura
DESCRIPTION:Tiistaina 19.9. klo 18 Outokummun tiistaiseura kirkon alakerrassa\, mukana isä Tuomas. \nTervetuloa! \nTiistaiseurat -sivulle\n   
URL:https://ort.fi/taipale/tapahtuma/outokummun-tiistaiseura-40/
LOCATION:Kirkkopolku 3\, Outokummun Pyhän Hengen kirkko\, Outokumpu\, 83500
END:VEVENT
BEGIN:VEVENT
DTSTART;TZID=Europe/Helsinki:20230920T150000
DTEND;TZID=Europe/Helsinki:20230920T170000
DTSTAMP:20260422T204846
CREATED:20230911T174154Z
LAST-MODIFIED:20230911T174154Z
UID:22941-1695222000-1695229200@ort.fi
SUMMARY:Liperin ja Ylämyllyn tiistaiseurojen tapaaminen
DESCRIPTION:Keskiviikkona 20.9.klo 15.00 Liperin ja Ylämyllyn tiistaiseurojen yhteinen tapaaminen\, Heikki ja Helena Piiroinen\, Haiskuntie 21C. Mukana isä Tuomas ja kanttori Päivi. \nTervetuloa! \nTiistaiseurat -sivulle\n   
URL:https://ort.fi/taipale/tapahtuma/liperin-ja-ylamyllyn-tiistaiseurojen-tapaaminen/
END:VEVENT
BEGIN:VEVENT
DTSTART;TZID=Europe/Helsinki:20230923T093000
DTEND;TZID=Europe/Helsinki:20230923T163000
DTSTAMP:20260422T204846
CREATED:20230906T172052Z
LAST-MODIFIED:20230906T173010Z
UID:22857-1695461400-1695486600@ort.fi
SUMMARY:Ikonimaalauspiiiri
DESCRIPTION:Lauantaina 23.9. klo 9.30-16 ikonimaalauspiiri Viinijärven Vanhassa pappilassa. \nTiedustelut Helena Saaristo-Parovuori\, puh. 050 574 2671 \nTulevat kokoontumiset Ikonimaalauspiiri -sivulla.\n   
URL:https://ort.fi/taipale/tapahtuma/ikonimaalauspiiiri/
LOCATION:Viinijärven Vanha pappila\, Viinijärventie 7\, 83400
END:VEVENT
BEGIN:VEVENT
DTSTART;TZID=Europe/Helsinki:20230926T170000
DTEND;TZID=Europe/Helsinki:20230926T180000
DTSTAMP:20260422T204846
CREATED:20230918T161633Z
LAST-MODIFIED:20230918T161930Z
UID:23013-1695747600-1695751200@ort.fi
SUMMARY:Lastenkerho Viinijärvellä
DESCRIPTION:Tiistaina 26.9. klo 17 Lastenkerho Viinijärven pappilassa. \nLastenkerho -sivulle\n   
URL:https://ort.fi/taipale/tapahtuma/lastenkerho-viinijarvella-10/
LOCATION:Viinijärven Vanha pappila\, Viinijärventie 7\, 83400
END:VEVENT
END:VCALENDAR