BEGIN:VCALENDAR
VERSION:2.0
PRODID:-//Taipaleen ortodoksinen seurakunta - ECPv6.15.20//NONSGML v1.0//EN
CALSCALE:GREGORIAN
METHOD:PUBLISH
X-ORIGINAL-URL:https://ort.fi/taipale
X-WR-CALDESC:Tapahtumat Taipaleen ortodoksinen seurakunta
REFRESH-INTERVAL;VALUE=DURATION:PT1H
X-Robots-Tag:noindex
X-PUBLISHED-TTL:PT1H
BEGIN:VTIMEZONE
TZID:Europe/Helsinki
BEGIN:DAYLIGHT
TZOFFSETFROM:+0200
TZOFFSETTO:+0300
TZNAME:EEST
DTSTART:20220327T010000
END:DAYLIGHT
BEGIN:STANDARD
TZOFFSETFROM:+0300
TZOFFSETTO:+0200
TZNAME:EET
DTSTART:20221030T010000
END:STANDARD
BEGIN:DAYLIGHT
TZOFFSETFROM:+0200
TZOFFSETTO:+0300
TZNAME:EEST
DTSTART:20230326T010000
END:DAYLIGHT
BEGIN:STANDARD
TZOFFSETFROM:+0300
TZOFFSETTO:+0200
TZNAME:EET
DTSTART:20231029T010000
END:STANDARD
BEGIN:DAYLIGHT
TZOFFSETFROM:+0200
TZOFFSETTO:+0300
TZNAME:EEST
DTSTART:20240331T010000
END:DAYLIGHT
BEGIN:STANDARD
TZOFFSETFROM:+0300
TZOFFSETTO:+0200
TZNAME:EET
DTSTART:20241027T010000
END:STANDARD
END:VTIMEZONE
BEGIN:VEVENT
DTSTART;TZID=Europe/Helsinki:20230401T110000
DTEND;TZID=Europe/Helsinki:20230401T120000
DTSTAMP:20260423T053111
CREATED:20230326T151135Z
LAST-MODIFIED:20230326T151135Z
UID:21135-1680346800-1680350400@ort.fi
SUMMARY:Keittolounas ja pääsiäismyyjäiset
DESCRIPTION:
URL:https://ort.fi/taipale/tapahtuma/keittolounas-ja-paasiaismyyjaiset/
LOCATION:Kirkkopolku 3\, Outokummun Pyhän Hengen kirkko\, Outokumpu\, 83500
END:VEVENT
BEGIN:VEVENT
DTSTART;TZID=Europe/Helsinki:20230404T170000
DTEND;TZID=Europe/Helsinki:20230404T180000
DTSTAMP:20260423T053111
CREATED:20230328T171719Z
LAST-MODIFIED:20230328T171719Z
UID:21147-1680627600-1680631200@ort.fi
SUMMARY:Lastenkerho Viinijärvellä
DESCRIPTION:Tiistaina 4.4. klo 17 Ortodoksinen lastenkerho Viinijärven Vanhassa pappilassa. \nLisätietoa kerhosta tästä linkistä \n   
URL:https://ort.fi/taipale/tapahtuma/lastenkerho-viinijarvella-3/
LOCATION:Viinijärven Vanha pappila\, Viinijärventie 7\, 83400
END:VEVENT
BEGIN:VEVENT
DTSTART;TZID=Europe/Helsinki:20230405T170000
DTEND;TZID=Europe/Helsinki:20230405T180000
DTSTAMP:20260423T053111
CREATED:20230328T172009Z
LAST-MODIFIED:20230329T173619Z
UID:21151-1680714000-1680717600@ort.fi
SUMMARY:Puuhakerho Outokummussa
DESCRIPTION:Keskiviikkona 5.4. klo 17 Ortodoksinen puuhakerho Outokummun kirkon alakerrassa. \nLisätietoa kerhosta tästä linkistä \n   
URL:https://ort.fi/taipale/tapahtuma/puuhakerho-outokummussa-6/
LOCATION:Kirkkopolku 3\, Outokummun Pyhän Hengen kirkko\, Outokumpu\, 83500
END:VEVENT
BEGIN:VEVENT
DTSTART;TZID=Europe/Helsinki:20230410T100000
DTEND;TZID=Europe/Helsinki:20230410T130000
DTSTAMP:20260423T053111
CREATED:20230305T190036Z
LAST-MODIFIED:20230403T150257Z
UID:20877-1681120800-1681131600@ort.fi
SUMMARY:Lasten pääsiäinen Sotkumassa
DESCRIPTION:Tervetuloa toisena pääsiäispäivänä\, maanantaina 10.4.\,  perinteiseen lasten pääsiäisjuhlaan Sotkuman kylälle. Liturgia Sotkuman tsasounassa klo 10\, ristisaatto ja kirkonkellojen soittoa. Sotkuman koululla ruoka ja mukavaa ohjelmaa koko perheelle. Koulun saliin on lapsille suunniteltu viihtyisä temppurata. Tapahtumasta saatavat varat käytetään Taipaleen seurakunnan nuorten Kreikan matkan hyväksi. \nTervetuloa pääsiäisjuhlaan! \nKepparikisat lasten pääsiäisjuhlassa Sotkuman koululla 18.4.2022.\n   
URL:https://ort.fi/taipale/tapahtuma/lasten-paasiainen-sotkumassa-3/
LOCATION:Malanintie 4\, Sotkuman tsasouna\, Sotkuma\, 83750
END:VEVENT
BEGIN:VEVENT
DTSTART;TZID=Europe/Helsinki:20230411T133000
DTEND;TZID=Europe/Helsinki:20230411T150000
DTSTAMP:20260423T053111
CREATED:20230403T150916Z
LAST-MODIFIED:20230403T150916Z
UID:21237-1681219800-1681225200@ort.fi
SUMMARY:Pappilan virkeät vanhukset
DESCRIPTION:Tiistaina 11.4. klo 13.30 Pappilan virkeät vanhukset Viinijärven Vanhassa pappilassa. \nTervetuloa! \nLisätietoa kokoontumisista Pappilan virkeät vanhukset -sivulla.\n   
URL:https://ort.fi/taipale/tapahtuma/pappilan-virkeat-vanhukset-15/
LOCATION:Viinijärven Vanha pappila\, Viinijärventie 7\, 83400
END:VEVENT
BEGIN:VEVENT
DTSTART;TZID=Europe/Helsinki:20230411T170000
DTEND;TZID=Europe/Helsinki:20230411T180000
DTSTAMP:20260423T053111
CREATED:20230330T174250Z
LAST-MODIFIED:20230403T150954Z
UID:21189-1681232400-1681236000@ort.fi
SUMMARY:Lastenkerho Viinijärvellä
DESCRIPTION:Tiistaina 11.4. klo 17 Ortodoksinen lastenkerho Viinijärven Vanhassa pappilassa. \nLisätietoa kerhosta tästä linkistä \n   
URL:https://ort.fi/taipale/tapahtuma/lastenkerho-viinijarvella-4/
LOCATION:Viinijärven Vanha pappila\, Viinijärventie 7\, 83400
END:VEVENT
BEGIN:VEVENT
DTSTART;TZID=Europe/Helsinki:20230414T100000
DTEND;TZID=Europe/Helsinki:20230414T150000
DTSTAMP:20260423T053111
CREATED:20221114T165110Z
LAST-MODIFIED:20230402T162155Z
UID:19223-1681466400-1681484400@ort.fi
SUMMARY:Käsityöpiiri
DESCRIPTION:Perjantaina 14.4. klo 10 Käsityöpiiri Outokummun ortodoksisen kirkon alakerran seurakuntasalilla. \nTervetuloa! \nYhteyshenkilö: Aila Malmivuori puh. 050 591 2799 \nMuut kokoontumisajat Käsityöpiiri -sivulla\n   
URL:https://ort.fi/taipale/tapahtuma/kasityopiiri-49/
LOCATION:Kirkkopolku 3\, Outokummun Pyhän Hengen kirkko\, Outokumpu\, 83500
END:VEVENT
BEGIN:VEVENT
DTSTART;TZID=Europe/Helsinki:20230418T090000
DTEND;TZID=Europe/Helsinki:20230418T120000
DTSTAMP:20260423T053111
CREATED:20230305T190536Z
LAST-MODIFIED:20230410T123322Z
UID:20881-1681808400-1681819200@ort.fi
SUMMARY:Tuomaan tiistai
DESCRIPTION:Pääsiäiskaudella vietetään vainajienmuistelupäivää Tuomaan tiistaina 18.4. \nViinijärven kirkossa klo 9 alkavassa liturgiassa muistellaan vainajia nimeltä proskomidissa ja ekteniassa. Liturgian jälkeen läsnä oleva kirkkokansa voi pyytää papistoa toimittamaan lyhyitä muistopalveluksia\, litanioita\, haudoilla. Perinteiseen tapaan haudoilla on mahdollista evästellä ja juoda vaikkapa kahvia termoksesta! \nTervetuloa kantamaan ylösnousemuksen ilosanomaa haudoissa oleville! \nVastaavanlainen vainajien muistelu järjestetään Sotkumassa helluntaita edeltävänä lauantaina 27.5.\n   
URL:https://ort.fi/taipale/tapahtuma/tuomaan-tiistai-2/
LOCATION:Viinijärventie 8\, Viinijärven Jumalanäidin Tihvinäläisen ikonin kirkko\, Viinijärvi\, 83400
END:VEVENT
BEGIN:VEVENT
DTSTART;TZID=Europe/Helsinki:20230418T170000
DTEND;TZID=Europe/Helsinki:20230418T180000
DTSTAMP:20260423T053111
CREATED:20230407T070625Z
LAST-MODIFIED:20230410T123427Z
UID:21293-1681837200-1681840800@ort.fi
SUMMARY:Lastenkerho Viinijärvellä
DESCRIPTION:Tiistaina 18.4. klo 17 Ortodoksinen lastenkerho Viinijärven Vanhassa pappilassa. \nLisätietoa kerhosta tästä linkistä \n   
URL:https://ort.fi/taipale/tapahtuma/lastenkerho-viinijarvella-5/
LOCATION:Viinijärven Vanha pappila\, Viinijärventie 7\, 83400
END:VEVENT
BEGIN:VEVENT
DTSTART;TZID=Europe/Helsinki:20230418T180000
DTEND;TZID=Europe/Helsinki:20230418T200000
DTSTAMP:20260423T053111
CREATED:20230202T091325Z
LAST-MODIFIED:20230410T123352Z
UID:20265-1681840800-1681848000@ort.fi
SUMMARY:Outokummun tiistaiseura
DESCRIPTION:Tiistaina 18.4. klo 18 Outokummun tiistaiseura kirkon alakerrassa. \nTervetuloa! \nKevään 2023 muut kokoontumiset Tiistaiseurat sivulla.\n   
URL:https://ort.fi/taipale/tapahtuma/outokummun-tiistaiseura-38/
LOCATION:Kirkkopolku 3\, Outokummun Pyhän Hengen kirkko\, Outokumpu\, 83500
END:VEVENT
BEGIN:VEVENT
DTSTART;TZID=Europe/Helsinki:20230419T180000
DTEND;TZID=Europe/Helsinki:20230419T200000
DTSTAMP:20260423T053111
CREATED:20230411T165838Z
LAST-MODIFIED:20230411T165835Z
UID:21211-1681927200-1681934400@ort.fi
SUMMARY:Seurakunnanvaltuuston kokous
DESCRIPTION:Taipaleen ortodoksisen seurakunnan seurakunnanvaltuuston kokous 2/2023 pidetään Viinijärvellä Taipaleen Vanhassa pappilassa keskiviikkona 19.4.2023 alkaen klo 18.00. Kahvitarjoilu alkaen klo 17.30. \nKäsiteltäviä asioita: \n\nKanttorin vaalin toimittaminen. Hiippakunnan piispa metropoliitta Arseni on pannut ehdolle yhden ehdokkaan Päivi Romppasen. Päivi Romppanen esittäytyy kokouksen aluksi.\nTaipaleen seurakunnan omistaman ja lahjoituksena saadun\, Outokummussa  sijaitsevan\, kiinteistön myynti.\n\nSeurakunnanvaltuuston kokouskutsu 2/2023 \n   
URL:https://ort.fi/taipale/tapahtuma/seurakunnanvaltuuston-kokous-14/
LOCATION:Viinijärven Vanha pappila\, Viinijärventie 7\, 83400
END:VEVENT
BEGIN:VEVENT
DTSTART;TZID=Europe/Helsinki:20230421T130000
DTEND;TZID=Europe/Helsinki:20230421T180000
DTSTAMP:20260423T053111
CREATED:20221217T162656Z
LAST-MODIFIED:20230410T123803Z
UID:19737-1682082000-1682100000@ort.fi
SUMMARY:Leivontakerho
DESCRIPTION:Perjantaina 21.4. klo 13 suomalais-ukrainalainen leivontakerho Outokummun kirkon alakerrassa. \nEnnakkoilmoittautumiset: Anna-Maija Leiman\, puh 050 375 5916. \nLeivontakerho -sivulle \n   
URL:https://ort.fi/taipale/tapahtuma/leivontakerho-6/
LOCATION:Kirkkopolku 3\, Outokummun Pyhän Hengen kirkko\, Outokumpu\, 83500
END:VEVENT
BEGIN:VEVENT
DTSTART;TZID=Europe/Helsinki:20230422T093000
DTEND;TZID=Europe/Helsinki:20230422T160000
DTSTAMP:20260423T053111
CREATED:20221128T160842Z
LAST-MODIFIED:20230410T123716Z
UID:19495-1682155800-1682179200@ort.fi
SUMMARY:Ikonimaalauspiiri
DESCRIPTION:Lauantaina 22.4. klo 9.30-16 ikonimaalauspiiri Viinijärven Vanhassa pappilassa. \nTiedustelut Helena Saaristo-Parovuori\, puh. 050 574 2671 \nTulevat kokoontumiset Ikonimaalauspiiri -sivulla.\n   
URL:https://ort.fi/taipale/tapahtuma/ikonimaalauspiiri-8/
LOCATION:Viinijärven Vanha pappila\, Viinijärventie 7\, 83400
END:VEVENT
BEGIN:VEVENT
DTSTART;TZID=Europe/Helsinki:20230425T143000
DTEND;TZID=Europe/Helsinki:20230425T163000
DTSTAMP:20260423T053111
CREATED:20230419T145142Z
LAST-MODIFIED:20230419T145142Z
UID:21399-1682433000-1682440200@ort.fi
SUMMARY:Polvijärven tiistaiseura
DESCRIPTION:Tiistaina 25.4. klo 14.30 Polvijärven tiistaiseura\, mukana Kaisu kanttori.\n   
URL:https://ort.fi/taipale/tapahtuma/polvijarven-tiistaiseura-21/
END:VEVENT
BEGIN:VEVENT
DTSTART;TZID=Europe/Helsinki:20230425T170000
DTEND;TZID=Europe/Helsinki:20230425T180000
DTSTAMP:20260423T053111
CREATED:20230416T160444Z
LAST-MODIFIED:20230418T174610Z
UID:21385-1682442000-1682445600@ort.fi
SUMMARY:Lastenkerho Viinijärvellä
DESCRIPTION:Tiistaina 25.4. klo 17 Ortodoksinen lastenkerho Viinijärven Vanhassa pappilassa. \nLisätietoa kerhosta tästä linkistä \n   
URL:https://ort.fi/taipale/tapahtuma/lastenkerho-viinijarvella-6/
LOCATION:Viinijärven Vanha pappila\, Viinijärventie 7\, 83400
END:VEVENT
BEGIN:VEVENT
DTSTART;TZID=Europe/Helsinki:20230426T173000
DTEND;TZID=Europe/Helsinki:20230426T200000
DTSTAMP:20260423T053111
CREATED:20230407T070106Z
LAST-MODIFIED:20230416T160551Z
UID:21285-1682530200-1682539200@ort.fi
SUMMARY:Paginapiiri
DESCRIPTION:Keskiviikkona 26.4. klo 17.30 Paginapiiri Outokummun kirkon alakerrassa. \nTulgua terveh! \nKarjalankielen ja -kulttuurin piirin sivut\n   
URL:https://ort.fi/taipale/tapahtuma/paginapiiri-12/
LOCATION:Kirkkopolku 3\, Outokummun Pyhän Hengen kirkko\, Outokumpu\, 83500
END:VEVENT
END:VCALENDAR